BEGIN:VCALENDAR
VERSION:2.0
PRODID:-//The Comedy Bureau - ECPv6.15.18//NONSGML v1.0//EN
CALSCALE:GREGORIAN
METHOD:PUBLISH
X-WR-CALNAME:The Comedy Bureau
X-ORIGINAL-URL:https://thecomedybureau.com
X-WR-CALDESC:Events for The Comedy Bureau
REFRESH-INTERVAL;VALUE=DURATION:PT1H
X-Robots-Tag:noindex
X-PUBLISHED-TTL:PT1H
BEGIN:VTIMEZONE
TZID:America/Los_Angeles
BEGIN:DAYLIGHT
TZOFFSETFROM:-0800
TZOFFSETTO:-0700
TZNAME:PDT
DTSTART:20250309T100000
END:DAYLIGHT
BEGIN:STANDARD
TZOFFSETFROM:-0700
TZOFFSETTO:-0800
TZNAME:PST
DTSTART:20251102T090000
END:STANDARD
BEGIN:DAYLIGHT
TZOFFSETFROM:-0800
TZOFFSETTO:-0700
TZNAME:PDT
DTSTART:20260308T100000
END:DAYLIGHT
BEGIN:STANDARD
TZOFFSETFROM:-0700
TZOFFSETTO:-0800
TZNAME:PST
DTSTART:20261101T090000
END:STANDARD
BEGIN:DAYLIGHT
TZOFFSETFROM:-0800
TZOFFSETTO:-0700
TZNAME:PDT
DTSTART:20270314T100000
END:DAYLIGHT
BEGIN:STANDARD
TZOFFSETFROM:-0700
TZOFFSETTO:-0800
TZNAME:PST
DTSTART:20271107T090000
END:STANDARD
END:VTIMEZONE
BEGIN:VEVENT
DTSTART;TZID=America/Los_Angeles:20260424T190000
DTEND;TZID=America/Los_Angeles:20260424T210000
DTSTAMP:20260424T015432
CREATED:20250504T155543Z
LAST-MODIFIED:20260423T070619Z
UID:10095032-1777057200-1777064400@thecomedybureau.com
SUMMARY:The Big Lebowski (in LA)
DESCRIPTION:Screening of The Big Lebowski (1998) \n4/24 @ 7:30PM PT \n5/1 @ 4PM PT
URL:https://thecomedybureau.com/show/the-big-lebowski-in-la-2/2026-04-24/
LOCATION:Vidiots\, 4884 Eagle Rock Boulevard\, Los Angeles\, CA\, 90041\, United States
CATEGORIES:Comedy Show,Los Angeles Shows,Screening
GEO:34.134924;-118.2151608
X-APPLE-STRUCTURED-LOCATION;VALUE=URI;X-ADDRESS=Vidiots 4884 Eagle Rock Boulevard Los Angeles CA 90041 United States;X-APPLE-RADIUS=500;X-TITLE=4884 Eagle Rock Boulevard:geo:-118.2151608,34.134924
END:VEVENT
BEGIN:VEVENT
DTSTART;TZID=America/Los_Angeles:20260501T160000
DTEND;TZID=America/Los_Angeles:20260501T180000
DTSTAMP:20260424T015432
CREATED:20250504T155543Z
LAST-MODIFIED:20260423T070619Z
UID:10095033-1777651200-1777658400@thecomedybureau.com
SUMMARY:The Big Lebowski (in LA)
DESCRIPTION:Screening of The Big Lebowski (1998) \n4/24 @ 7:30PM PT \n5/1 @ 4PM PT
URL:https://thecomedybureau.com/show/the-big-lebowski-in-la-2/2026-05-01/
LOCATION:Vidiots\, 4884 Eagle Rock Boulevard\, Los Angeles\, CA\, 90041\, United States
CATEGORIES:Comedy Show,Los Angeles Shows,Screening
GEO:34.134924;-118.2151608
X-APPLE-STRUCTURED-LOCATION;VALUE=URI;X-ADDRESS=Vidiots 4884 Eagle Rock Boulevard Los Angeles CA 90041 United States;X-APPLE-RADIUS=500;X-TITLE=4884 Eagle Rock Boulevard:geo:-118.2151608,34.134924
END:VEVENT
END:VCALENDAR