BEGIN:VCALENDAR
VERSION:2.0
PRODID:-//The Comedy Bureau - ECPv6.15.18//NONSGML v1.0//EN
CALSCALE:GREGORIAN
METHOD:PUBLISH
X-WR-CALNAME:The Comedy Bureau
X-ORIGINAL-URL:https://thecomedybureau.com
X-WR-CALDESC:Events for The Comedy Bureau
REFRESH-INTERVAL;VALUE=DURATION:PT1H
X-Robots-Tag:noindex
X-PUBLISHED-TTL:PT1H
BEGIN:VTIMEZONE
TZID:America/New_York
BEGIN:DAYLIGHT
TZOFFSETFROM:-0500
TZOFFSETTO:-0400
TZNAME:EDT
DTSTART:20250309T070000
END:DAYLIGHT
BEGIN:STANDARD
TZOFFSETFROM:-0400
TZOFFSETTO:-0500
TZNAME:EST
DTSTART:20251102T060000
END:STANDARD
BEGIN:DAYLIGHT
TZOFFSETFROM:-0500
TZOFFSETTO:-0400
TZNAME:EDT
DTSTART:20260308T070000
END:DAYLIGHT
BEGIN:STANDARD
TZOFFSETFROM:-0400
TZOFFSETTO:-0500
TZNAME:EST
DTSTART:20261101T060000
END:STANDARD
BEGIN:DAYLIGHT
TZOFFSETFROM:-0500
TZOFFSETTO:-0400
TZNAME:EDT
DTSTART:20270314T070000
END:DAYLIGHT
BEGIN:STANDARD
TZOFFSETFROM:-0400
TZOFFSETTO:-0500
TZNAME:EST
DTSTART:20271107T060000
END:STANDARD
END:VTIMEZONE
BEGIN:VEVENT
DTSTART;TZID=America/New_York:20260529T193000
DTEND;TZID=America/New_York:20260529T210000
DTSTAMP:20260425T162315
CREATED:20250901T003508Z
LAST-MODIFIED:20260422T024705Z
UID:10095023-1780083000-1780088400@thecomedybureau.com
SUMMARY:Reuben Solo: Someone In This Audience Will Betray Me (in NYC)
DESCRIPTION:“I’ve got a terrible feeling about this show. Like somehow the whole thing is doomed. I have this recurring dream where I’m on stage\, thousands of miles from home and the crowd has turned on me. There are thousands of them and they are all booing me and Sofia Vergara (from Modern Family) is there and so is Simon Cowell and he’s slamming his fist into a red buzzer and the sound splits the air like a gunshot and the ceiling rips open and confetti rains down like debris but the booing only gets louder and louder and louder and louder and then I wake up\, and realise that all of that actually happened to me. \nThis show has nothing to do with that story. I doubt I’ll even mention it.” \n-Reuben Solo \nShowtimes: \n5/29 @ 7:30PM ET \n5/30 @ 5PM ET
URL:https://thecomedybureau.com/show/reuben-solo-someone-in-this-audience-will-betray-me-in-nyc/2026-05-29/
LOCATION:Union Hall\, 702 Union Street\, Brooklyn\, NY\, 11215\, United States
CATEGORIES:Clowning,Comedy Show,Experimental comedy,New York Shows,Stand Up
GEO:40.6760416;-73.9801333
X-APPLE-STRUCTURED-LOCATION;VALUE=URI;X-ADDRESS=Union Hall 702 Union Street Brooklyn NY 11215 United States;X-APPLE-RADIUS=500;X-TITLE=702 Union Street:geo:-73.9801333,40.6760416
END:VEVENT
BEGIN:VEVENT
DTSTART;TZID=America/New_York:20260530T170000
DTEND;TZID=America/New_York:20260530T183000
DTSTAMP:20260425T162315
CREATED:20250901T003508Z
LAST-MODIFIED:20260422T024705Z
UID:10095024-1780160400-1780165800@thecomedybureau.com
SUMMARY:Reuben Solo: Someone In This Audience Will Betray Me (in NYC)
DESCRIPTION:“I’ve got a terrible feeling about this show. Like somehow the whole thing is doomed. I have this recurring dream where I’m on stage\, thousands of miles from home and the crowd has turned on me. There are thousands of them and they are all booing me and Sofia Vergara (from Modern Family) is there and so is Simon Cowell and he’s slamming his fist into a red buzzer and the sound splits the air like a gunshot and the ceiling rips open and confetti rains down like debris but the booing only gets louder and louder and louder and louder and then I wake up\, and realise that all of that actually happened to me. \nThis show has nothing to do with that story. I doubt I’ll even mention it.” \n-Reuben Solo \nShowtimes: \n5/29 @ 7:30PM ET \n5/30 @ 5PM ET
URL:https://thecomedybureau.com/show/reuben-solo-someone-in-this-audience-will-betray-me-in-nyc/2026-05-30/
LOCATION:Union Hall\, 702 Union Street\, Brooklyn\, NY\, 11215\, United States
CATEGORIES:Clowning,Comedy Show,Experimental comedy,New York Shows,Stand Up
GEO:40.6760416;-73.9801333
X-APPLE-STRUCTURED-LOCATION;VALUE=URI;X-ADDRESS=Union Hall 702 Union Street Brooklyn NY 11215 United States;X-APPLE-RADIUS=500;X-TITLE=702 Union Street:geo:-73.9801333,40.6760416
END:VEVENT
END:VCALENDAR