BEGIN:VCALENDAR
VERSION:2.0
PRODID:-//The Comedy Bureau - ECPv6.15.18//NONSGML v1.0//EN
CALSCALE:GREGORIAN
METHOD:PUBLISH
X-WR-CALNAME:The Comedy Bureau
X-ORIGINAL-URL:https://thecomedybureau.com
X-WR-CALDESC:Events for The Comedy Bureau
REFRESH-INTERVAL;VALUE=DURATION:PT1H
X-Robots-Tag:noindex
X-PUBLISHED-TTL:PT1H
BEGIN:VTIMEZONE
TZID:America/Los_Angeles
BEGIN:DAYLIGHT
TZOFFSETFROM:-0800
TZOFFSETTO:-0700
TZNAME:PDT
DTSTART:20250309T100000
END:DAYLIGHT
BEGIN:STANDARD
TZOFFSETFROM:-0700
TZOFFSETTO:-0800
TZNAME:PST
DTSTART:20251102T090000
END:STANDARD
BEGIN:DAYLIGHT
TZOFFSETFROM:-0800
TZOFFSETTO:-0700
TZNAME:PDT
DTSTART:20260308T100000
END:DAYLIGHT
BEGIN:STANDARD
TZOFFSETFROM:-0700
TZOFFSETTO:-0800
TZNAME:PST
DTSTART:20261101T090000
END:STANDARD
BEGIN:DAYLIGHT
TZOFFSETFROM:-0800
TZOFFSETTO:-0700
TZNAME:PDT
DTSTART:20270314T100000
END:DAYLIGHT
BEGIN:STANDARD
TZOFFSETFROM:-0700
TZOFFSETTO:-0800
TZNAME:PST
DTSTART:20271107T090000
END:STANDARD
END:VTIMEZONE
BEGIN:VEVENT
DTSTART;TZID=America/Los_Angeles:20260504T200000
DTEND;TZID=America/Los_Angeles:20260504T213000
DTSTAMP:20260421T182858
CREATED:20260420T182511Z
LAST-MODIFIED:20260420T182511Z
UID:10094961-1777924800-1777930200@thecomedybureau.com
SUMMARY:Comedy for the Community: Altadena Eaton Fire Relief Hosted by Deon Cole (in LA)
DESCRIPTION:The biggest stars in comedy descend upon Altadena for a week of electrifying surprise lineups! Hosted by Deon Cole\, this is the essential nightly showcase. A can’t-miss nightly show as well as support for the communities devastated by the catastrophic Eaton fires. A lively pre-show reception with food and music sets the stage for an unforgettable night of comedy. \nStarts 8PM PT
URL:https://thecomedybureau.com/show/comedy-for-the-community-altadena-eaton-fire-relief-hosted-by-deon-cole-in-la/2026-05-04/
LOCATION:Fraternal Order of Eagles\, Altadena\, 455 East Woodbury Road\, Altadena\, CA\, 91001\, United States
CATEGORIES:Comedy Show,Los Angeles Shows,Stand Up
GEO:34.1814808;-118.1412497
X-APPLE-STRUCTURED-LOCATION;VALUE=URI;X-ADDRESS=Fraternal Order of Eagles Altadena 455 East Woodbury Road Altadena CA 91001 United States;X-APPLE-RADIUS=500;X-TITLE=455 East Woodbury Road:geo:-118.1412497,34.1814808
END:VEVENT
BEGIN:VEVENT
DTSTART;TZID=America/Los_Angeles:20260505T200000
DTEND;TZID=America/Los_Angeles:20260505T213000
DTSTAMP:20260421T182858
CREATED:20260420T182511Z
LAST-MODIFIED:20260420T182511Z
UID:10094962-1778011200-1778016600@thecomedybureau.com
SUMMARY:Comedy for the Community: Altadena Eaton Fire Relief Hosted by Deon Cole (in LA)
DESCRIPTION:The biggest stars in comedy descend upon Altadena for a week of electrifying surprise lineups! Hosted by Deon Cole\, this is the essential nightly showcase. A can’t-miss nightly show as well as support for the communities devastated by the catastrophic Eaton fires. A lively pre-show reception with food and music sets the stage for an unforgettable night of comedy. \nStarts 8PM PT
URL:https://thecomedybureau.com/show/comedy-for-the-community-altadena-eaton-fire-relief-hosted-by-deon-cole-in-la/2026-05-05/
LOCATION:Fraternal Order of Eagles\, Altadena\, 455 East Woodbury Road\, Altadena\, CA\, 91001\, United States
CATEGORIES:Comedy Show,Los Angeles Shows,Stand Up
GEO:34.1814808;-118.1412497
X-APPLE-STRUCTURED-LOCATION;VALUE=URI;X-ADDRESS=Fraternal Order of Eagles Altadena 455 East Woodbury Road Altadena CA 91001 United States;X-APPLE-RADIUS=500;X-TITLE=455 East Woodbury Road:geo:-118.1412497,34.1814808
END:VEVENT
BEGIN:VEVENT
DTSTART;TZID=America/Los_Angeles:20260506T200000
DTEND;TZID=America/Los_Angeles:20260506T213000
DTSTAMP:20260421T182858
CREATED:20260420T182511Z
LAST-MODIFIED:20260420T182511Z
UID:10094963-1778097600-1778103000@thecomedybureau.com
SUMMARY:Comedy for the Community: Altadena Eaton Fire Relief Hosted by Deon Cole (in LA)
DESCRIPTION:The biggest stars in comedy descend upon Altadena for a week of electrifying surprise lineups! Hosted by Deon Cole\, this is the essential nightly showcase. A can’t-miss nightly show as well as support for the communities devastated by the catastrophic Eaton fires. A lively pre-show reception with food and music sets the stage for an unforgettable night of comedy. \nStarts 8PM PT
URL:https://thecomedybureau.com/show/comedy-for-the-community-altadena-eaton-fire-relief-hosted-by-deon-cole-in-la/2026-05-06/
LOCATION:Fraternal Order of Eagles\, Altadena\, 455 East Woodbury Road\, Altadena\, CA\, 91001\, United States
CATEGORIES:Comedy Show,Los Angeles Shows,Stand Up
GEO:34.1814808;-118.1412497
X-APPLE-STRUCTURED-LOCATION;VALUE=URI;X-ADDRESS=Fraternal Order of Eagles Altadena 455 East Woodbury Road Altadena CA 91001 United States;X-APPLE-RADIUS=500;X-TITLE=455 East Woodbury Road:geo:-118.1412497,34.1814808
END:VEVENT
BEGIN:VEVENT
DTSTART;TZID=America/Los_Angeles:20260507T200000
DTEND;TZID=America/Los_Angeles:20260507T213000
DTSTAMP:20260421T182858
CREATED:20260420T182511Z
LAST-MODIFIED:20260420T182511Z
UID:10094964-1778184000-1778189400@thecomedybureau.com
SUMMARY:Comedy for the Community: Altadena Eaton Fire Relief Hosted by Deon Cole (in LA)
DESCRIPTION:The biggest stars in comedy descend upon Altadena for a week of electrifying surprise lineups! Hosted by Deon Cole\, this is the essential nightly showcase. A can’t-miss nightly show as well as support for the communities devastated by the catastrophic Eaton fires. A lively pre-show reception with food and music sets the stage for an unforgettable night of comedy. \nStarts 8PM PT
URL:https://thecomedybureau.com/show/comedy-for-the-community-altadena-eaton-fire-relief-hosted-by-deon-cole-in-la/2026-05-07/
LOCATION:Fraternal Order of Eagles\, Altadena\, 455 East Woodbury Road\, Altadena\, CA\, 91001\, United States
CATEGORIES:Comedy Show,Los Angeles Shows,Stand Up
GEO:34.1814808;-118.1412497
X-APPLE-STRUCTURED-LOCATION;VALUE=URI;X-ADDRESS=Fraternal Order of Eagles Altadena 455 East Woodbury Road Altadena CA 91001 United States;X-APPLE-RADIUS=500;X-TITLE=455 East Woodbury Road:geo:-118.1412497,34.1814808
END:VEVENT
BEGIN:VEVENT
DTSTART;TZID=America/Los_Angeles:20260508T200000
DTEND;TZID=America/Los_Angeles:20260508T213000
DTSTAMP:20260421T182858
CREATED:20260420T182511Z
LAST-MODIFIED:20260420T182511Z
UID:10094965-1778270400-1778275800@thecomedybureau.com
SUMMARY:Comedy for the Community: Altadena Eaton Fire Relief Hosted by Deon Cole (in LA)
DESCRIPTION:The biggest stars in comedy descend upon Altadena for a week of electrifying surprise lineups! Hosted by Deon Cole\, this is the essential nightly showcase. A can’t-miss nightly show as well as support for the communities devastated by the catastrophic Eaton fires. A lively pre-show reception with food and music sets the stage for an unforgettable night of comedy. \nStarts 8PM PT
URL:https://thecomedybureau.com/show/comedy-for-the-community-altadena-eaton-fire-relief-hosted-by-deon-cole-in-la/2026-05-08/
LOCATION:Fraternal Order of Eagles\, Altadena\, 455 East Woodbury Road\, Altadena\, CA\, 91001\, United States
CATEGORIES:Comedy Show,Los Angeles Shows,Stand Up
GEO:34.1814808;-118.1412497
X-APPLE-STRUCTURED-LOCATION;VALUE=URI;X-ADDRESS=Fraternal Order of Eagles Altadena 455 East Woodbury Road Altadena CA 91001 United States;X-APPLE-RADIUS=500;X-TITLE=455 East Woodbury Road:geo:-118.1412497,34.1814808
END:VEVENT
END:VCALENDAR