BEGIN:VCALENDAR
VERSION:2.0
PRODID:-//The Comedy Bureau - ECPv6.15.18//NONSGML v1.0//EN
CALSCALE:GREGORIAN
METHOD:PUBLISH
X-WR-CALNAME:The Comedy Bureau
X-ORIGINAL-URL:https://thecomedybureau.com
X-WR-CALDESC:Events for The Comedy Bureau
REFRESH-INTERVAL;VALUE=DURATION:PT1H
X-Robots-Tag:noindex
X-PUBLISHED-TTL:PT1H
BEGIN:VTIMEZONE
TZID:America/Los_Angeles
BEGIN:DAYLIGHT
TZOFFSETFROM:-0800
TZOFFSETTO:-0700
TZNAME:PDT
DTSTART:20250309T100000
END:DAYLIGHT
BEGIN:STANDARD
TZOFFSETFROM:-0700
TZOFFSETTO:-0800
TZNAME:PST
DTSTART:20251102T090000
END:STANDARD
BEGIN:DAYLIGHT
TZOFFSETFROM:-0800
TZOFFSETTO:-0700
TZNAME:PDT
DTSTART:20260308T100000
END:DAYLIGHT
BEGIN:STANDARD
TZOFFSETFROM:-0700
TZOFFSETTO:-0800
TZNAME:PST
DTSTART:20261101T090000
END:STANDARD
BEGIN:DAYLIGHT
TZOFFSETFROM:-0800
TZOFFSETTO:-0700
TZNAME:PDT
DTSTART:20270314T100000
END:DAYLIGHT
BEGIN:STANDARD
TZOFFSETFROM:-0700
TZOFFSETTO:-0800
TZNAME:PST
DTSTART:20271107T090000
END:STANDARD
END:VTIMEZONE
BEGIN:VEVENT
DTSTART;TZID=America/Los_Angeles:20260509T190000
DTEND;TZID=America/Los_Angeles:20260509T203000
DTSTAMP:20260423T023324
CREATED:20230306T033243Z
LAST-MODIFIED:20260420T181700Z
UID:10094956-1778353200-1778358600@thecomedybureau.com
SUMMARY:Adam Friedland @ Netflix Is a Joke (in LA)
DESCRIPTION:An evening of stand-up with Adam Friedland \nStarts 7PM & 9:45PM PT
URL:https://thecomedybureau.com/show/adam-friedland-near-la/2026-05-09/1/
LOCATION:The Regent\, 448 South Main Street\, Los Angeles\, CA\, 90013\, United States
CATEGORIES:Comedy Show,Los Angeles Shows,Stand Up
GEO:34.0470946;-118.2479769
X-APPLE-STRUCTURED-LOCATION;VALUE=URI;X-ADDRESS=The Regent 448 South Main Street Los Angeles CA 90013 United States;X-APPLE-RADIUS=500;X-TITLE=448 South Main Street:geo:-118.2479769,34.0470946
END:VEVENT
BEGIN:VEVENT
DTSTART;TZID=America/Los_Angeles:20260509T214500
DTEND;TZID=America/Los_Angeles:20260509T230000
DTSTAMP:20260423T023324
CREATED:20230306T033243Z
LAST-MODIFIED:20260420T181700Z
UID:10094957-1778363100-1778367600@thecomedybureau.com
SUMMARY:Adam Friedland @ Netflix Is a Joke (in LA)
DESCRIPTION:An evening of stand-up with Adam Friedland \nStarts 7PM & 9:45PM PT
URL:https://thecomedybureau.com/show/adam-friedland-near-la/2026-05-09/2/
LOCATION:The Regent\, 448 South Main Street\, Los Angeles\, CA\, 90013\, United States
CATEGORIES:Comedy Show,Los Angeles Shows,Stand Up
GEO:34.0470946;-118.2479769
X-APPLE-STRUCTURED-LOCATION;VALUE=URI;X-ADDRESS=The Regent 448 South Main Street Los Angeles CA 90013 United States;X-APPLE-RADIUS=500;X-TITLE=448 South Main Street:geo:-118.2479769,34.0470946
END:VEVENT
END:VCALENDAR