BEGIN:VCALENDAR
VERSION:2.0
PRODID:-//The Comedy Bureau - ECPv6.15.18//NONSGML v1.0//EN
CALSCALE:GREGORIAN
METHOD:PUBLISH
X-WR-CALNAME:The Comedy Bureau
X-ORIGINAL-URL:https://thecomedybureau.com
X-WR-CALDESC:Events for The Comedy Bureau
REFRESH-INTERVAL;VALUE=DURATION:PT1H
X-Robots-Tag:noindex
X-PUBLISHED-TTL:PT1H
BEGIN:VTIMEZONE
TZID:America/Los_Angeles
BEGIN:DAYLIGHT
TZOFFSETFROM:-0800
TZOFFSETTO:-0700
TZNAME:PDT
DTSTART:20250309T100000
END:DAYLIGHT
BEGIN:STANDARD
TZOFFSETFROM:-0700
TZOFFSETTO:-0800
TZNAME:PST
DTSTART:20251102T090000
END:STANDARD
BEGIN:DAYLIGHT
TZOFFSETFROM:-0800
TZOFFSETTO:-0700
TZNAME:PDT
DTSTART:20260308T100000
END:DAYLIGHT
BEGIN:STANDARD
TZOFFSETFROM:-0700
TZOFFSETTO:-0800
TZNAME:PST
DTSTART:20261101T090000
END:STANDARD
BEGIN:DAYLIGHT
TZOFFSETFROM:-0800
TZOFFSETTO:-0700
TZNAME:PDT
DTSTART:20270314T100000
END:DAYLIGHT
BEGIN:STANDARD
TZOFFSETFROM:-0700
TZOFFSETTO:-0800
TZNAME:PST
DTSTART:20271107T090000
END:STANDARD
END:VTIMEZONE
BEGIN:VEVENT
DTSTART;TZID=America/Los_Angeles:20260422T193000
DTEND;TZID=America/Los_Angeles:20260422T210000
DTSTAMP:20260421T110345
CREATED:20251103T173639Z
LAST-MODIFIED:20260419T183958Z
UID:10094926-1776886200-1776891600@thecomedybureau.com
SUMMARY:Oklahoma Drill (near LA)
DESCRIPTION:Come see LA’s best comics work on new material with @oklahomadrillcomedy. First show is this Wednesday\, Nov 5th! \nStarts 7:30PM PT
URL:https://thecomedybureau.com/show/oklahoma-drill-near-la/2026-04-22/
LOCATION:Backstage Bar & Grill\, 10400 Culver Boulevard\, Culver City\, CA\, 90232\, United States
CATEGORIES:Comedy Show,Los Angeles Shows,Stand Up
GEO:34.0162839;-118.4001626
X-APPLE-STRUCTURED-LOCATION;VALUE=URI;X-ADDRESS=Backstage Bar & Grill 10400 Culver Boulevard Culver City CA 90232 United States;X-APPLE-RADIUS=500;X-TITLE=10400 Culver Boulevard:geo:-118.4001626,34.0162839
END:VEVENT
BEGIN:VEVENT
DTSTART;TZID=America/Los_Angeles:20260429T193000
DTEND;TZID=America/Los_Angeles:20260429T210000
DTSTAMP:20260421T110345
CREATED:20251103T173639Z
LAST-MODIFIED:20260419T183958Z
UID:10094927-1777491000-1777496400@thecomedybureau.com
SUMMARY:Oklahoma Drill (near LA)
DESCRIPTION:Come see LA’s best comics work on new material with @oklahomadrillcomedy. First show is this Wednesday\, Nov 5th! \nStarts 7:30PM PT
URL:https://thecomedybureau.com/show/oklahoma-drill-near-la/2026-04-29/
LOCATION:Backstage Bar & Grill\, 10400 Culver Boulevard\, Culver City\, CA\, 90232\, United States
CATEGORIES:Comedy Show,Los Angeles Shows,Stand Up
GEO:34.0162839;-118.4001626
X-APPLE-STRUCTURED-LOCATION;VALUE=URI;X-ADDRESS=Backstage Bar & Grill 10400 Culver Boulevard Culver City CA 90232 United States;X-APPLE-RADIUS=500;X-TITLE=10400 Culver Boulevard:geo:-118.4001626,34.0162839
END:VEVENT
BEGIN:VEVENT
DTSTART;TZID=America/Los_Angeles:20260506T193000
DTEND;TZID=America/Los_Angeles:20260506T210000
DTSTAMP:20260421T110345
CREATED:20251103T173639Z
LAST-MODIFIED:20260419T183958Z
UID:10094928-1778095800-1778101200@thecomedybureau.com
SUMMARY:Oklahoma Drill (near LA)
DESCRIPTION:Come see LA’s best comics work on new material with @oklahomadrillcomedy. First show is this Wednesday\, Nov 5th! \nStarts 7:30PM PT
URL:https://thecomedybureau.com/show/oklahoma-drill-near-la/2026-05-06/
LOCATION:Backstage Bar & Grill\, 10400 Culver Boulevard\, Culver City\, CA\, 90232\, United States
CATEGORIES:Comedy Show,Los Angeles Shows,Stand Up
GEO:34.0162839;-118.4001626
X-APPLE-STRUCTURED-LOCATION;VALUE=URI;X-ADDRESS=Backstage Bar & Grill 10400 Culver Boulevard Culver City CA 90232 United States;X-APPLE-RADIUS=500;X-TITLE=10400 Culver Boulevard:geo:-118.4001626,34.0162839
END:VEVENT
END:VCALENDAR