BEGIN:VCALENDAR
VERSION:2.0
PRODID:-//The Comedy Bureau - ECPv6.15.18//NONSGML v1.0//EN
CALSCALE:GREGORIAN
METHOD:PUBLISH
X-WR-CALNAME:The Comedy Bureau
X-ORIGINAL-URL:https://thecomedybureau.com
X-WR-CALDESC:Events for The Comedy Bureau
REFRESH-INTERVAL;VALUE=DURATION:PT1H
X-Robots-Tag:noindex
X-PUBLISHED-TTL:PT1H
BEGIN:VTIMEZONE
TZID:America/Los_Angeles
BEGIN:DAYLIGHT
TZOFFSETFROM:-0800
TZOFFSETTO:-0700
TZNAME:PDT
DTSTART:20250309T100000
END:DAYLIGHT
BEGIN:STANDARD
TZOFFSETFROM:-0700
TZOFFSETTO:-0800
TZNAME:PST
DTSTART:20251102T090000
END:STANDARD
BEGIN:DAYLIGHT
TZOFFSETFROM:-0800
TZOFFSETTO:-0700
TZNAME:PDT
DTSTART:20260308T100000
END:DAYLIGHT
BEGIN:STANDARD
TZOFFSETFROM:-0700
TZOFFSETTO:-0800
TZNAME:PST
DTSTART:20261101T090000
END:STANDARD
BEGIN:DAYLIGHT
TZOFFSETFROM:-0800
TZOFFSETTO:-0700
TZNAME:PDT
DTSTART:20270314T100000
END:DAYLIGHT
BEGIN:STANDARD
TZOFFSETFROM:-0700
TZOFFSETTO:-0800
TZNAME:PST
DTSTART:20271107T090000
END:STANDARD
END:VTIMEZONE
BEGIN:VEVENT
DTSTART;TZID=America/Los_Angeles:20260428T193000
DTEND;TZID=America/Los_Angeles:20260428T210000
DTSTAMP:20260421T103439
CREATED:20260414T013123Z
LAST-MODIFIED:20260414T013123Z
UID:10094825-1777404600-1777410000@thecomedybureau.com
SUMMARY:LGBT-IDK LIVE: With Allison Reese! And Friends! (in LA)
DESCRIPTION:A live variety show for LGBT-IDK’s release: stand-up\, music\, sneak peeks of the series\, and a chaotic improvised blind date w/ Allison Reese \n\n\n\n\nEvery other week on Tuesdays\, starting on 4/14\, LGBT-IDK LIVE with Allison Reese is a live and livestreamed variety show celebrating the release of the improvised mockumentary webseries LGBT-IDK\, where Reese goes on blind dates with a variety of comedic characters. \nEqual parts late-night show\, comedy showcase\, and chaotic social experiment\, the show fuses stand-up\, live music\, improv\, and an exclusive sneak peek of the upcoming episode of LGBT-IDK. \nThroughout the night\, comedians and musicians will take the stage before Reese closes the night by going on a fully improvised blind date with a very special Guest \nCome see the live queer variety hour chock-full of big characters\, flirting\, laughs\, music and of course\, in true Allison Reese fashion: joyous chaos. \n\n\nStarts 7:30PM PT
URL:https://thecomedybureau.com/show/lgbt-idk-live-with-allison-reese-and-friends-in-la/2026-04-28/
LOCATION:DSP LA\, 1960 Riverside Drive\, Los Angeles\, CA\, 90039\, United States
CATEGORIES:Comedy Show,Los Angeles Shows,Variety
GEO:34.0982598;-118.248412
X-APPLE-STRUCTURED-LOCATION;VALUE=URI;X-ADDRESS=DSP LA 1960 Riverside Drive Los Angeles CA 90039 United States;X-APPLE-RADIUS=500;X-TITLE=1960 Riverside Drive:geo:-118.248412,34.0982598
END:VEVENT
BEGIN:VEVENT
DTSTART;TZID=America/Los_Angeles:20260512T193000
DTEND;TZID=America/Los_Angeles:20260512T210000
DTSTAMP:20260421T103439
CREATED:20260414T013123Z
LAST-MODIFIED:20260414T013123Z
UID:10094826-1778614200-1778619600@thecomedybureau.com
SUMMARY:LGBT-IDK LIVE: With Allison Reese! And Friends! (in LA)
DESCRIPTION:A live variety show for LGBT-IDK’s release: stand-up\, music\, sneak peeks of the series\, and a chaotic improvised blind date w/ Allison Reese \n\n\n\n\nEvery other week on Tuesdays\, starting on 4/14\, LGBT-IDK LIVE with Allison Reese is a live and livestreamed variety show celebrating the release of the improvised mockumentary webseries LGBT-IDK\, where Reese goes on blind dates with a variety of comedic characters. \nEqual parts late-night show\, comedy showcase\, and chaotic social experiment\, the show fuses stand-up\, live music\, improv\, and an exclusive sneak peek of the upcoming episode of LGBT-IDK. \nThroughout the night\, comedians and musicians will take the stage before Reese closes the night by going on a fully improvised blind date with a very special Guest \nCome see the live queer variety hour chock-full of big characters\, flirting\, laughs\, music and of course\, in true Allison Reese fashion: joyous chaos. \n\n\nStarts 7:30PM PT
URL:https://thecomedybureau.com/show/lgbt-idk-live-with-allison-reese-and-friends-in-la/2026-05-12/
LOCATION:DSP LA\, 1960 Riverside Drive\, Los Angeles\, CA\, 90039\, United States
CATEGORIES:Comedy Show,Los Angeles Shows,Variety
GEO:34.0982598;-118.248412
X-APPLE-STRUCTURED-LOCATION;VALUE=URI;X-ADDRESS=DSP LA 1960 Riverside Drive Los Angeles CA 90039 United States;X-APPLE-RADIUS=500;X-TITLE=1960 Riverside Drive:geo:-118.248412,34.0982598
END:VEVENT
BEGIN:VEVENT
DTSTART;TZID=America/Los_Angeles:20260526T193000
DTEND;TZID=America/Los_Angeles:20260526T210000
DTSTAMP:20260421T103439
CREATED:20260414T013123Z
LAST-MODIFIED:20260414T013123Z
UID:10094827-1779823800-1779829200@thecomedybureau.com
SUMMARY:LGBT-IDK LIVE: With Allison Reese! And Friends! (in LA)
DESCRIPTION:A live variety show for LGBT-IDK’s release: stand-up\, music\, sneak peeks of the series\, and a chaotic improvised blind date w/ Allison Reese \n\n\n\n\nEvery other week on Tuesdays\, starting on 4/14\, LGBT-IDK LIVE with Allison Reese is a live and livestreamed variety show celebrating the release of the improvised mockumentary webseries LGBT-IDK\, where Reese goes on blind dates with a variety of comedic characters. \nEqual parts late-night show\, comedy showcase\, and chaotic social experiment\, the show fuses stand-up\, live music\, improv\, and an exclusive sneak peek of the upcoming episode of LGBT-IDK. \nThroughout the night\, comedians and musicians will take the stage before Reese closes the night by going on a fully improvised blind date with a very special Guest \nCome see the live queer variety hour chock-full of big characters\, flirting\, laughs\, music and of course\, in true Allison Reese fashion: joyous chaos. \n\n\nStarts 7:30PM PT
URL:https://thecomedybureau.com/show/lgbt-idk-live-with-allison-reese-and-friends-in-la/2026-05-26/
LOCATION:DSP LA\, 1960 Riverside Drive\, Los Angeles\, CA\, 90039\, United States
CATEGORIES:Comedy Show,Los Angeles Shows,Variety
GEO:34.0982598;-118.248412
X-APPLE-STRUCTURED-LOCATION;VALUE=URI;X-ADDRESS=DSP LA 1960 Riverside Drive Los Angeles CA 90039 United States;X-APPLE-RADIUS=500;X-TITLE=1960 Riverside Drive:geo:-118.248412,34.0982598
END:VEVENT
BEGIN:VEVENT
DTSTART;TZID=America/Los_Angeles:20260609T193000
DTEND;TZID=America/Los_Angeles:20260609T210000
DTSTAMP:20260421T103439
CREATED:20260414T013123Z
LAST-MODIFIED:20260414T013123Z
UID:10094828-1781033400-1781038800@thecomedybureau.com
SUMMARY:LGBT-IDK LIVE: With Allison Reese! And Friends! (in LA)
DESCRIPTION:A live variety show for LGBT-IDK’s release: stand-up\, music\, sneak peeks of the series\, and a chaotic improvised blind date w/ Allison Reese \n\n\n\n\nEvery other week on Tuesdays\, starting on 4/14\, LGBT-IDK LIVE with Allison Reese is a live and livestreamed variety show celebrating the release of the improvised mockumentary webseries LGBT-IDK\, where Reese goes on blind dates with a variety of comedic characters. \nEqual parts late-night show\, comedy showcase\, and chaotic social experiment\, the show fuses stand-up\, live music\, improv\, and an exclusive sneak peek of the upcoming episode of LGBT-IDK. \nThroughout the night\, comedians and musicians will take the stage before Reese closes the night by going on a fully improvised blind date with a very special Guest \nCome see the live queer variety hour chock-full of big characters\, flirting\, laughs\, music and of course\, in true Allison Reese fashion: joyous chaos. \n\n\nStarts 7:30PM PT
URL:https://thecomedybureau.com/show/lgbt-idk-live-with-allison-reese-and-friends-in-la/2026-06-09/
LOCATION:DSP LA\, 1960 Riverside Drive\, Los Angeles\, CA\, 90039\, United States
CATEGORIES:Comedy Show,Los Angeles Shows,Variety
GEO:34.0982598;-118.248412
X-APPLE-STRUCTURED-LOCATION;VALUE=URI;X-ADDRESS=DSP LA 1960 Riverside Drive Los Angeles CA 90039 United States;X-APPLE-RADIUS=500;X-TITLE=1960 Riverside Drive:geo:-118.248412,34.0982598
END:VEVENT
END:VCALENDAR