BEGIN:VCALENDAR
VERSION:2.0
PRODID:-//The Comedy Bureau - ECPv6.15.18//NONSGML v1.0//EN
CALSCALE:GREGORIAN
METHOD:PUBLISH
X-WR-CALNAME:The Comedy Bureau
X-ORIGINAL-URL:https://thecomedybureau.com
X-WR-CALDESC:Events for The Comedy Bureau
REFRESH-INTERVAL;VALUE=DURATION:PT1H
X-Robots-Tag:noindex
X-PUBLISHED-TTL:PT1H
BEGIN:VTIMEZONE
TZID:America/Los_Angeles
BEGIN:DAYLIGHT
TZOFFSETFROM:-0800
TZOFFSETTO:-0700
TZNAME:PDT
DTSTART:20250309T100000
END:DAYLIGHT
BEGIN:STANDARD
TZOFFSETFROM:-0700
TZOFFSETTO:-0800
TZNAME:PST
DTSTART:20251102T090000
END:STANDARD
BEGIN:DAYLIGHT
TZOFFSETFROM:-0800
TZOFFSETTO:-0700
TZNAME:PDT
DTSTART:20260308T100000
END:DAYLIGHT
BEGIN:STANDARD
TZOFFSETFROM:-0700
TZOFFSETTO:-0800
TZNAME:PST
DTSTART:20261101T090000
END:STANDARD
BEGIN:DAYLIGHT
TZOFFSETFROM:-0800
TZOFFSETTO:-0700
TZNAME:PDT
DTSTART:20270314T100000
END:DAYLIGHT
BEGIN:STANDARD
TZOFFSETFROM:-0700
TZOFFSETTO:-0800
TZNAME:PST
DTSTART:20271107T090000
END:STANDARD
END:VTIMEZONE
BEGIN:VEVENT
DTSTART;TZID=America/Los_Angeles:20260423T203000
DTEND;TZID=America/Los_Angeles:20260423T213000
DTSTAMP:20260421T160338
CREATED:20260409T082136Z
LAST-MODIFIED:20260409T082136Z
UID:10094650-1776976200-1776979800@thecomedybureau.com
SUMMARY:Jamel Johnson: Big Baller Comedy Tour (in LA)
DESCRIPTION:Jamel Johnson headlines \nStarts 8:30PM PT
URL:https://thecomedybureau.com/show/jamel-johnson-big-baller-comedy-tour-in-la-2/2026-04-23/
LOCATION:The Elysian\, 1944 Riverside Drive\, Los Angeles\, CA\, 90039\, United States
CATEGORIES:Comedy Show,Los Angeles Shows,Stand Up
GEO:34.0979699;-118.2479957
X-APPLE-STRUCTURED-LOCATION;VALUE=URI;X-ADDRESS=The Elysian 1944 Riverside Drive Los Angeles CA 90039 United States;X-APPLE-RADIUS=500;X-TITLE=1944 Riverside Drive:geo:-118.2479957,34.0979699
END:VEVENT
BEGIN:VEVENT
DTSTART;TZID=America/Los_Angeles:20260430T203000
DTEND;TZID=America/Los_Angeles:20260430T213000
DTSTAMP:20260421T160338
CREATED:20260409T082136Z
LAST-MODIFIED:20260409T082136Z
UID:10094651-1777581000-1777584600@thecomedybureau.com
SUMMARY:Jamel Johnson: Big Baller Comedy Tour (in LA)
DESCRIPTION:Jamel Johnson headlines \nStarts 8:30PM PT
URL:https://thecomedybureau.com/show/jamel-johnson-big-baller-comedy-tour-in-la-2/2026-04-30/
LOCATION:The Elysian\, 1944 Riverside Drive\, Los Angeles\, CA\, 90039\, United States
CATEGORIES:Comedy Show,Los Angeles Shows,Stand Up
GEO:34.0979699;-118.2479957
X-APPLE-STRUCTURED-LOCATION;VALUE=URI;X-ADDRESS=The Elysian 1944 Riverside Drive Los Angeles CA 90039 United States;X-APPLE-RADIUS=500;X-TITLE=1944 Riverside Drive:geo:-118.2479957,34.0979699
END:VEVENT
END:VCALENDAR