BEGIN:VCALENDAR
VERSION:2.0
PRODID:-//The Comedy Bureau - ECPv6.15.18//NONSGML v1.0//EN
CALSCALE:GREGORIAN
METHOD:PUBLISH
X-WR-CALNAME:The Comedy Bureau
X-ORIGINAL-URL:https://thecomedybureau.com
X-WR-CALDESC:Events for The Comedy Bureau
REFRESH-INTERVAL;VALUE=DURATION:PT1H
X-Robots-Tag:noindex
X-PUBLISHED-TTL:PT1H
BEGIN:VTIMEZONE
TZID:America/Los_Angeles
BEGIN:DAYLIGHT
TZOFFSETFROM:-0800
TZOFFSETTO:-0700
TZNAME:PDT
DTSTART:20250309T100000
END:DAYLIGHT
BEGIN:STANDARD
TZOFFSETFROM:-0700
TZOFFSETTO:-0800
TZNAME:PST
DTSTART:20251102T090000
END:STANDARD
BEGIN:DAYLIGHT
TZOFFSETFROM:-0800
TZOFFSETTO:-0700
TZNAME:PDT
DTSTART:20260308T100000
END:DAYLIGHT
BEGIN:STANDARD
TZOFFSETFROM:-0700
TZOFFSETTO:-0800
TZNAME:PST
DTSTART:20261101T090000
END:STANDARD
BEGIN:DAYLIGHT
TZOFFSETFROM:-0800
TZOFFSETTO:-0700
TZNAME:PDT
DTSTART:20270314T100000
END:DAYLIGHT
BEGIN:STANDARD
TZOFFSETFROM:-0700
TZOFFSETTO:-0800
TZNAME:PST
DTSTART:20271107T090000
END:STANDARD
END:VTIMEZONE
BEGIN:VEVENT
DTSTART;TZID=America/Los_Angeles:20260508T200000
DTEND;TZID=America/Los_Angeles:20260508T210000
DTSTAMP:20260423T023319
CREATED:20260407T081236Z
LAST-MODIFIED:20260407T081304Z
UID:10094536-1778270400-1778274000@thecomedybureau.com
SUMMARY:I Just Don't Believe You (in LA)
DESCRIPTION:A new play about a once-promising dancer turned house cleaner navigating a carousel of eccentric clients around the city. \n\n\n\n\nThis show runs one hour long. \nstarring Emma Factor \nwritten and directed by Noa Lewis \nproduced by Barry Galperin \nproduction design by Mo Pollard \noriginal music by Patrick O’Malley \ngraphic design by Gabriella Mendelsohn \n\n\nShowtimes: \n4/8 @ 8PM PT \n4/9 @ 8PM PT \n4/10 @ 3:30PM PT
URL:https://thecomedybureau.com/show/i-just-dont-believe-you-in-la/2026-05-08/
LOCATION:The Broadwater\, 6320 Santa Monica Boulevard\, Los Angeles\, CA\, 90038\, United States
CATEGORIES:Comedy Show,Los Angeles Shows,Sketch
GEO:34.0905418;-118.3276065
X-APPLE-STRUCTURED-LOCATION;VALUE=URI;X-ADDRESS=The Broadwater 6320 Santa Monica Boulevard Los Angeles CA 90038 United States;X-APPLE-RADIUS=500;X-TITLE=6320 Santa Monica Boulevard:geo:-118.3276065,34.0905418
END:VEVENT
BEGIN:VEVENT
DTSTART;TZID=America/Los_Angeles:20260509T200000
DTEND;TZID=America/Los_Angeles:20260509T213000
DTSTAMP:20260423T023319
CREATED:20260407T081236Z
LAST-MODIFIED:20260407T081304Z
UID:10094537-1778356800-1778362200@thecomedybureau.com
SUMMARY:I Just Don't Believe You (in LA)
DESCRIPTION:A new play about a once-promising dancer turned house cleaner navigating a carousel of eccentric clients around the city. \n\n\n\n\nThis show runs one hour long. \nstarring Emma Factor \nwritten and directed by Noa Lewis \nproduced by Barry Galperin \nproduction design by Mo Pollard \noriginal music by Patrick O’Malley \ngraphic design by Gabriella Mendelsohn \n\n\nShowtimes: \n4/8 @ 8PM PT \n4/9 @ 8PM PT \n4/10 @ 3:30PM PT
URL:https://thecomedybureau.com/show/i-just-dont-believe-you-in-la/2026-05-09/
LOCATION:The Broadwater\, 6320 Santa Monica Boulevard\, Los Angeles\, CA\, 90038\, United States
CATEGORIES:Comedy Show,Los Angeles Shows,Sketch
GEO:34.0905418;-118.3276065
X-APPLE-STRUCTURED-LOCATION;VALUE=URI;X-ADDRESS=The Broadwater 6320 Santa Monica Boulevard Los Angeles CA 90038 United States;X-APPLE-RADIUS=500;X-TITLE=6320 Santa Monica Boulevard:geo:-118.3276065,34.0905418
END:VEVENT
BEGIN:VEVENT
DTSTART;TZID=America/Los_Angeles:20260510T153000
DTEND;TZID=America/Los_Angeles:20260510T163000
DTSTAMP:20260423T023319
CREATED:20260407T081236Z
LAST-MODIFIED:20260407T081304Z
UID:10094538-1778427000-1778430600@thecomedybureau.com
SUMMARY:I Just Don't Believe You (in LA)
DESCRIPTION:A new play about a once-promising dancer turned house cleaner navigating a carousel of eccentric clients around the city. \n\n\n\n\nThis show runs one hour long. \nstarring Emma Factor \nwritten and directed by Noa Lewis \nproduced by Barry Galperin \nproduction design by Mo Pollard \noriginal music by Patrick O’Malley \ngraphic design by Gabriella Mendelsohn \n\n\nShowtimes: \n4/8 @ 8PM PT \n4/9 @ 8PM PT \n4/10 @ 3:30PM PT
URL:https://thecomedybureau.com/show/i-just-dont-believe-you-in-la/2026-05-10/
LOCATION:The Broadwater\, 6320 Santa Monica Boulevard\, Los Angeles\, CA\, 90038\, United States
CATEGORIES:Comedy Show,Los Angeles Shows,Sketch
GEO:34.0905418;-118.3276065
X-APPLE-STRUCTURED-LOCATION;VALUE=URI;X-ADDRESS=The Broadwater 6320 Santa Monica Boulevard Los Angeles CA 90038 United States;X-APPLE-RADIUS=500;X-TITLE=6320 Santa Monica Boulevard:geo:-118.3276065,34.0905418
END:VEVENT
END:VCALENDAR