BEGIN:VCALENDAR
VERSION:2.0
PRODID:-//The Comedy Bureau - ECPv6.15.18//NONSGML v1.0//EN
CALSCALE:GREGORIAN
METHOD:PUBLISH
X-WR-CALNAME:The Comedy Bureau
X-ORIGINAL-URL:https://thecomedybureau.com
X-WR-CALDESC:Events for The Comedy Bureau
REFRESH-INTERVAL;VALUE=DURATION:PT1H
X-Robots-Tag:noindex
X-PUBLISHED-TTL:PT1H
BEGIN:VTIMEZONE
TZID:America/Los_Angeles
BEGIN:DAYLIGHT
TZOFFSETFROM:-0800
TZOFFSETTO:-0700
TZNAME:PDT
DTSTART:20250309T100000
END:DAYLIGHT
BEGIN:STANDARD
TZOFFSETFROM:-0700
TZOFFSETTO:-0800
TZNAME:PST
DTSTART:20251102T090000
END:STANDARD
BEGIN:DAYLIGHT
TZOFFSETFROM:-0800
TZOFFSETTO:-0700
TZNAME:PDT
DTSTART:20260308T100000
END:DAYLIGHT
BEGIN:STANDARD
TZOFFSETFROM:-0700
TZOFFSETTO:-0800
TZNAME:PST
DTSTART:20261101T090000
END:STANDARD
BEGIN:DAYLIGHT
TZOFFSETFROM:-0800
TZOFFSETTO:-0700
TZNAME:PDT
DTSTART:20270314T100000
END:DAYLIGHT
BEGIN:STANDARD
TZOFFSETFROM:-0700
TZOFFSETTO:-0800
TZNAME:PST
DTSTART:20271107T090000
END:STANDARD
END:VTIMEZONE
BEGIN:VEVENT
DTSTART;TZID=America/Los_Angeles:20260723T190000
DTEND;TZID=America/Los_Angeles:20260723T203000
DTSTAMP:20260423T110905
CREATED:20260414T175858Z
LAST-MODIFIED:20260414T175858Z
UID:10094858-1784833200-1784838600@thecomedybureau.com
SUMMARY:Anthony Jeselnik (near LA)
DESCRIPTION:An evening of stand-up with Anthony Jeselnik \n$49.22 + 2 item min. \nShowtimes \n7/23 @ 7PM PT \n7/24 @ 7PM & 9:30PM PT \n7/25 @ 7PM PT
URL:https://thecomedybureau.com/show/anthony-jeselnik-near-la-3/2026-07-23/
LOCATION:Ontario Improv\, 4555 Mills Circle\, Ontario\, CA\, 91764\, United States
CATEGORIES:Comedy Show,Los Angeles Shows,Stand Up
GEO:34.0741969;-117.5518404
X-APPLE-STRUCTURED-LOCATION;VALUE=URI;X-ADDRESS=Ontario Improv 4555 Mills Circle Ontario CA 91764 United States;X-APPLE-RADIUS=500;X-TITLE=4555 Mills Circle:geo:-117.5518404,34.0741969
END:VEVENT
BEGIN:VEVENT
DTSTART;TZID=America/Los_Angeles:20260724T190000
DTEND;TZID=America/Los_Angeles:20260724T203000
DTSTAMP:20260423T110905
CREATED:20260414T175858Z
LAST-MODIFIED:20260414T175858Z
UID:10094859-1784919600-1784925000@thecomedybureau.com
SUMMARY:Anthony Jeselnik (near LA)
DESCRIPTION:An evening of stand-up with Anthony Jeselnik \n$49.22 + 2 item min. \nShowtimes \n7/23 @ 7PM PT \n7/24 @ 7PM & 9:30PM PT \n7/25 @ 7PM PT
URL:https://thecomedybureau.com/show/anthony-jeselnik-near-la-3/2026-07-24/1/
LOCATION:Ontario Improv\, 4555 Mills Circle\, Ontario\, CA\, 91764\, United States
CATEGORIES:Comedy Show,Los Angeles Shows,Stand Up
GEO:34.0741969;-117.5518404
X-APPLE-STRUCTURED-LOCATION;VALUE=URI;X-ADDRESS=Ontario Improv 4555 Mills Circle Ontario CA 91764 United States;X-APPLE-RADIUS=500;X-TITLE=4555 Mills Circle:geo:-117.5518404,34.0741969
END:VEVENT
BEGIN:VEVENT
DTSTART;TZID=America/Los_Angeles:20260724T213000
DTEND;TZID=America/Los_Angeles:20260724T230000
DTSTAMP:20260423T110905
CREATED:20260414T175858Z
LAST-MODIFIED:20260414T175858Z
UID:10094860-1784928600-1784934000@thecomedybureau.com
SUMMARY:Anthony Jeselnik (near LA)
DESCRIPTION:An evening of stand-up with Anthony Jeselnik \n$49.22 + 2 item min. \nShowtimes \n7/23 @ 7PM PT \n7/24 @ 7PM & 9:30PM PT \n7/25 @ 7PM PT
URL:https://thecomedybureau.com/show/anthony-jeselnik-near-la-3/2026-07-24/2/
LOCATION:Ontario Improv\, 4555 Mills Circle\, Ontario\, CA\, 91764\, United States
CATEGORIES:Comedy Show,Los Angeles Shows,Stand Up
GEO:34.0741969;-117.5518404
X-APPLE-STRUCTURED-LOCATION;VALUE=URI;X-ADDRESS=Ontario Improv 4555 Mills Circle Ontario CA 91764 United States;X-APPLE-RADIUS=500;X-TITLE=4555 Mills Circle:geo:-117.5518404,34.0741969
END:VEVENT
BEGIN:VEVENT
DTSTART;TZID=America/Los_Angeles:20260725T190000
DTEND;TZID=America/Los_Angeles:20260725T203000
DTSTAMP:20260423T110905
CREATED:20260414T175858Z
LAST-MODIFIED:20260414T175858Z
UID:10094861-1785006000-1785011400@thecomedybureau.com
SUMMARY:Anthony Jeselnik (near LA)
DESCRIPTION:An evening of stand-up with Anthony Jeselnik \n$49.22 + 2 item min. \nShowtimes \n7/23 @ 7PM PT \n7/24 @ 7PM & 9:30PM PT \n7/25 @ 7PM PT
URL:https://thecomedybureau.com/show/anthony-jeselnik-near-la-3/2026-07-25/
LOCATION:Ontario Improv\, 4555 Mills Circle\, Ontario\, CA\, 91764\, United States
CATEGORIES:Comedy Show,Los Angeles Shows,Stand Up
GEO:34.0741969;-117.5518404
X-APPLE-STRUCTURED-LOCATION;VALUE=URI;X-ADDRESS=Ontario Improv 4555 Mills Circle Ontario CA 91764 United States;X-APPLE-RADIUS=500;X-TITLE=4555 Mills Circle:geo:-117.5518404,34.0741969
END:VEVENT
END:VCALENDAR