BEGIN:VCALENDAR
VERSION:2.0
PRODID:-//The Comedy Bureau - ECPv6.15.18//NONSGML v1.0//EN
CALSCALE:GREGORIAN
METHOD:PUBLISH
X-WR-CALNAME:The Comedy Bureau
X-ORIGINAL-URL:https://thecomedybureau.com
X-WR-CALDESC:Events for The Comedy Bureau
REFRESH-INTERVAL;VALUE=DURATION:PT1H
X-Robots-Tag:noindex
X-PUBLISHED-TTL:PT1H
BEGIN:VTIMEZONE
TZID:America/New_York
BEGIN:DAYLIGHT
TZOFFSETFROM:-0500
TZOFFSETTO:-0400
TZNAME:EDT
DTSTART:20250309T070000
END:DAYLIGHT
BEGIN:STANDARD
TZOFFSETFROM:-0400
TZOFFSETTO:-0500
TZNAME:EST
DTSTART:20251102T060000
END:STANDARD
BEGIN:DAYLIGHT
TZOFFSETFROM:-0500
TZOFFSETTO:-0400
TZNAME:EDT
DTSTART:20260308T070000
END:DAYLIGHT
BEGIN:STANDARD
TZOFFSETFROM:-0400
TZOFFSETTO:-0500
TZNAME:EST
DTSTART:20261101T060000
END:STANDARD
BEGIN:DAYLIGHT
TZOFFSETFROM:-0500
TZOFFSETTO:-0400
TZNAME:EDT
DTSTART:20270314T070000
END:DAYLIGHT
BEGIN:STANDARD
TZOFFSETFROM:-0400
TZOFFSETTO:-0500
TZNAME:EST
DTSTART:20271107T060000
END:STANDARD
END:VTIMEZONE
BEGIN:VEVENT
DTSTART;TZID=America/New_York:20260427T190000
DTEND;TZID=America/New_York:20260427T210000
DTSTAMP:20260420T210219
CREATED:20260101T214725Z
LAST-MODIFIED:20260330T053510Z
UID:10093017-1777316400-1777323600@thecomedybureau.com
SUMMARY:Antihoot Reboot Open Mic @ Baker Falls (in NYC)
DESCRIPTION:Sign-up 7PM ET\nHosted by Joe Bendik
URL:https://thecomedybureau.com/show/antihoot-reboot-open-mic-baker-falls-in-nyc/2026-04-27/
LOCATION:Baker Falls\, 101 Avenue A\, New York\, NY\, 10009\, United States
CATEGORIES:New York Open Mics,Open Mic
GEO:40.7258559;-73.9840245
X-APPLE-STRUCTURED-LOCATION;VALUE=URI;X-ADDRESS=Baker Falls 101 Avenue A New York NY 10009 United States;X-APPLE-RADIUS=500;X-TITLE=101 Avenue A:geo:-73.9840245,40.7258559
END:VEVENT
BEGIN:VEVENT
DTSTART;TZID=America/New_York:20260504T190000
DTEND;TZID=America/New_York:20260504T210000
DTSTAMP:20260420T210219
CREATED:20260101T214725Z
LAST-MODIFIED:20260330T053510Z
UID:10093018-1777921200-1777928400@thecomedybureau.com
SUMMARY:Antihoot Reboot Open Mic @ Baker Falls (in NYC)
DESCRIPTION:Sign-up 7PM ET\nHosted by Joe Bendik
URL:https://thecomedybureau.com/show/antihoot-reboot-open-mic-baker-falls-in-nyc/2026-05-04/
LOCATION:Baker Falls\, 101 Avenue A\, New York\, NY\, 10009\, United States
CATEGORIES:New York Open Mics,Open Mic
GEO:40.7258559;-73.9840245
X-APPLE-STRUCTURED-LOCATION;VALUE=URI;X-ADDRESS=Baker Falls 101 Avenue A New York NY 10009 United States;X-APPLE-RADIUS=500;X-TITLE=101 Avenue A:geo:-73.9840245,40.7258559
END:VEVENT
BEGIN:VEVENT
DTSTART;TZID=America/New_York:20260511T190000
DTEND;TZID=America/New_York:20260511T210000
DTSTAMP:20260420T210219
CREATED:20260101T214725Z
LAST-MODIFIED:20260330T053510Z
UID:10093019-1778526000-1778533200@thecomedybureau.com
SUMMARY:Antihoot Reboot Open Mic @ Baker Falls (in NYC)
DESCRIPTION:Sign-up 7PM ET\nHosted by Joe Bendik
URL:https://thecomedybureau.com/show/antihoot-reboot-open-mic-baker-falls-in-nyc/2026-05-11/
LOCATION:Baker Falls\, 101 Avenue A\, New York\, NY\, 10009\, United States
CATEGORIES:New York Open Mics,Open Mic
GEO:40.7258559;-73.9840245
X-APPLE-STRUCTURED-LOCATION;VALUE=URI;X-ADDRESS=Baker Falls 101 Avenue A New York NY 10009 United States;X-APPLE-RADIUS=500;X-TITLE=101 Avenue A:geo:-73.9840245,40.7258559
END:VEVENT
BEGIN:VEVENT
DTSTART;TZID=America/New_York:20260518T190000
DTEND;TZID=America/New_York:20260518T210000
DTSTAMP:20260420T210219
CREATED:20260101T214725Z
LAST-MODIFIED:20260330T053510Z
UID:10093020-1779130800-1779138000@thecomedybureau.com
SUMMARY:Antihoot Reboot Open Mic @ Baker Falls (in NYC)
DESCRIPTION:Sign-up 7PM ET\nHosted by Joe Bendik
URL:https://thecomedybureau.com/show/antihoot-reboot-open-mic-baker-falls-in-nyc/2026-05-18/
LOCATION:Baker Falls\, 101 Avenue A\, New York\, NY\, 10009\, United States
CATEGORIES:New York Open Mics,Open Mic
GEO:40.7258559;-73.9840245
X-APPLE-STRUCTURED-LOCATION;VALUE=URI;X-ADDRESS=Baker Falls 101 Avenue A New York NY 10009 United States;X-APPLE-RADIUS=500;X-TITLE=101 Avenue A:geo:-73.9840245,40.7258559
END:VEVENT
BEGIN:VEVENT
DTSTART;TZID=America/New_York:20260525T190000
DTEND;TZID=America/New_York:20260525T210000
DTSTAMP:20260420T210219
CREATED:20260101T214725Z
LAST-MODIFIED:20260330T053510Z
UID:10093021-1779735600-1779742800@thecomedybureau.com
SUMMARY:Antihoot Reboot Open Mic @ Baker Falls (in NYC)
DESCRIPTION:Sign-up 7PM ET\nHosted by Joe Bendik
URL:https://thecomedybureau.com/show/antihoot-reboot-open-mic-baker-falls-in-nyc/2026-05-25/
LOCATION:Baker Falls\, 101 Avenue A\, New York\, NY\, 10009\, United States
CATEGORIES:New York Open Mics,Open Mic
GEO:40.7258559;-73.9840245
X-APPLE-STRUCTURED-LOCATION;VALUE=URI;X-ADDRESS=Baker Falls 101 Avenue A New York NY 10009 United States;X-APPLE-RADIUS=500;X-TITLE=101 Avenue A:geo:-73.9840245,40.7258559
END:VEVENT
BEGIN:VEVENT
DTSTART;TZID=America/New_York:20260601T190000
DTEND;TZID=America/New_York:20260601T210000
DTSTAMP:20260420T210219
CREATED:20260101T214725Z
LAST-MODIFIED:20260330T053510Z
UID:10093022-1780340400-1780347600@thecomedybureau.com
SUMMARY:Antihoot Reboot Open Mic @ Baker Falls (in NYC)
DESCRIPTION:Sign-up 7PM ET\nHosted by Joe Bendik
URL:https://thecomedybureau.com/show/antihoot-reboot-open-mic-baker-falls-in-nyc/2026-06-01/
LOCATION:Baker Falls\, 101 Avenue A\, New York\, NY\, 10009\, United States
CATEGORIES:New York Open Mics,Open Mic
GEO:40.7258559;-73.9840245
X-APPLE-STRUCTURED-LOCATION;VALUE=URI;X-ADDRESS=Baker Falls 101 Avenue A New York NY 10009 United States;X-APPLE-RADIUS=500;X-TITLE=101 Avenue A:geo:-73.9840245,40.7258559
END:VEVENT
BEGIN:VEVENT
DTSTART;TZID=America/New_York:20260608T190000
DTEND;TZID=America/New_York:20260608T210000
DTSTAMP:20260420T210219
CREATED:20260101T214725Z
LAST-MODIFIED:20260330T053510Z
UID:10093023-1780945200-1780952400@thecomedybureau.com
SUMMARY:Antihoot Reboot Open Mic @ Baker Falls (in NYC)
DESCRIPTION:Sign-up 7PM ET\nHosted by Joe Bendik
URL:https://thecomedybureau.com/show/antihoot-reboot-open-mic-baker-falls-in-nyc/2026-06-08/
LOCATION:Baker Falls\, 101 Avenue A\, New York\, NY\, 10009\, United States
CATEGORIES:New York Open Mics,Open Mic
GEO:40.7258559;-73.9840245
X-APPLE-STRUCTURED-LOCATION;VALUE=URI;X-ADDRESS=Baker Falls 101 Avenue A New York NY 10009 United States;X-APPLE-RADIUS=500;X-TITLE=101 Avenue A:geo:-73.9840245,40.7258559
END:VEVENT
BEGIN:VEVENT
DTSTART;TZID=America/New_York:20260615T190000
DTEND;TZID=America/New_York:20260615T210000
DTSTAMP:20260420T210219
CREATED:20260101T214725Z
LAST-MODIFIED:20260330T053510Z
UID:10093024-1781550000-1781557200@thecomedybureau.com
SUMMARY:Antihoot Reboot Open Mic @ Baker Falls (in NYC)
DESCRIPTION:Sign-up 7PM ET\nHosted by Joe Bendik
URL:https://thecomedybureau.com/show/antihoot-reboot-open-mic-baker-falls-in-nyc/2026-06-15/
LOCATION:Baker Falls\, 101 Avenue A\, New York\, NY\, 10009\, United States
CATEGORIES:New York Open Mics,Open Mic
GEO:40.7258559;-73.9840245
X-APPLE-STRUCTURED-LOCATION;VALUE=URI;X-ADDRESS=Baker Falls 101 Avenue A New York NY 10009 United States;X-APPLE-RADIUS=500;X-TITLE=101 Avenue A:geo:-73.9840245,40.7258559
END:VEVENT
BEGIN:VEVENT
DTSTART;TZID=America/New_York:20260622T190000
DTEND;TZID=America/New_York:20260622T210000
DTSTAMP:20260420T210219
CREATED:20260101T214725Z
LAST-MODIFIED:20260330T053510Z
UID:10093025-1782154800-1782162000@thecomedybureau.com
SUMMARY:Antihoot Reboot Open Mic @ Baker Falls (in NYC)
DESCRIPTION:Sign-up 7PM ET\nHosted by Joe Bendik
URL:https://thecomedybureau.com/show/antihoot-reboot-open-mic-baker-falls-in-nyc/2026-06-22/
LOCATION:Baker Falls\, 101 Avenue A\, New York\, NY\, 10009\, United States
CATEGORIES:New York Open Mics,Open Mic
GEO:40.7258559;-73.9840245
X-APPLE-STRUCTURED-LOCATION;VALUE=URI;X-ADDRESS=Baker Falls 101 Avenue A New York NY 10009 United States;X-APPLE-RADIUS=500;X-TITLE=101 Avenue A:geo:-73.9840245,40.7258559
END:VEVENT
BEGIN:VEVENT
DTSTART;TZID=America/New_York:20260629T190000
DTEND;TZID=America/New_York:20260629T210000
DTSTAMP:20260420T210219
CREATED:20260101T214725Z
LAST-MODIFIED:20260330T053510Z
UID:10093026-1782759600-1782766800@thecomedybureau.com
SUMMARY:Antihoot Reboot Open Mic @ Baker Falls (in NYC)
DESCRIPTION:Sign-up 7PM ET\nHosted by Joe Bendik
URL:https://thecomedybureau.com/show/antihoot-reboot-open-mic-baker-falls-in-nyc/2026-06-29/
LOCATION:Baker Falls\, 101 Avenue A\, New York\, NY\, 10009\, United States
CATEGORIES:New York Open Mics,Open Mic
GEO:40.7258559;-73.9840245
X-APPLE-STRUCTURED-LOCATION;VALUE=URI;X-ADDRESS=Baker Falls 101 Avenue A New York NY 10009 United States;X-APPLE-RADIUS=500;X-TITLE=101 Avenue A:geo:-73.9840245,40.7258559
END:VEVENT
END:VCALENDAR