BEGIN:VCALENDAR
VERSION:2.0
PRODID:-//The Comedy Bureau - ECPv6.15.18//NONSGML v1.0//EN
CALSCALE:GREGORIAN
METHOD:PUBLISH
X-WR-CALNAME:The Comedy Bureau
X-ORIGINAL-URL:https://thecomedybureau.com
X-WR-CALDESC:Events for The Comedy Bureau
REFRESH-INTERVAL;VALUE=DURATION:PT1H
X-Robots-Tag:noindex
X-PUBLISHED-TTL:PT1H
BEGIN:VTIMEZONE
TZID:America/Los_Angeles
BEGIN:DAYLIGHT
TZOFFSETFROM:-0800
TZOFFSETTO:-0700
TZNAME:PDT
DTSTART:20250309T100000
END:DAYLIGHT
BEGIN:STANDARD
TZOFFSETFROM:-0700
TZOFFSETTO:-0800
TZNAME:PST
DTSTART:20251102T090000
END:STANDARD
BEGIN:DAYLIGHT
TZOFFSETFROM:-0800
TZOFFSETTO:-0700
TZNAME:PDT
DTSTART:20260308T100000
END:DAYLIGHT
BEGIN:STANDARD
TZOFFSETFROM:-0700
TZOFFSETTO:-0800
TZNAME:PST
DTSTART:20261101T090000
END:STANDARD
BEGIN:DAYLIGHT
TZOFFSETFROM:-0800
TZOFFSETTO:-0700
TZNAME:PDT
DTSTART:20270314T100000
END:DAYLIGHT
BEGIN:STANDARD
TZOFFSETFROM:-0700
TZOFFSETTO:-0800
TZNAME:PST
DTSTART:20271107T090000
END:STANDARD
END:VTIMEZONE
BEGIN:VEVENT
DTSTART;TZID=America/Los_Angeles:20260421T173000
DTEND;TZID=America/Los_Angeles:20260421T183000
DTSTAMP:20260421T024616
CREATED:20251228T093222Z
LAST-MODIFIED:20260328T003435Z
UID:10083398-1776792600-1776796200@thecomedybureau.com
SUMMARY:The Diversity Jam @ UCB NYC
DESCRIPTION:For improv only\nJam for diverse performers\nAll levels welcome\nFirst Sundays @ 6:30PM ET\nThird Tuesdays @ 5:30PM ET\nFREE
URL:https://thecomedybureau.com/show/the-diversity-jam-ucb-nyc/2026-04-21/
LOCATION:UCB NYC\, 242 East 14th Street\, New York\, NY\, 10003\, United States
CATEGORIES:Improv Jam,New York Open Mics,Open Mic
GEO:40.73232;-73.9852685
X-APPLE-STRUCTURED-LOCATION;VALUE=URI;X-ADDRESS=UCB NYC 242 East 14th Street New York NY 10003 United States;X-APPLE-RADIUS=500;X-TITLE=242 East 14th Street:geo:-73.9852685,40.73232
END:VEVENT
END:VCALENDAR