BEGIN:VCALENDAR
VERSION:2.0
PRODID:-//The Comedy Bureau - ECPv6.15.18//NONSGML v1.0//EN
CALSCALE:GREGORIAN
METHOD:PUBLISH
X-WR-CALNAME:The Comedy Bureau
X-ORIGINAL-URL:https://thecomedybureau.com
X-WR-CALDESC:Events for The Comedy Bureau
REFRESH-INTERVAL;VALUE=DURATION:PT1H
X-Robots-Tag:noindex
X-PUBLISHED-TTL:PT1H
BEGIN:VTIMEZONE
TZID:America/Los_Angeles
BEGIN:DAYLIGHT
TZOFFSETFROM:-0800
TZOFFSETTO:-0700
TZNAME:PDT
DTSTART:20250309T100000
END:DAYLIGHT
BEGIN:STANDARD
TZOFFSETFROM:-0700
TZOFFSETTO:-0800
TZNAME:PST
DTSTART:20251102T090000
END:STANDARD
BEGIN:DAYLIGHT
TZOFFSETFROM:-0800
TZOFFSETTO:-0700
TZNAME:PDT
DTSTART:20260308T100000
END:DAYLIGHT
BEGIN:STANDARD
TZOFFSETFROM:-0700
TZOFFSETTO:-0800
TZNAME:PST
DTSTART:20261101T090000
END:STANDARD
BEGIN:DAYLIGHT
TZOFFSETFROM:-0800
TZOFFSETTO:-0700
TZNAME:PDT
DTSTART:20270314T100000
END:DAYLIGHT
BEGIN:STANDARD
TZOFFSETFROM:-0700
TZOFFSETTO:-0800
TZNAME:PST
DTSTART:20271107T090000
END:STANDARD
END:VTIMEZONE
BEGIN:VEVENT
DTSTART;TZID=America/Los_Angeles:20260427T193000
DTEND;TZID=America/Los_Angeles:20260427T210000
DTSTAMP:20260421T112120
CREATED:20251224T081453Z
LAST-MODIFIED:20260414T175255Z
UID:10077742-1777318200-1777323600@thecomedybureau.com
SUMMARY:Tony Baker & Friends (near LA)
DESCRIPTION:Enjoy a night with Tony Baker and his favorite comics \n$35 + 2 drink min. \nStarts 7:30PM PT
URL:https://thecomedybureau.com/show/tony-baker-friends-near-la/
LOCATION:Flappers Comedy Club\, 102 East Magnolia Boulevard\, Burbank\, CA\, 91502\, United States
CATEGORIES:Comedy Show,Los Angeles Shows,Stand Up
GEO:34.181928;-118.3125083
X-APPLE-STRUCTURED-LOCATION;VALUE=URI;X-ADDRESS=Flappers Comedy Club 102 East Magnolia Boulevard Burbank CA 91502 United States;X-APPLE-RADIUS=500;X-TITLE=102 East Magnolia Boulevard:geo:-118.3125083,34.181928
END:VEVENT
END:VCALENDAR