BEGIN:VCALENDAR
VERSION:2.0
PRODID:-//The Comedy Bureau - ECPv6.15.18//NONSGML v1.0//EN
CALSCALE:GREGORIAN
METHOD:PUBLISH
X-WR-CALNAME:The Comedy Bureau
X-ORIGINAL-URL:https://thecomedybureau.com
X-WR-CALDESC:Events for The Comedy Bureau
REFRESH-INTERVAL;VALUE=DURATION:PT1H
X-Robots-Tag:noindex
X-PUBLISHED-TTL:PT1H
BEGIN:VTIMEZONE
TZID:America/Los_Angeles
BEGIN:DAYLIGHT
TZOFFSETFROM:-0800
TZOFFSETTO:-0700
TZNAME:PDT
DTSTART:20250309T100000
END:DAYLIGHT
BEGIN:STANDARD
TZOFFSETFROM:-0700
TZOFFSETTO:-0800
TZNAME:PST
DTSTART:20251102T090000
END:STANDARD
BEGIN:DAYLIGHT
TZOFFSETFROM:-0800
TZOFFSETTO:-0700
TZNAME:PDT
DTSTART:20260308T100000
END:DAYLIGHT
BEGIN:STANDARD
TZOFFSETFROM:-0700
TZOFFSETTO:-0800
TZNAME:PST
DTSTART:20261101T090000
END:STANDARD
BEGIN:DAYLIGHT
TZOFFSETFROM:-0800
TZOFFSETTO:-0700
TZNAME:PDT
DTSTART:20270314T100000
END:DAYLIGHT
BEGIN:STANDARD
TZOFFSETFROM:-0700
TZOFFSETTO:-0800
TZNAME:PST
DTSTART:20271107T090000
END:STANDARD
END:VTIMEZONE
BEGIN:VEVENT
DTSTART;TZID=America/Los_Angeles:20260421T203000
DTEND;TZID=America/Los_Angeles:20260421T223000
DTSTAMP:20260421T093330
CREATED:20250810T213200Z
LAST-MODIFIED:20260330T061807Z
UID:10093421-1776803400-1776810600@thecomedybureau.com
SUMMARY:Campfire Comedy Mic @ The Woods (in LA)
DESCRIPTION:Sign-up 8PM PT\nStarts 8:30PM PT\nFirst come\, first served\n5 min.\n1 item min. to perform\nHosted by Trinna Larsen
URL:https://thecomedybureau.com/show/campfire-comedy-mic-the-woods-in-la/2026-04-21/
LOCATION:The Woods\, 1533 N. La Brea Avenue\, Los Angeles\, CA\, 90028\, United States
CATEGORIES:Los Angeles Open Mics,Open Mic
GEO:34.0988449;-118.3449621
X-APPLE-STRUCTURED-LOCATION;VALUE=URI;X-ADDRESS=The Woods 1533 N. La Brea Avenue Los Angeles CA 90028 United States;X-APPLE-RADIUS=500;X-TITLE=1533 N. La Brea Avenue:geo:-118.3449621,34.0988449
END:VEVENT
BEGIN:VEVENT
DTSTART;TZID=America/Los_Angeles:20260428T203000
DTEND;TZID=America/Los_Angeles:20260428T223000
DTSTAMP:20260421T093330
CREATED:20250810T213200Z
LAST-MODIFIED:20260330T061807Z
UID:10093422-1777408200-1777415400@thecomedybureau.com
SUMMARY:Campfire Comedy Mic @ The Woods (in LA)
DESCRIPTION:Sign-up 8PM PT\nStarts 8:30PM PT\nFirst come\, first served\n5 min.\n1 item min. to perform\nHosted by Trinna Larsen
URL:https://thecomedybureau.com/show/campfire-comedy-mic-the-woods-in-la/2026-04-28/
LOCATION:The Woods\, 1533 N. La Brea Avenue\, Los Angeles\, CA\, 90028\, United States
CATEGORIES:Los Angeles Open Mics,Open Mic
GEO:34.0988449;-118.3449621
X-APPLE-STRUCTURED-LOCATION;VALUE=URI;X-ADDRESS=The Woods 1533 N. La Brea Avenue Los Angeles CA 90028 United States;X-APPLE-RADIUS=500;X-TITLE=1533 N. La Brea Avenue:geo:-118.3449621,34.0988449
END:VEVENT
BEGIN:VEVENT
DTSTART;TZID=America/Los_Angeles:20260505T203000
DTEND;TZID=America/Los_Angeles:20260505T223000
DTSTAMP:20260421T093330
CREATED:20250810T213200Z
LAST-MODIFIED:20260330T061807Z
UID:10093423-1778013000-1778020200@thecomedybureau.com
SUMMARY:Campfire Comedy Mic @ The Woods (in LA)
DESCRIPTION:Sign-up 8PM PT\nStarts 8:30PM PT\nFirst come\, first served\n5 min.\n1 item min. to perform\nHosted by Trinna Larsen
URL:https://thecomedybureau.com/show/campfire-comedy-mic-the-woods-in-la/2026-05-05/
LOCATION:The Woods\, 1533 N. La Brea Avenue\, Los Angeles\, CA\, 90028\, United States
CATEGORIES:Los Angeles Open Mics,Open Mic
GEO:34.0988449;-118.3449621
X-APPLE-STRUCTURED-LOCATION;VALUE=URI;X-ADDRESS=The Woods 1533 N. La Brea Avenue Los Angeles CA 90028 United States;X-APPLE-RADIUS=500;X-TITLE=1533 N. La Brea Avenue:geo:-118.3449621,34.0988449
END:VEVENT
BEGIN:VEVENT
DTSTART;TZID=America/Los_Angeles:20260519T203000
DTEND;TZID=America/Los_Angeles:20260519T223000
DTSTAMP:20260421T093330
CREATED:20250810T213200Z
LAST-MODIFIED:20260330T061807Z
UID:10093424-1779222600-1779229800@thecomedybureau.com
SUMMARY:Campfire Comedy Mic @ The Woods (in LA)
DESCRIPTION:Sign-up 8PM PT\nStarts 8:30PM PT\nFirst come\, first served\n5 min.\n1 item min. to perform\nHosted by Trinna Larsen
URL:https://thecomedybureau.com/show/campfire-comedy-mic-the-woods-in-la/2026-05-19/
LOCATION:The Woods\, 1533 N. La Brea Avenue\, Los Angeles\, CA\, 90028\, United States
CATEGORIES:Los Angeles Open Mics,Open Mic
GEO:34.0988449;-118.3449621
X-APPLE-STRUCTURED-LOCATION;VALUE=URI;X-ADDRESS=The Woods 1533 N. La Brea Avenue Los Angeles CA 90028 United States;X-APPLE-RADIUS=500;X-TITLE=1533 N. La Brea Avenue:geo:-118.3449621,34.0988449
END:VEVENT
BEGIN:VEVENT
DTSTART;TZID=America/Los_Angeles:20260526T203000
DTEND;TZID=America/Los_Angeles:20260526T223000
DTSTAMP:20260421T093330
CREATED:20250810T213200Z
LAST-MODIFIED:20260330T061807Z
UID:10093425-1779827400-1779834600@thecomedybureau.com
SUMMARY:Campfire Comedy Mic @ The Woods (in LA)
DESCRIPTION:Sign-up 8PM PT\nStarts 8:30PM PT\nFirst come\, first served\n5 min.\n1 item min. to perform\nHosted by Trinna Larsen
URL:https://thecomedybureau.com/show/campfire-comedy-mic-the-woods-in-la/2026-05-26/
LOCATION:The Woods\, 1533 N. La Brea Avenue\, Los Angeles\, CA\, 90028\, United States
CATEGORIES:Los Angeles Open Mics,Open Mic
GEO:34.0988449;-118.3449621
X-APPLE-STRUCTURED-LOCATION;VALUE=URI;X-ADDRESS=The Woods 1533 N. La Brea Avenue Los Angeles CA 90028 United States;X-APPLE-RADIUS=500;X-TITLE=1533 N. La Brea Avenue:geo:-118.3449621,34.0988449
END:VEVENT
BEGIN:VEVENT
DTSTART;TZID=America/Los_Angeles:20260602T203000
DTEND;TZID=America/Los_Angeles:20260602T223000
DTSTAMP:20260421T093330
CREATED:20250810T213200Z
LAST-MODIFIED:20260330T061807Z
UID:10093426-1780432200-1780439400@thecomedybureau.com
SUMMARY:Campfire Comedy Mic @ The Woods (in LA)
DESCRIPTION:Sign-up 8PM PT\nStarts 8:30PM PT\nFirst come\, first served\n5 min.\n1 item min. to perform\nHosted by Trinna Larsen
URL:https://thecomedybureau.com/show/campfire-comedy-mic-the-woods-in-la/2026-06-02/
LOCATION:The Woods\, 1533 N. La Brea Avenue\, Los Angeles\, CA\, 90028\, United States
CATEGORIES:Los Angeles Open Mics,Open Mic
GEO:34.0988449;-118.3449621
X-APPLE-STRUCTURED-LOCATION;VALUE=URI;X-ADDRESS=The Woods 1533 N. La Brea Avenue Los Angeles CA 90028 United States;X-APPLE-RADIUS=500;X-TITLE=1533 N. La Brea Avenue:geo:-118.3449621,34.0988449
END:VEVENT
BEGIN:VEVENT
DTSTART;TZID=America/Los_Angeles:20260616T203000
DTEND;TZID=America/Los_Angeles:20260616T223000
DTSTAMP:20260421T093330
CREATED:20250810T213200Z
LAST-MODIFIED:20260330T061807Z
UID:10093427-1781641800-1781649000@thecomedybureau.com
SUMMARY:Campfire Comedy Mic @ The Woods (in LA)
DESCRIPTION:Sign-up 8PM PT\nStarts 8:30PM PT\nFirst come\, first served\n5 min.\n1 item min. to perform\nHosted by Trinna Larsen
URL:https://thecomedybureau.com/show/campfire-comedy-mic-the-woods-in-la/2026-06-16/
LOCATION:The Woods\, 1533 N. La Brea Avenue\, Los Angeles\, CA\, 90028\, United States
CATEGORIES:Los Angeles Open Mics,Open Mic
GEO:34.0988449;-118.3449621
X-APPLE-STRUCTURED-LOCATION;VALUE=URI;X-ADDRESS=The Woods 1533 N. La Brea Avenue Los Angeles CA 90028 United States;X-APPLE-RADIUS=500;X-TITLE=1533 N. La Brea Avenue:geo:-118.3449621,34.0988449
END:VEVENT
BEGIN:VEVENT
DTSTART;TZID=America/Los_Angeles:20260623T203000
DTEND;TZID=America/Los_Angeles:20260623T223000
DTSTAMP:20260421T093330
CREATED:20250810T213200Z
LAST-MODIFIED:20260330T061807Z
UID:10093428-1782246600-1782253800@thecomedybureau.com
SUMMARY:Campfire Comedy Mic @ The Woods (in LA)
DESCRIPTION:Sign-up 8PM PT\nStarts 8:30PM PT\nFirst come\, first served\n5 min.\n1 item min. to perform\nHosted by Trinna Larsen
URL:https://thecomedybureau.com/show/campfire-comedy-mic-the-woods-in-la/2026-06-23/
LOCATION:The Woods\, 1533 N. La Brea Avenue\, Los Angeles\, CA\, 90028\, United States
CATEGORIES:Los Angeles Open Mics,Open Mic
GEO:34.0988449;-118.3449621
X-APPLE-STRUCTURED-LOCATION;VALUE=URI;X-ADDRESS=The Woods 1533 N. La Brea Avenue Los Angeles CA 90028 United States;X-APPLE-RADIUS=500;X-TITLE=1533 N. La Brea Avenue:geo:-118.3449621,34.0988449
END:VEVENT
END:VCALENDAR