BEGIN:VCALENDAR
VERSION:2.0
PRODID:-//The Comedy Bureau - ECPv6.15.18//NONSGML v1.0//EN
CALSCALE:GREGORIAN
METHOD:PUBLISH
X-WR-CALNAME:The Comedy Bureau
X-ORIGINAL-URL:https://thecomedybureau.com
X-WR-CALDESC:Events for The Comedy Bureau
REFRESH-INTERVAL;VALUE=DURATION:PT1H
X-Robots-Tag:noindex
X-PUBLISHED-TTL:PT1H
BEGIN:VTIMEZONE
TZID:America/New_York
BEGIN:DAYLIGHT
TZOFFSETFROM:-0500
TZOFFSETTO:-0400
TZNAME:EDT
DTSTART:20250309T070000
END:DAYLIGHT
BEGIN:STANDARD
TZOFFSETFROM:-0400
TZOFFSETTO:-0500
TZNAME:EST
DTSTART:20251102T060000
END:STANDARD
BEGIN:DAYLIGHT
TZOFFSETFROM:-0500
TZOFFSETTO:-0400
TZNAME:EDT
DTSTART:20260308T070000
END:DAYLIGHT
BEGIN:STANDARD
TZOFFSETFROM:-0400
TZOFFSETTO:-0500
TZNAME:EST
DTSTART:20261101T060000
END:STANDARD
BEGIN:DAYLIGHT
TZOFFSETFROM:-0500
TZOFFSETTO:-0400
TZNAME:EDT
DTSTART:20270314T070000
END:DAYLIGHT
BEGIN:STANDARD
TZOFFSETFROM:-0400
TZOFFSETTO:-0500
TZNAME:EST
DTSTART:20271107T060000
END:STANDARD
END:VTIMEZONE
BEGIN:VEVENT
DTSTART;TZID=America/New_York:20260424T183000
DTEND;TZID=America/New_York:20260424T193000
DTSTAMP:20260421T154757
CREATED:20250428T180202Z
LAST-MODIFIED:20260329T190307Z
UID:10092762-1777055400-1777059000@thecomedybureau.com
SUMMARY:Character Counts Open Mic @ The PIT NYC
DESCRIPTION:For character work only\nSign-up 6PM ET\nStarts 6:30PM ET\n5 min.\n$5 cash
URL:https://thecomedybureau.com/show/character-counts-open-mic-the-pit-nyc/2026-04-24/
LOCATION:The PIT\, 123 East 24th Street\, New York\, NY\, 10010\, United States
CATEGORIES:Character Mic,New York Open Mics,Open Mic
GEO:40.7405602;-73.984683
X-APPLE-STRUCTURED-LOCATION;VALUE=URI;X-ADDRESS=The PIT 123 East 24th Street New York NY 10010 United States;X-APPLE-RADIUS=500;X-TITLE=123 East 24th Street:geo:-73.984683,40.7405602
END:VEVENT
BEGIN:VEVENT
DTSTART;TZID=America/New_York:20260501T183000
DTEND;TZID=America/New_York:20260501T193000
DTSTAMP:20260421T154757
CREATED:20250428T180202Z
LAST-MODIFIED:20260329T190307Z
UID:10092763-1777660200-1777663800@thecomedybureau.com
SUMMARY:Character Counts Open Mic @ The PIT NYC
DESCRIPTION:For character work only\nSign-up 6PM ET\nStarts 6:30PM ET\n5 min.\n$5 cash
URL:https://thecomedybureau.com/show/character-counts-open-mic-the-pit-nyc/2026-05-01/
LOCATION:The PIT\, 123 East 24th Street\, New York\, NY\, 10010\, United States
CATEGORIES:Character Mic,New York Open Mics,Open Mic
GEO:40.7405602;-73.984683
X-APPLE-STRUCTURED-LOCATION;VALUE=URI;X-ADDRESS=The PIT 123 East 24th Street New York NY 10010 United States;X-APPLE-RADIUS=500;X-TITLE=123 East 24th Street:geo:-73.984683,40.7405602
END:VEVENT
BEGIN:VEVENT
DTSTART;TZID=America/New_York:20260508T183000
DTEND;TZID=America/New_York:20260508T193000
DTSTAMP:20260421T154757
CREATED:20250428T180202Z
LAST-MODIFIED:20260329T190307Z
UID:10092764-1778265000-1778268600@thecomedybureau.com
SUMMARY:Character Counts Open Mic @ The PIT NYC
DESCRIPTION:For character work only\nSign-up 6PM ET\nStarts 6:30PM ET\n5 min.\n$5 cash
URL:https://thecomedybureau.com/show/character-counts-open-mic-the-pit-nyc/2026-05-08/
LOCATION:The PIT\, 123 East 24th Street\, New York\, NY\, 10010\, United States
CATEGORIES:Character Mic,New York Open Mics,Open Mic
GEO:40.7405602;-73.984683
X-APPLE-STRUCTURED-LOCATION;VALUE=URI;X-ADDRESS=The PIT 123 East 24th Street New York NY 10010 United States;X-APPLE-RADIUS=500;X-TITLE=123 East 24th Street:geo:-73.984683,40.7405602
END:VEVENT
BEGIN:VEVENT
DTSTART;TZID=America/New_York:20260515T183000
DTEND;TZID=America/New_York:20260515T193000
DTSTAMP:20260421T154757
CREATED:20250428T180202Z
LAST-MODIFIED:20260329T190307Z
UID:10092765-1778869800-1778873400@thecomedybureau.com
SUMMARY:Character Counts Open Mic @ The PIT NYC
DESCRIPTION:For character work only\nSign-up 6PM ET\nStarts 6:30PM ET\n5 min.\n$5 cash
URL:https://thecomedybureau.com/show/character-counts-open-mic-the-pit-nyc/2026-05-15/
LOCATION:The PIT\, 123 East 24th Street\, New York\, NY\, 10010\, United States
CATEGORIES:Character Mic,New York Open Mics,Open Mic
GEO:40.7405602;-73.984683
X-APPLE-STRUCTURED-LOCATION;VALUE=URI;X-ADDRESS=The PIT 123 East 24th Street New York NY 10010 United States;X-APPLE-RADIUS=500;X-TITLE=123 East 24th Street:geo:-73.984683,40.7405602
END:VEVENT
BEGIN:VEVENT
DTSTART;TZID=America/New_York:20260522T183000
DTEND;TZID=America/New_York:20260522T193000
DTSTAMP:20260421T154757
CREATED:20250428T180202Z
LAST-MODIFIED:20260329T190307Z
UID:10092766-1779474600-1779478200@thecomedybureau.com
SUMMARY:Character Counts Open Mic @ The PIT NYC
DESCRIPTION:For character work only\nSign-up 6PM ET\nStarts 6:30PM ET\n5 min.\n$5 cash
URL:https://thecomedybureau.com/show/character-counts-open-mic-the-pit-nyc/2026-05-22/
LOCATION:The PIT\, 123 East 24th Street\, New York\, NY\, 10010\, United States
CATEGORIES:Character Mic,New York Open Mics,Open Mic
GEO:40.7405602;-73.984683
X-APPLE-STRUCTURED-LOCATION;VALUE=URI;X-ADDRESS=The PIT 123 East 24th Street New York NY 10010 United States;X-APPLE-RADIUS=500;X-TITLE=123 East 24th Street:geo:-73.984683,40.7405602
END:VEVENT
BEGIN:VEVENT
DTSTART;TZID=America/New_York:20260529T183000
DTEND;TZID=America/New_York:20260529T193000
DTSTAMP:20260421T154757
CREATED:20250428T180202Z
LAST-MODIFIED:20260329T190307Z
UID:10092767-1780079400-1780083000@thecomedybureau.com
SUMMARY:Character Counts Open Mic @ The PIT NYC
DESCRIPTION:For character work only\nSign-up 6PM ET\nStarts 6:30PM ET\n5 min.\n$5 cash
URL:https://thecomedybureau.com/show/character-counts-open-mic-the-pit-nyc/2026-05-29/
LOCATION:The PIT\, 123 East 24th Street\, New York\, NY\, 10010\, United States
CATEGORIES:Character Mic,New York Open Mics,Open Mic
GEO:40.7405602;-73.984683
X-APPLE-STRUCTURED-LOCATION;VALUE=URI;X-ADDRESS=The PIT 123 East 24th Street New York NY 10010 United States;X-APPLE-RADIUS=500;X-TITLE=123 East 24th Street:geo:-73.984683,40.7405602
END:VEVENT
BEGIN:VEVENT
DTSTART;TZID=America/New_York:20260605T183000
DTEND;TZID=America/New_York:20260605T193000
DTSTAMP:20260421T154757
CREATED:20250428T180202Z
LAST-MODIFIED:20260329T190307Z
UID:10092768-1780684200-1780687800@thecomedybureau.com
SUMMARY:Character Counts Open Mic @ The PIT NYC
DESCRIPTION:For character work only\nSign-up 6PM ET\nStarts 6:30PM ET\n5 min.\n$5 cash
URL:https://thecomedybureau.com/show/character-counts-open-mic-the-pit-nyc/2026-06-05/
LOCATION:The PIT\, 123 East 24th Street\, New York\, NY\, 10010\, United States
CATEGORIES:Character Mic,New York Open Mics,Open Mic
GEO:40.7405602;-73.984683
X-APPLE-STRUCTURED-LOCATION;VALUE=URI;X-ADDRESS=The PIT 123 East 24th Street New York NY 10010 United States;X-APPLE-RADIUS=500;X-TITLE=123 East 24th Street:geo:-73.984683,40.7405602
END:VEVENT
BEGIN:VEVENT
DTSTART;TZID=America/New_York:20260612T183000
DTEND;TZID=America/New_York:20260612T193000
DTSTAMP:20260421T154757
CREATED:20250428T180202Z
LAST-MODIFIED:20260329T190307Z
UID:10092769-1781289000-1781292600@thecomedybureau.com
SUMMARY:Character Counts Open Mic @ The PIT NYC
DESCRIPTION:For character work only\nSign-up 6PM ET\nStarts 6:30PM ET\n5 min.\n$5 cash
URL:https://thecomedybureau.com/show/character-counts-open-mic-the-pit-nyc/2026-06-12/
LOCATION:The PIT\, 123 East 24th Street\, New York\, NY\, 10010\, United States
CATEGORIES:Character Mic,New York Open Mics,Open Mic
GEO:40.7405602;-73.984683
X-APPLE-STRUCTURED-LOCATION;VALUE=URI;X-ADDRESS=The PIT 123 East 24th Street New York NY 10010 United States;X-APPLE-RADIUS=500;X-TITLE=123 East 24th Street:geo:-73.984683,40.7405602
END:VEVENT
BEGIN:VEVENT
DTSTART;TZID=America/New_York:20260619T183000
DTEND;TZID=America/New_York:20260619T193000
DTSTAMP:20260421T154757
CREATED:20250428T180202Z
LAST-MODIFIED:20260329T190307Z
UID:10092770-1781893800-1781897400@thecomedybureau.com
SUMMARY:Character Counts Open Mic @ The PIT NYC
DESCRIPTION:For character work only\nSign-up 6PM ET\nStarts 6:30PM ET\n5 min.\n$5 cash
URL:https://thecomedybureau.com/show/character-counts-open-mic-the-pit-nyc/2026-06-19/
LOCATION:The PIT\, 123 East 24th Street\, New York\, NY\, 10010\, United States
CATEGORIES:Character Mic,New York Open Mics,Open Mic
GEO:40.7405602;-73.984683
X-APPLE-STRUCTURED-LOCATION;VALUE=URI;X-ADDRESS=The PIT 123 East 24th Street New York NY 10010 United States;X-APPLE-RADIUS=500;X-TITLE=123 East 24th Street:geo:-73.984683,40.7405602
END:VEVENT
BEGIN:VEVENT
DTSTART;TZID=America/New_York:20260626T183000
DTEND;TZID=America/New_York:20260626T193000
DTSTAMP:20260421T154757
CREATED:20250428T180202Z
LAST-MODIFIED:20260329T190307Z
UID:10092771-1782498600-1782502200@thecomedybureau.com
SUMMARY:Character Counts Open Mic @ The PIT NYC
DESCRIPTION:For character work only\nSign-up 6PM ET\nStarts 6:30PM ET\n5 min.\n$5 cash
URL:https://thecomedybureau.com/show/character-counts-open-mic-the-pit-nyc/2026-06-26/
LOCATION:The PIT\, 123 East 24th Street\, New York\, NY\, 10010\, United States
CATEGORIES:Character Mic,New York Open Mics,Open Mic
GEO:40.7405602;-73.984683
X-APPLE-STRUCTURED-LOCATION;VALUE=URI;X-ADDRESS=The PIT 123 East 24th Street New York NY 10010 United States;X-APPLE-RADIUS=500;X-TITLE=123 East 24th Street:geo:-73.984683,40.7405602
END:VEVENT
END:VCALENDAR