BEGIN:VCALENDAR
VERSION:2.0
PRODID:-//The Comedy Bureau - ECPv6.15.18//NONSGML v1.0//EN
CALSCALE:GREGORIAN
METHOD:PUBLISH
X-WR-CALNAME:The Comedy Bureau
X-ORIGINAL-URL:https://thecomedybureau.com
X-WR-CALDESC:Events for The Comedy Bureau
REFRESH-INTERVAL;VALUE=DURATION:PT1H
X-Robots-Tag:noindex
X-PUBLISHED-TTL:PT1H
BEGIN:VTIMEZONE
TZID:America/Los_Angeles
BEGIN:DAYLIGHT
TZOFFSETFROM:-0800
TZOFFSETTO:-0700
TZNAME:PDT
DTSTART:20250309T100000
END:DAYLIGHT
BEGIN:STANDARD
TZOFFSETFROM:-0700
TZOFFSETTO:-0800
TZNAME:PST
DTSTART:20251102T090000
END:STANDARD
BEGIN:DAYLIGHT
TZOFFSETFROM:-0800
TZOFFSETTO:-0700
TZNAME:PDT
DTSTART:20260308T100000
END:DAYLIGHT
BEGIN:STANDARD
TZOFFSETFROM:-0700
TZOFFSETTO:-0800
TZNAME:PST
DTSTART:20261101T090000
END:STANDARD
BEGIN:DAYLIGHT
TZOFFSETFROM:-0800
TZOFFSETTO:-0700
TZNAME:PDT
DTSTART:20270314T100000
END:DAYLIGHT
BEGIN:STANDARD
TZOFFSETFROM:-0700
TZOFFSETTO:-0800
TZNAME:PST
DTSTART:20271107T090000
END:STANDARD
END:VTIMEZONE
BEGIN:VEVENT
DTSTART;TZID=America/Los_Angeles:20260424T173000
DTEND;TZID=America/Los_Angeles:20260424T190000
DTSTAMP:20260421T195208
CREATED:20241230T023008Z
LAST-MODIFIED:20260329T000728Z
UID:10091832-1777051800-1777057200@thecomedybureau.com
SUMMARY:A Proppa Laff: Women and Queer Mic @ The Elysian (in LA)
DESCRIPTION:Sign-up 5:15PM PT\nStarts 5:30PM PT\nFor female identifying and queer performers only\n3 min.\nLottery\nHosted by Dani Lyle and Sahana Srinivasan
URL:https://thecomedybureau.com/show/a-proppa-laff-the-elysian-in-la/2026-04-24/
LOCATION:The Elysian\, 1944 Riverside Drive\, Los Angeles\, CA\, 90039\, United States
CATEGORIES:Los Angeles Open Mics,Open Mic
GEO:34.0979699;-118.2479957
X-APPLE-STRUCTURED-LOCATION;VALUE=URI;X-ADDRESS=The Elysian 1944 Riverside Drive Los Angeles CA 90039 United States;X-APPLE-RADIUS=500;X-TITLE=1944 Riverside Drive:geo:-118.2479957,34.0979699
END:VEVENT
BEGIN:VEVENT
DTSTART;TZID=America/Los_Angeles:20260501T173000
DTEND;TZID=America/Los_Angeles:20260501T190000
DTSTAMP:20260421T195208
CREATED:20241230T023008Z
LAST-MODIFIED:20260329T000728Z
UID:10091833-1777656600-1777662000@thecomedybureau.com
SUMMARY:A Proppa Laff: Women and Queer Mic @ The Elysian (in LA)
DESCRIPTION:Sign-up 5:15PM PT\nStarts 5:30PM PT\nFor female identifying and queer performers only\n3 min.\nLottery\nHosted by Dani Lyle and Sahana Srinivasan
URL:https://thecomedybureau.com/show/a-proppa-laff-the-elysian-in-la/2026-05-01/
LOCATION:The Elysian\, 1944 Riverside Drive\, Los Angeles\, CA\, 90039\, United States
CATEGORIES:Los Angeles Open Mics,Open Mic
GEO:34.0979699;-118.2479957
X-APPLE-STRUCTURED-LOCATION;VALUE=URI;X-ADDRESS=The Elysian 1944 Riverside Drive Los Angeles CA 90039 United States;X-APPLE-RADIUS=500;X-TITLE=1944 Riverside Drive:geo:-118.2479957,34.0979699
END:VEVENT
BEGIN:VEVENT
DTSTART;TZID=America/Los_Angeles:20260508T173000
DTEND;TZID=America/Los_Angeles:20260508T190000
DTSTAMP:20260421T195208
CREATED:20241230T023008Z
LAST-MODIFIED:20260329T000728Z
UID:10091834-1778261400-1778266800@thecomedybureau.com
SUMMARY:A Proppa Laff: Women and Queer Mic @ The Elysian (in LA)
DESCRIPTION:Sign-up 5:15PM PT\nStarts 5:30PM PT\nFor female identifying and queer performers only\n3 min.\nLottery\nHosted by Dani Lyle and Sahana Srinivasan
URL:https://thecomedybureau.com/show/a-proppa-laff-the-elysian-in-la/2026-05-08/
LOCATION:The Elysian\, 1944 Riverside Drive\, Los Angeles\, CA\, 90039\, United States
CATEGORIES:Los Angeles Open Mics,Open Mic
GEO:34.0979699;-118.2479957
X-APPLE-STRUCTURED-LOCATION;VALUE=URI;X-ADDRESS=The Elysian 1944 Riverside Drive Los Angeles CA 90039 United States;X-APPLE-RADIUS=500;X-TITLE=1944 Riverside Drive:geo:-118.2479957,34.0979699
END:VEVENT
BEGIN:VEVENT
DTSTART;TZID=America/Los_Angeles:20260515T173000
DTEND;TZID=America/Los_Angeles:20260515T190000
DTSTAMP:20260421T195208
CREATED:20241230T023008Z
LAST-MODIFIED:20260329T000728Z
UID:10091835-1778866200-1778871600@thecomedybureau.com
SUMMARY:A Proppa Laff: Women and Queer Mic @ The Elysian (in LA)
DESCRIPTION:Sign-up 5:15PM PT\nStarts 5:30PM PT\nFor female identifying and queer performers only\n3 min.\nLottery\nHosted by Dani Lyle and Sahana Srinivasan
URL:https://thecomedybureau.com/show/a-proppa-laff-the-elysian-in-la/2026-05-15/
LOCATION:The Elysian\, 1944 Riverside Drive\, Los Angeles\, CA\, 90039\, United States
CATEGORIES:Los Angeles Open Mics,Open Mic
GEO:34.0979699;-118.2479957
X-APPLE-STRUCTURED-LOCATION;VALUE=URI;X-ADDRESS=The Elysian 1944 Riverside Drive Los Angeles CA 90039 United States;X-APPLE-RADIUS=500;X-TITLE=1944 Riverside Drive:geo:-118.2479957,34.0979699
END:VEVENT
BEGIN:VEVENT
DTSTART;TZID=America/Los_Angeles:20260522T173000
DTEND;TZID=America/Los_Angeles:20260522T190000
DTSTAMP:20260421T195208
CREATED:20241230T023008Z
LAST-MODIFIED:20260329T000728Z
UID:10091836-1779471000-1779476400@thecomedybureau.com
SUMMARY:A Proppa Laff: Women and Queer Mic @ The Elysian (in LA)
DESCRIPTION:Sign-up 5:15PM PT\nStarts 5:30PM PT\nFor female identifying and queer performers only\n3 min.\nLottery\nHosted by Dani Lyle and Sahana Srinivasan
URL:https://thecomedybureau.com/show/a-proppa-laff-the-elysian-in-la/2026-05-22/
LOCATION:The Elysian\, 1944 Riverside Drive\, Los Angeles\, CA\, 90039\, United States
CATEGORIES:Los Angeles Open Mics,Open Mic
GEO:34.0979699;-118.2479957
X-APPLE-STRUCTURED-LOCATION;VALUE=URI;X-ADDRESS=The Elysian 1944 Riverside Drive Los Angeles CA 90039 United States;X-APPLE-RADIUS=500;X-TITLE=1944 Riverside Drive:geo:-118.2479957,34.0979699
END:VEVENT
BEGIN:VEVENT
DTSTART;TZID=America/Los_Angeles:20260529T173000
DTEND;TZID=America/Los_Angeles:20260529T190000
DTSTAMP:20260421T195208
CREATED:20241230T023008Z
LAST-MODIFIED:20260329T000728Z
UID:10091837-1780075800-1780081200@thecomedybureau.com
SUMMARY:A Proppa Laff: Women and Queer Mic @ The Elysian (in LA)
DESCRIPTION:Sign-up 5:15PM PT\nStarts 5:30PM PT\nFor female identifying and queer performers only\n3 min.\nLottery\nHosted by Dani Lyle and Sahana Srinivasan
URL:https://thecomedybureau.com/show/a-proppa-laff-the-elysian-in-la/2026-05-29/
LOCATION:The Elysian\, 1944 Riverside Drive\, Los Angeles\, CA\, 90039\, United States
CATEGORIES:Los Angeles Open Mics,Open Mic
GEO:34.0979699;-118.2479957
X-APPLE-STRUCTURED-LOCATION;VALUE=URI;X-ADDRESS=The Elysian 1944 Riverside Drive Los Angeles CA 90039 United States;X-APPLE-RADIUS=500;X-TITLE=1944 Riverside Drive:geo:-118.2479957,34.0979699
END:VEVENT
BEGIN:VEVENT
DTSTART;TZID=America/Los_Angeles:20260605T173000
DTEND;TZID=America/Los_Angeles:20260605T190000
DTSTAMP:20260421T195208
CREATED:20241230T023008Z
LAST-MODIFIED:20260329T000728Z
UID:10091838-1780680600-1780686000@thecomedybureau.com
SUMMARY:A Proppa Laff: Women and Queer Mic @ The Elysian (in LA)
DESCRIPTION:Sign-up 5:15PM PT\nStarts 5:30PM PT\nFor female identifying and queer performers only\n3 min.\nLottery\nHosted by Dani Lyle and Sahana Srinivasan
URL:https://thecomedybureau.com/show/a-proppa-laff-the-elysian-in-la/2026-06-05/
LOCATION:The Elysian\, 1944 Riverside Drive\, Los Angeles\, CA\, 90039\, United States
CATEGORIES:Los Angeles Open Mics,Open Mic
GEO:34.0979699;-118.2479957
X-APPLE-STRUCTURED-LOCATION;VALUE=URI;X-ADDRESS=The Elysian 1944 Riverside Drive Los Angeles CA 90039 United States;X-APPLE-RADIUS=500;X-TITLE=1944 Riverside Drive:geo:-118.2479957,34.0979699
END:VEVENT
BEGIN:VEVENT
DTSTART;TZID=America/Los_Angeles:20260612T173000
DTEND;TZID=America/Los_Angeles:20260612T190000
DTSTAMP:20260421T195208
CREATED:20241230T023008Z
LAST-MODIFIED:20260329T000728Z
UID:10091839-1781285400-1781290800@thecomedybureau.com
SUMMARY:A Proppa Laff: Women and Queer Mic @ The Elysian (in LA)
DESCRIPTION:Sign-up 5:15PM PT\nStarts 5:30PM PT\nFor female identifying and queer performers only\n3 min.\nLottery\nHosted by Dani Lyle and Sahana Srinivasan
URL:https://thecomedybureau.com/show/a-proppa-laff-the-elysian-in-la/2026-06-12/
LOCATION:The Elysian\, 1944 Riverside Drive\, Los Angeles\, CA\, 90039\, United States
CATEGORIES:Los Angeles Open Mics,Open Mic
GEO:34.0979699;-118.2479957
X-APPLE-STRUCTURED-LOCATION;VALUE=URI;X-ADDRESS=The Elysian 1944 Riverside Drive Los Angeles CA 90039 United States;X-APPLE-RADIUS=500;X-TITLE=1944 Riverside Drive:geo:-118.2479957,34.0979699
END:VEVENT
BEGIN:VEVENT
DTSTART;TZID=America/Los_Angeles:20260619T173000
DTEND;TZID=America/Los_Angeles:20260619T190000
DTSTAMP:20260421T195208
CREATED:20241230T023008Z
LAST-MODIFIED:20260329T000728Z
UID:10091840-1781890200-1781895600@thecomedybureau.com
SUMMARY:A Proppa Laff: Women and Queer Mic @ The Elysian (in LA)
DESCRIPTION:Sign-up 5:15PM PT\nStarts 5:30PM PT\nFor female identifying and queer performers only\n3 min.\nLottery\nHosted by Dani Lyle and Sahana Srinivasan
URL:https://thecomedybureau.com/show/a-proppa-laff-the-elysian-in-la/2026-06-19/
LOCATION:The Elysian\, 1944 Riverside Drive\, Los Angeles\, CA\, 90039\, United States
CATEGORIES:Los Angeles Open Mics,Open Mic
GEO:34.0979699;-118.2479957
X-APPLE-STRUCTURED-LOCATION;VALUE=URI;X-ADDRESS=The Elysian 1944 Riverside Drive Los Angeles CA 90039 United States;X-APPLE-RADIUS=500;X-TITLE=1944 Riverside Drive:geo:-118.2479957,34.0979699
END:VEVENT
BEGIN:VEVENT
DTSTART;TZID=America/Los_Angeles:20260626T173000
DTEND;TZID=America/Los_Angeles:20260626T190000
DTSTAMP:20260421T195208
CREATED:20241230T023008Z
LAST-MODIFIED:20260329T000728Z
UID:10091841-1782495000-1782500400@thecomedybureau.com
SUMMARY:A Proppa Laff: Women and Queer Mic @ The Elysian (in LA)
DESCRIPTION:Sign-up 5:15PM PT\nStarts 5:30PM PT\nFor female identifying and queer performers only\n3 min.\nLottery\nHosted by Dani Lyle and Sahana Srinivasan
URL:https://thecomedybureau.com/show/a-proppa-laff-the-elysian-in-la/2026-06-26/
LOCATION:The Elysian\, 1944 Riverside Drive\, Los Angeles\, CA\, 90039\, United States
CATEGORIES:Los Angeles Open Mics,Open Mic
GEO:34.0979699;-118.2479957
X-APPLE-STRUCTURED-LOCATION;VALUE=URI;X-ADDRESS=The Elysian 1944 Riverside Drive Los Angeles CA 90039 United States;X-APPLE-RADIUS=500;X-TITLE=1944 Riverside Drive:geo:-118.2479957,34.0979699
END:VEVENT
END:VCALENDAR