BEGIN:VCALENDAR
VERSION:2.0
PRODID:-//The Comedy Bureau - ECPv6.15.18//NONSGML v1.0//EN
CALSCALE:GREGORIAN
METHOD:PUBLISH
X-WR-CALNAME:The Comedy Bureau
X-ORIGINAL-URL:https://thecomedybureau.com
X-WR-CALDESC:Events for The Comedy Bureau
REFRESH-INTERVAL;VALUE=DURATION:PT1H
X-Robots-Tag:noindex
X-PUBLISHED-TTL:PT1H
BEGIN:VTIMEZONE
TZID:America/New_York
BEGIN:DAYLIGHT
TZOFFSETFROM:-0500
TZOFFSETTO:-0400
TZNAME:EDT
DTSTART:20250309T070000
END:DAYLIGHT
BEGIN:STANDARD
TZOFFSETFROM:-0400
TZOFFSETTO:-0500
TZNAME:EST
DTSTART:20251102T060000
END:STANDARD
BEGIN:DAYLIGHT
TZOFFSETFROM:-0500
TZOFFSETTO:-0400
TZNAME:EDT
DTSTART:20260308T070000
END:DAYLIGHT
BEGIN:STANDARD
TZOFFSETFROM:-0400
TZOFFSETTO:-0500
TZNAME:EST
DTSTART:20261101T060000
END:STANDARD
BEGIN:DAYLIGHT
TZOFFSETFROM:-0500
TZOFFSETTO:-0400
TZNAME:EDT
DTSTART:20270314T070000
END:DAYLIGHT
BEGIN:STANDARD
TZOFFSETFROM:-0400
TZOFFSETTO:-0500
TZNAME:EST
DTSTART:20271107T060000
END:STANDARD
END:VTIMEZONE
BEGIN:VEVENT
DTSTART;TZID=America/New_York:20260420T193000
DTEND;TZID=America/New_York:20260420T210000
DTSTAMP:20260420T140114
CREATED:20240909T151025Z
LAST-MODIFIED:20260412T010422Z
UID:10048271-1776713400-1776718800@thecomedybureau.com
SUMMARY:Frankenstein’s Baby (in NYC)
DESCRIPTION:From the people who brought you Butterboy comes a new stand-up show featuring an electrifying combination of familiar faces and new favorites. \nWith rotating hosts Josh Gondelman\, Joyelle Nicole Johnson\, Alison Leiby\, and Tyrone Thornhill \nmusic from Donwill \nWith special guests TBA \n\nStarts 7:30PM PT
URL:https://thecomedybureau.com/show/frankensteins-baby-in-nyc/
LOCATION:Union Hall\, 702 Union Street\, Brooklyn\, NY\, 11215\, United States
CATEGORIES:Comedy Show,New York Shows,Stand Up
GEO:40.6760416;-73.9801333
X-APPLE-STRUCTURED-LOCATION;VALUE=URI;X-ADDRESS=Union Hall 702 Union Street Brooklyn NY 11215 United States;X-APPLE-RADIUS=500;X-TITLE=702 Union Street:geo:-73.9801333,40.6760416
END:VEVENT
END:VCALENDAR