BEGIN:VCALENDAR
VERSION:2.0
PRODID:-//The Comedy Bureau - ECPv6.15.18//NONSGML v1.0//EN
CALSCALE:GREGORIAN
METHOD:PUBLISH
X-WR-CALNAME:The Comedy Bureau
X-ORIGINAL-URL:https://thecomedybureau.com
X-WR-CALDESC:Events for The Comedy Bureau
REFRESH-INTERVAL;VALUE=DURATION:PT1H
X-Robots-Tag:noindex
X-PUBLISHED-TTL:PT1H
BEGIN:VTIMEZONE
TZID:America/Los_Angeles
BEGIN:DAYLIGHT
TZOFFSETFROM:-0800
TZOFFSETTO:-0700
TZNAME:PDT
DTSTART:20250309T100000
END:DAYLIGHT
BEGIN:STANDARD
TZOFFSETFROM:-0700
TZOFFSETTO:-0800
TZNAME:PST
DTSTART:20251102T090000
END:STANDARD
BEGIN:DAYLIGHT
TZOFFSETFROM:-0800
TZOFFSETTO:-0700
TZNAME:PDT
DTSTART:20260308T100000
END:DAYLIGHT
BEGIN:STANDARD
TZOFFSETFROM:-0700
TZOFFSETTO:-0800
TZNAME:PST
DTSTART:20261101T090000
END:STANDARD
BEGIN:DAYLIGHT
TZOFFSETFROM:-0800
TZOFFSETTO:-0700
TZNAME:PDT
DTSTART:20270314T100000
END:DAYLIGHT
BEGIN:STANDARD
TZOFFSETFROM:-0700
TZOFFSETTO:-0800
TZNAME:PST
DTSTART:20271107T090000
END:STANDARD
END:VTIMEZONE
BEGIN:VEVENT
DTSTART;TZID=America/Los_Angeles:20260514T213000
DTEND;TZID=America/Los_Angeles:20260514T230000
DTSTAMP:20260420T141554
CREATED:20241217T035347Z
LAST-MODIFIED:20260412T005528Z
UID:10072732-1778794200-1778799600@thecomedybureau.com
SUMMARY:Good Showbiz! w/ Eli Leonard (in LA)
DESCRIPTION:King Of Comedy meets Fiddler On the Roof in GOOD SHOWBIZ\, starring Eli Leonard (Curb Your Enthusiasm)\, as the legendary and magical Showbiz host\, Sandy Synagoguenstein.\nLeonard / Synagoguenstein takes his crowd through space and time to explore Jewish Comedy and Theater throughout the ages in a fearless and provocative piece of experimental\, clown comedy. Together they will laugh at the Jewish Stereotype and earn money along the way. Because Good Showbiz is a show. But it’s also a business. \nWritten by Eli Leonard and Theodore Bressman (Pam & Tommy\, Miracle Workers).\nDirected by Theodore Bressman\nFeaturing Sarah Shtern and Music by Goof \nStarts 9:30PM PT
URL:https://thecomedybureau.com/show/good-showbiz-w-eli-leonard-in-la-2/
LOCATION:The Elysian\, 1944 Riverside Drive\, Los Angeles\, CA\, 90039\, United States
CATEGORIES:Clowning,Comedy Show,Los Angeles Shows,Solo Show
GEO:34.0979699;-118.2479957
X-APPLE-STRUCTURED-LOCATION;VALUE=URI;X-ADDRESS=The Elysian 1944 Riverside Drive Los Angeles CA 90039 United States;X-APPLE-RADIUS=500;X-TITLE=1944 Riverside Drive:geo:-118.2479957,34.0979699
END:VEVENT
END:VCALENDAR