BEGIN:VCALENDAR
VERSION:2.0
PRODID:-//The Comedy Bureau - ECPv6.15.18//NONSGML v1.0//EN
CALSCALE:GREGORIAN
METHOD:PUBLISH
X-WR-CALNAME:The Comedy Bureau
X-ORIGINAL-URL:https://thecomedybureau.com
X-WR-CALDESC:Events for The Comedy Bureau
REFRESH-INTERVAL;VALUE=DURATION:PT1H
X-Robots-Tag:noindex
X-PUBLISHED-TTL:PT1H
BEGIN:VTIMEZONE
TZID:America/Los_Angeles
BEGIN:DAYLIGHT
TZOFFSETFROM:-0800
TZOFFSETTO:-0700
TZNAME:PDT
DTSTART:20250309T100000
END:DAYLIGHT
BEGIN:STANDARD
TZOFFSETFROM:-0700
TZOFFSETTO:-0800
TZNAME:PST
DTSTART:20251102T090000
END:STANDARD
BEGIN:DAYLIGHT
TZOFFSETFROM:-0800
TZOFFSETTO:-0700
TZNAME:PDT
DTSTART:20260308T100000
END:DAYLIGHT
BEGIN:STANDARD
TZOFFSETFROM:-0700
TZOFFSETTO:-0800
TZNAME:PST
DTSTART:20261101T090000
END:STANDARD
BEGIN:DAYLIGHT
TZOFFSETFROM:-0800
TZOFFSETTO:-0700
TZNAME:PDT
DTSTART:20270314T100000
END:DAYLIGHT
BEGIN:STANDARD
TZOFFSETFROM:-0700
TZOFFSETTO:-0800
TZNAME:PST
DTSTART:20271107T090000
END:STANDARD
END:VTIMEZONE
BEGIN:VEVENT
DTSTART;TZID=America/Los_Angeles:20260420T200000
DTEND;TZID=America/Los_Angeles:20260420T213000
DTSTAMP:20260420T141704
CREATED:20250106T170339Z
LAST-MODIFIED:20260418T003030Z
UID:10083360-1776715200-1776720600@thecomedybureau.com
SUMMARY:The Monday Show (in LA)
DESCRIPTION:Eagle Rock just got a new weekly comedy show. EVERY MONDAY \nFeaturing: Audrey Stewart\, Andrew Orolfo\, Alec Castillo\, Andy Rider\, Merrill Davis\, Joe Daymond \nHosts: Lindsay Adams\, Sam Wiles\, Will Miles\, & Mike Joyce \nStarts 8PM PT
URL:https://thecomedybureau.com/show/cult-classic-in-la-2-2-2-2-3-2-2/2026-04-20/
LOCATION:Señor Fish\, 4803 Eagle Rock Boulevard\, Los Angeles\, CA\, 90041\, United States
CATEGORIES:Comedy Show,Los Angeles Shows,Stand Up
GEO:34.077426;-118.2584934
X-APPLE-STRUCTURED-LOCATION;VALUE=URI;X-ADDRESS=Señor Fish 4803 Eagle Rock Boulevard Los Angeles CA 90041 United States;X-APPLE-RADIUS=500;X-TITLE=4803 Eagle Rock Boulevard:geo:-118.2584934,34.077426
END:VEVENT
BEGIN:VEVENT
DTSTART;TZID=America/Los_Angeles:20260427T200000
DTEND;TZID=America/Los_Angeles:20260427T213000
DTSTAMP:20260420T141704
CREATED:20250106T170339Z
LAST-MODIFIED:20260418T003030Z
UID:10094878-1777320000-1777325400@thecomedybureau.com
SUMMARY:The Monday Show (in LA)
DESCRIPTION:Eagle Rock just got a new weekly comedy show. EVERY MONDAY \nFeaturing: Audrey Stewart\, Andrew Orolfo\, Alec Castillo\, Andy Rider\, Merrill Davis\, Joe Daymond \nHosts: Lindsay Adams\, Sam Wiles\, Will Miles\, & Mike Joyce \nStarts 8PM PT
URL:https://thecomedybureau.com/show/cult-classic-in-la-2-2-2-2-3-2-2/2026-04-27/
LOCATION:Señor Fish\, 4803 Eagle Rock Boulevard\, Los Angeles\, CA\, 90041\, United States
CATEGORIES:Comedy Show,Los Angeles Shows,Stand Up
GEO:34.077426;-118.2584934
X-APPLE-STRUCTURED-LOCATION;VALUE=URI;X-ADDRESS=Señor Fish 4803 Eagle Rock Boulevard Los Angeles CA 90041 United States;X-APPLE-RADIUS=500;X-TITLE=4803 Eagle Rock Boulevard:geo:-118.2584934,34.077426
END:VEVENT
BEGIN:VEVENT
DTSTART;TZID=America/Los_Angeles:20260504T200000
DTEND;TZID=America/Los_Angeles:20260504T213000
DTSTAMP:20260420T141704
CREATED:20250106T170339Z
LAST-MODIFIED:20260418T003030Z
UID:10094879-1777924800-1777930200@thecomedybureau.com
SUMMARY:The Monday Show (in LA)
DESCRIPTION:Eagle Rock just got a new weekly comedy show. EVERY MONDAY \nFeaturing: Audrey Stewart\, Andrew Orolfo\, Alec Castillo\, Andy Rider\, Merrill Davis\, Joe Daymond \nHosts: Lindsay Adams\, Sam Wiles\, Will Miles\, & Mike Joyce \nStarts 8PM PT
URL:https://thecomedybureau.com/show/cult-classic-in-la-2-2-2-2-3-2-2/2026-05-04/
LOCATION:Señor Fish\, 4803 Eagle Rock Boulevard\, Los Angeles\, CA\, 90041\, United States
CATEGORIES:Comedy Show,Los Angeles Shows,Stand Up
GEO:34.077426;-118.2584934
X-APPLE-STRUCTURED-LOCATION;VALUE=URI;X-ADDRESS=Señor Fish 4803 Eagle Rock Boulevard Los Angeles CA 90041 United States;X-APPLE-RADIUS=500;X-TITLE=4803 Eagle Rock Boulevard:geo:-118.2584934,34.077426
END:VEVENT
BEGIN:VEVENT
DTSTART;TZID=America/Los_Angeles:20260511T200000
DTEND;TZID=America/Los_Angeles:20260511T213000
DTSTAMP:20260420T141704
CREATED:20250106T170339Z
LAST-MODIFIED:20260418T003030Z
UID:10094880-1778529600-1778535000@thecomedybureau.com
SUMMARY:The Monday Show (in LA)
DESCRIPTION:Eagle Rock just got a new weekly comedy show. EVERY MONDAY \nFeaturing: Audrey Stewart\, Andrew Orolfo\, Alec Castillo\, Andy Rider\, Merrill Davis\, Joe Daymond \nHosts: Lindsay Adams\, Sam Wiles\, Will Miles\, & Mike Joyce \nStarts 8PM PT
URL:https://thecomedybureau.com/show/cult-classic-in-la-2-2-2-2-3-2-2/2026-05-11/
LOCATION:Señor Fish\, 4803 Eagle Rock Boulevard\, Los Angeles\, CA\, 90041\, United States
CATEGORIES:Comedy Show,Los Angeles Shows,Stand Up
GEO:34.077426;-118.2584934
X-APPLE-STRUCTURED-LOCATION;VALUE=URI;X-ADDRESS=Señor Fish 4803 Eagle Rock Boulevard Los Angeles CA 90041 United States;X-APPLE-RADIUS=500;X-TITLE=4803 Eagle Rock Boulevard:geo:-118.2584934,34.077426
END:VEVENT
END:VCALENDAR