BEGIN:VCALENDAR
VERSION:2.0
PRODID:-//The Comedy Bureau - ECPv6.15.18//NONSGML v1.0//EN
CALSCALE:GREGORIAN
METHOD:PUBLISH
X-WR-CALNAME:The Comedy Bureau
X-ORIGINAL-URL:https://thecomedybureau.com
X-WR-CALDESC:Events for The Comedy Bureau
REFRESH-INTERVAL;VALUE=DURATION:PT1H
X-Robots-Tag:noindex
X-PUBLISHED-TTL:PT1H
BEGIN:VTIMEZONE
TZID:America/New_York
BEGIN:DAYLIGHT
TZOFFSETFROM:-0500
TZOFFSETTO:-0400
TZNAME:EDT
DTSTART:20250309T070000
END:DAYLIGHT
BEGIN:STANDARD
TZOFFSETFROM:-0400
TZOFFSETTO:-0500
TZNAME:EST
DTSTART:20251102T060000
END:STANDARD
BEGIN:DAYLIGHT
TZOFFSETFROM:-0500
TZOFFSETTO:-0400
TZNAME:EDT
DTSTART:20260308T070000
END:DAYLIGHT
BEGIN:STANDARD
TZOFFSETFROM:-0400
TZOFFSETTO:-0500
TZNAME:EST
DTSTART:20261101T060000
END:STANDARD
BEGIN:DAYLIGHT
TZOFFSETFROM:-0500
TZOFFSETTO:-0400
TZNAME:EDT
DTSTART:20270314T070000
END:DAYLIGHT
BEGIN:STANDARD
TZOFFSETFROM:-0400
TZOFFSETTO:-0500
TZNAME:EST
DTSTART:20271107T060000
END:STANDARD
END:VTIMEZONE
BEGIN:VEVENT
DTSTART;TZID=America/New_York:20260502T214500
DTEND;TZID=America/New_York:20260502T233000
DTSTAMP:20260425T034315
CREATED:20221231T164539Z
LAST-MODIFIED:20260412T235714Z
UID:10003171-1777758300-1777764600@thecomedybureau.com
SUMMARY:Jerrod Carmichael On Stage In Brooklyn (in NYC)
DESCRIPTION:Jerrod Carmichael is an Emmy-winning comedian from Winston-Salem\, NC. His most recent special\, Rothaniel\, can be streamed on HBO Max. \nStarts 9:45PM ET
URL:https://thecomedybureau.com/show/jerrod-carmichael-live-no-phones-this-didnt-happen-in-nyc/
LOCATION:The Bell House\, 149 7th Street\, Brooklyn\, NY\, 11215\, United States
CATEGORIES:Comedy Show,New York Shows,Stand Up
GEO:40.6737185;-73.9916803
X-APPLE-STRUCTURED-LOCATION;VALUE=URI;X-ADDRESS=The Bell House 149 7th Street Brooklyn NY 11215 United States;X-APPLE-RADIUS=500;X-TITLE=149 7th Street:geo:-73.9916803,40.6737185
END:VEVENT
END:VCALENDAR