BEGIN:VCALENDAR
VERSION:2.0
PRODID:-//The Comedy Bureau - ECPv6.15.18//NONSGML v1.0//EN
CALSCALE:GREGORIAN
METHOD:PUBLISH
X-WR-CALNAME:The Comedy Bureau
X-ORIGINAL-URL:https://thecomedybureau.com
X-WR-CALDESC:Events for The Comedy Bureau
REFRESH-INTERVAL;VALUE=DURATION:PT1H
X-Robots-Tag:noindex
X-PUBLISHED-TTL:PT1H
BEGIN:VTIMEZONE
TZID:America/Los_Angeles
BEGIN:DAYLIGHT
TZOFFSETFROM:-0800
TZOFFSETTO:-0700
TZNAME:PDT
DTSTART:20250309T100000
END:DAYLIGHT
BEGIN:STANDARD
TZOFFSETFROM:-0700
TZOFFSETTO:-0800
TZNAME:PST
DTSTART:20251102T090000
END:STANDARD
BEGIN:DAYLIGHT
TZOFFSETFROM:-0800
TZOFFSETTO:-0700
TZNAME:PDT
DTSTART:20260308T100000
END:DAYLIGHT
BEGIN:STANDARD
TZOFFSETFROM:-0700
TZOFFSETTO:-0800
TZNAME:PST
DTSTART:20261101T090000
END:STANDARD
BEGIN:DAYLIGHT
TZOFFSETFROM:-0800
TZOFFSETTO:-0700
TZNAME:PDT
DTSTART:20270314T100000
END:DAYLIGHT
BEGIN:STANDARD
TZOFFSETFROM:-0700
TZOFFSETTO:-0800
TZNAME:PST
DTSTART:20271107T090000
END:STANDARD
END:VTIMEZONE
BEGIN:VEVENT
DTSTART;TZID=America/Los_Angeles:20260425T180000
DTEND;TZID=America/Los_Angeles:20260425T193000
DTSTAMP:20260420T202100
CREATED:20250227T184650Z
LAST-MODIFIED:20260329T000022Z
UID:10091767-1777140000-1777145400@thecomedybureau.com
SUMMARY:The Witching Hour: A Female and Nonbinary Mic @ Westside Comedy Theater (in LA)
DESCRIPTION:Sign up sheet goes live every Wednesday @ 10AM PT HERE\n$3 for 3 mins\nFor women and non-binary performers
URL:https://thecomedybureau.com/show/the-witching-hour-a-female-and-nonbinary-mic-in-la-2-2-2-2/2026-04-25/
LOCATION:Westside Comedy Theater\, 1323-A 3rd Sreet\, Santa Monica\, CA\, 90401\, United States
CATEGORIES:Los Angeles Open Mics,Open Mic
GEO:34.0167638;-118.4968777
X-APPLE-STRUCTURED-LOCATION;VALUE=URI;X-ADDRESS=Westside Comedy Theater 1323-A 3rd Sreet Santa Monica CA 90401 United States;X-APPLE-RADIUS=500;X-TITLE=1323-A 3rd Sreet:geo:-118.4968777,34.0167638
END:VEVENT
BEGIN:VEVENT
DTSTART;TZID=America/Los_Angeles:20260502T180000
DTEND;TZID=America/Los_Angeles:20260502T193000
DTSTAMP:20260420T202100
CREATED:20250227T184650Z
LAST-MODIFIED:20260329T000022Z
UID:10091768-1777744800-1777750200@thecomedybureau.com
SUMMARY:The Witching Hour: A Female and Nonbinary Mic @ Westside Comedy Theater (in LA)
DESCRIPTION:Sign up sheet goes live every Wednesday @ 10AM PT HERE\n$3 for 3 mins\nFor women and non-binary performers
URL:https://thecomedybureau.com/show/the-witching-hour-a-female-and-nonbinary-mic-in-la-2-2-2-2/2026-05-02/
LOCATION:Westside Comedy Theater\, 1323-A 3rd Sreet\, Santa Monica\, CA\, 90401\, United States
CATEGORIES:Los Angeles Open Mics,Open Mic
GEO:34.0167638;-118.4968777
X-APPLE-STRUCTURED-LOCATION;VALUE=URI;X-ADDRESS=Westside Comedy Theater 1323-A 3rd Sreet Santa Monica CA 90401 United States;X-APPLE-RADIUS=500;X-TITLE=1323-A 3rd Sreet:geo:-118.4968777,34.0167638
END:VEVENT
BEGIN:VEVENT
DTSTART;TZID=America/Los_Angeles:20260509T180000
DTEND;TZID=America/Los_Angeles:20260509T193000
DTSTAMP:20260420T202100
CREATED:20250227T184650Z
LAST-MODIFIED:20260329T000022Z
UID:10091769-1778349600-1778355000@thecomedybureau.com
SUMMARY:The Witching Hour: A Female and Nonbinary Mic @ Westside Comedy Theater (in LA)
DESCRIPTION:Sign up sheet goes live every Wednesday @ 10AM PT HERE\n$3 for 3 mins\nFor women and non-binary performers
URL:https://thecomedybureau.com/show/the-witching-hour-a-female-and-nonbinary-mic-in-la-2-2-2-2/2026-05-09/
LOCATION:Westside Comedy Theater\, 1323-A 3rd Sreet\, Santa Monica\, CA\, 90401\, United States
CATEGORIES:Los Angeles Open Mics,Open Mic
GEO:34.0167638;-118.4968777
X-APPLE-STRUCTURED-LOCATION;VALUE=URI;X-ADDRESS=Westside Comedy Theater 1323-A 3rd Sreet Santa Monica CA 90401 United States;X-APPLE-RADIUS=500;X-TITLE=1323-A 3rd Sreet:geo:-118.4968777,34.0167638
END:VEVENT
BEGIN:VEVENT
DTSTART;TZID=America/Los_Angeles:20260516T180000
DTEND;TZID=America/Los_Angeles:20260516T193000
DTSTAMP:20260420T202100
CREATED:20250227T184650Z
LAST-MODIFIED:20260329T000022Z
UID:10091770-1778954400-1778959800@thecomedybureau.com
SUMMARY:The Witching Hour: A Female and Nonbinary Mic @ Westside Comedy Theater (in LA)
DESCRIPTION:Sign up sheet goes live every Wednesday @ 10AM PT HERE\n$3 for 3 mins\nFor women and non-binary performers
URL:https://thecomedybureau.com/show/the-witching-hour-a-female-and-nonbinary-mic-in-la-2-2-2-2/2026-05-16/
LOCATION:Westside Comedy Theater\, 1323-A 3rd Sreet\, Santa Monica\, CA\, 90401\, United States
CATEGORIES:Los Angeles Open Mics,Open Mic
GEO:34.0167638;-118.4968777
X-APPLE-STRUCTURED-LOCATION;VALUE=URI;X-ADDRESS=Westside Comedy Theater 1323-A 3rd Sreet Santa Monica CA 90401 United States;X-APPLE-RADIUS=500;X-TITLE=1323-A 3rd Sreet:geo:-118.4968777,34.0167638
END:VEVENT
BEGIN:VEVENT
DTSTART;TZID=America/Los_Angeles:20260523T180000
DTEND;TZID=America/Los_Angeles:20260523T193000
DTSTAMP:20260420T202100
CREATED:20250227T184650Z
LAST-MODIFIED:20260329T000022Z
UID:10091771-1779559200-1779564600@thecomedybureau.com
SUMMARY:The Witching Hour: A Female and Nonbinary Mic @ Westside Comedy Theater (in LA)
DESCRIPTION:Sign up sheet goes live every Wednesday @ 10AM PT HERE\n$3 for 3 mins\nFor women and non-binary performers
URL:https://thecomedybureau.com/show/the-witching-hour-a-female-and-nonbinary-mic-in-la-2-2-2-2/2026-05-23/
LOCATION:Westside Comedy Theater\, 1323-A 3rd Sreet\, Santa Monica\, CA\, 90401\, United States
CATEGORIES:Los Angeles Open Mics,Open Mic
GEO:34.0167638;-118.4968777
X-APPLE-STRUCTURED-LOCATION;VALUE=URI;X-ADDRESS=Westside Comedy Theater 1323-A 3rd Sreet Santa Monica CA 90401 United States;X-APPLE-RADIUS=500;X-TITLE=1323-A 3rd Sreet:geo:-118.4968777,34.0167638
END:VEVENT
BEGIN:VEVENT
DTSTART;TZID=America/Los_Angeles:20260530T180000
DTEND;TZID=America/Los_Angeles:20260530T193000
DTSTAMP:20260420T202100
CREATED:20250227T184650Z
LAST-MODIFIED:20260329T000022Z
UID:10091772-1780164000-1780169400@thecomedybureau.com
SUMMARY:The Witching Hour: A Female and Nonbinary Mic @ Westside Comedy Theater (in LA)
DESCRIPTION:Sign up sheet goes live every Wednesday @ 10AM PT HERE\n$3 for 3 mins\nFor women and non-binary performers
URL:https://thecomedybureau.com/show/the-witching-hour-a-female-and-nonbinary-mic-in-la-2-2-2-2/2026-05-30/
LOCATION:Westside Comedy Theater\, 1323-A 3rd Sreet\, Santa Monica\, CA\, 90401\, United States
CATEGORIES:Los Angeles Open Mics,Open Mic
GEO:34.0167638;-118.4968777
X-APPLE-STRUCTURED-LOCATION;VALUE=URI;X-ADDRESS=Westside Comedy Theater 1323-A 3rd Sreet Santa Monica CA 90401 United States;X-APPLE-RADIUS=500;X-TITLE=1323-A 3rd Sreet:geo:-118.4968777,34.0167638
END:VEVENT
BEGIN:VEVENT
DTSTART;TZID=America/Los_Angeles:20260606T180000
DTEND;TZID=America/Los_Angeles:20260606T193000
DTSTAMP:20260420T202100
CREATED:20250227T184650Z
LAST-MODIFIED:20260329T000022Z
UID:10091773-1780768800-1780774200@thecomedybureau.com
SUMMARY:The Witching Hour: A Female and Nonbinary Mic @ Westside Comedy Theater (in LA)
DESCRIPTION:Sign up sheet goes live every Wednesday @ 10AM PT HERE\n$3 for 3 mins\nFor women and non-binary performers
URL:https://thecomedybureau.com/show/the-witching-hour-a-female-and-nonbinary-mic-in-la-2-2-2-2/2026-06-06/
LOCATION:Westside Comedy Theater\, 1323-A 3rd Sreet\, Santa Monica\, CA\, 90401\, United States
CATEGORIES:Los Angeles Open Mics,Open Mic
GEO:34.0167638;-118.4968777
X-APPLE-STRUCTURED-LOCATION;VALUE=URI;X-ADDRESS=Westside Comedy Theater 1323-A 3rd Sreet Santa Monica CA 90401 United States;X-APPLE-RADIUS=500;X-TITLE=1323-A 3rd Sreet:geo:-118.4968777,34.0167638
END:VEVENT
BEGIN:VEVENT
DTSTART;TZID=America/Los_Angeles:20260613T180000
DTEND;TZID=America/Los_Angeles:20260613T193000
DTSTAMP:20260420T202100
CREATED:20250227T184650Z
LAST-MODIFIED:20260329T000022Z
UID:10091774-1781373600-1781379000@thecomedybureau.com
SUMMARY:The Witching Hour: A Female and Nonbinary Mic @ Westside Comedy Theater (in LA)
DESCRIPTION:Sign up sheet goes live every Wednesday @ 10AM PT HERE\n$3 for 3 mins\nFor women and non-binary performers
URL:https://thecomedybureau.com/show/the-witching-hour-a-female-and-nonbinary-mic-in-la-2-2-2-2/2026-06-13/
LOCATION:Westside Comedy Theater\, 1323-A 3rd Sreet\, Santa Monica\, CA\, 90401\, United States
CATEGORIES:Los Angeles Open Mics,Open Mic
GEO:34.0167638;-118.4968777
X-APPLE-STRUCTURED-LOCATION;VALUE=URI;X-ADDRESS=Westside Comedy Theater 1323-A 3rd Sreet Santa Monica CA 90401 United States;X-APPLE-RADIUS=500;X-TITLE=1323-A 3rd Sreet:geo:-118.4968777,34.0167638
END:VEVENT
BEGIN:VEVENT
DTSTART;TZID=America/Los_Angeles:20260620T180000
DTEND;TZID=America/Los_Angeles:20260620T193000
DTSTAMP:20260420T202100
CREATED:20250227T184650Z
LAST-MODIFIED:20260329T000022Z
UID:10091775-1781978400-1781983800@thecomedybureau.com
SUMMARY:The Witching Hour: A Female and Nonbinary Mic @ Westside Comedy Theater (in LA)
DESCRIPTION:Sign up sheet goes live every Wednesday @ 10AM PT HERE\n$3 for 3 mins\nFor women and non-binary performers
URL:https://thecomedybureau.com/show/the-witching-hour-a-female-and-nonbinary-mic-in-la-2-2-2-2/2026-06-20/
LOCATION:Westside Comedy Theater\, 1323-A 3rd Sreet\, Santa Monica\, CA\, 90401\, United States
CATEGORIES:Los Angeles Open Mics,Open Mic
GEO:34.0167638;-118.4968777
X-APPLE-STRUCTURED-LOCATION;VALUE=URI;X-ADDRESS=Westside Comedy Theater 1323-A 3rd Sreet Santa Monica CA 90401 United States;X-APPLE-RADIUS=500;X-TITLE=1323-A 3rd Sreet:geo:-118.4968777,34.0167638
END:VEVENT
BEGIN:VEVENT
DTSTART;TZID=America/Los_Angeles:20260627T180000
DTEND;TZID=America/Los_Angeles:20260627T193000
DTSTAMP:20260420T202100
CREATED:20250227T184650Z
LAST-MODIFIED:20260329T000022Z
UID:10091776-1782583200-1782588600@thecomedybureau.com
SUMMARY:The Witching Hour: A Female and Nonbinary Mic @ Westside Comedy Theater (in LA)
DESCRIPTION:Sign up sheet goes live every Wednesday @ 10AM PT HERE\n$3 for 3 mins\nFor women and non-binary performers
URL:https://thecomedybureau.com/show/the-witching-hour-a-female-and-nonbinary-mic-in-la-2-2-2-2/2026-06-27/
LOCATION:Westside Comedy Theater\, 1323-A 3rd Sreet\, Santa Monica\, CA\, 90401\, United States
CATEGORIES:Los Angeles Open Mics,Open Mic
GEO:34.0167638;-118.4968777
X-APPLE-STRUCTURED-LOCATION;VALUE=URI;X-ADDRESS=Westside Comedy Theater 1323-A 3rd Sreet Santa Monica CA 90401 United States;X-APPLE-RADIUS=500;X-TITLE=1323-A 3rd Sreet:geo:-118.4968777,34.0167638
END:VEVENT
END:VCALENDAR