BEGIN:VCALENDAR
VERSION:2.0
PRODID:-//The Comedy Bureau - ECPv6.15.18//NONSGML v1.0//EN
CALSCALE:GREGORIAN
METHOD:PUBLISH
X-WR-CALNAME:The Comedy Bureau
X-ORIGINAL-URL:https://thecomedybureau.com
X-WR-CALDESC:Events for The Comedy Bureau
REFRESH-INTERVAL;VALUE=DURATION:PT1H
X-Robots-Tag:noindex
X-PUBLISHED-TTL:PT1H
BEGIN:VTIMEZONE
TZID:America/Los_Angeles
BEGIN:DAYLIGHT
TZOFFSETFROM:-0800
TZOFFSETTO:-0700
TZNAME:PDT
DTSTART:20250309T100000
END:DAYLIGHT
BEGIN:STANDARD
TZOFFSETFROM:-0700
TZOFFSETTO:-0800
TZNAME:PST
DTSTART:20251102T090000
END:STANDARD
BEGIN:DAYLIGHT
TZOFFSETFROM:-0800
TZOFFSETTO:-0700
TZNAME:PDT
DTSTART:20260308T100000
END:DAYLIGHT
BEGIN:STANDARD
TZOFFSETFROM:-0700
TZOFFSETTO:-0800
TZNAME:PST
DTSTART:20261101T090000
END:STANDARD
BEGIN:DAYLIGHT
TZOFFSETFROM:-0800
TZOFFSETTO:-0700
TZNAME:PDT
DTSTART:20270314T100000
END:DAYLIGHT
BEGIN:STANDARD
TZOFFSETFROM:-0700
TZOFFSETTO:-0800
TZNAME:PST
DTSTART:20271107T090000
END:STANDARD
END:VTIMEZONE
BEGIN:VEVENT
DTSTART;TZID=America/Los_Angeles:20260509T190000
DTEND;TZID=America/Los_Angeles:20260509T203000
DTSTAMP:20260422T163348
CREATED:20260420T181008Z
LAST-MODIFIED:20260420T181008Z
UID:10094954-1778353200-1778358600@thecomedybureau.com
SUMMARY:Emily Catalano @ Netflix Is a Joke (in LA)
DESCRIPTION:Emily Catalano headlines \nStarts 7PM PT
URL:https://thecomedybureau.com/show/emily-catalano-netflix-is-a-joke-in-la/
LOCATION:Three Clubs\, 1123 Vine Street\, Los Angeles\, CA\, 90038\, United States
CATEGORIES:Comedy Show,Los Angeles Shows,Stand Up
GEO:34.0913296;-118.3270632
X-APPLE-STRUCTURED-LOCATION;VALUE=URI;X-ADDRESS=Three Clubs 1123 Vine Street Los Angeles CA 90038 United States;X-APPLE-RADIUS=500;X-TITLE=1123 Vine Street:geo:-118.3270632,34.0913296
END:VEVENT
BEGIN:VEVENT
DTSTART;TZID=America/Los_Angeles:20260616T200000
DTEND;TZID=America/Los_Angeles:20260616T213000
DTSTAMP:20260422T163348
CREATED:20250222T184200Z
LAST-MODIFIED:20260412T002658Z
UID:10056959-1781640000-1781645400@thecomedybureau.com
SUMMARY:Emily Catalano (in LA)
DESCRIPTION:Emily Catalano performs her special before filming it \nStarts 8PM PT
URL:https://thecomedybureau.com/show/emily-catalano-near-la/
LOCATION:Largo at The Coronet Theatre\, 366 North La Cienega Boulevard\, Los Angeles\, CA\, 90048\, United States
CATEGORIES:Comedy Show,Los Angeles Shows,Stand Up
GEO:34.0778693;-118.3763237
X-APPLE-STRUCTURED-LOCATION;VALUE=URI;X-ADDRESS=Largo at The Coronet Theatre 366 North La Cienega Boulevard Los Angeles CA 90048 United States;X-APPLE-RADIUS=500;X-TITLE=366 North La Cienega Boulevard:geo:-118.3763237,34.0778693
END:VEVENT
END:VCALENDAR