BEGIN:VCALENDAR
VERSION:2.0
PRODID:-//The Comedy Bureau - ECPv6.15.18//NONSGML v1.0//EN
CALSCALE:GREGORIAN
METHOD:PUBLISH
X-WR-CALNAME:The Comedy Bureau
X-ORIGINAL-URL:https://thecomedybureau.com
X-WR-CALDESC:Events for The Comedy Bureau
REFRESH-INTERVAL;VALUE=DURATION:PT1H
X-Robots-Tag:noindex
X-PUBLISHED-TTL:PT1H
BEGIN:VTIMEZONE
TZID:America/Los_Angeles
BEGIN:DAYLIGHT
TZOFFSETFROM:-0800
TZOFFSETTO:-0700
TZNAME:PDT
DTSTART:20250309T100000
END:DAYLIGHT
BEGIN:STANDARD
TZOFFSETFROM:-0700
TZOFFSETTO:-0800
TZNAME:PST
DTSTART:20251102T090000
END:STANDARD
BEGIN:DAYLIGHT
TZOFFSETFROM:-0800
TZOFFSETTO:-0700
TZNAME:PDT
DTSTART:20260308T100000
END:DAYLIGHT
BEGIN:STANDARD
TZOFFSETFROM:-0700
TZOFFSETTO:-0800
TZNAME:PST
DTSTART:20261101T090000
END:STANDARD
BEGIN:DAYLIGHT
TZOFFSETFROM:-0800
TZOFFSETTO:-0700
TZNAME:PDT
DTSTART:20270314T100000
END:DAYLIGHT
BEGIN:STANDARD
TZOFFSETFROM:-0700
TZOFFSETTO:-0800
TZNAME:PST
DTSTART:20271107T090000
END:STANDARD
END:VTIMEZONE
BEGIN:VEVENT
DTSTART;TZID=America/Los_Angeles:20260425T190000
DTEND;TZID=America/Los_Angeles:20260425T210000
DTSTAMP:20260420T065132
CREATED:20260109T201449Z
LAST-MODIFIED:20260417T221410Z
UID:10094876-1777143600-1777150800@thecomedybureau.com
SUMMARY:Good Heroin (in LA)
DESCRIPTION:*Outdoors \nOne of LA comedy’s cornerstones! \nFeaturing stand-up from: \n\n\n\n\n4/18 \nAsif Ali\nJamie Loftus\nJamel Johnson\nLaura Kightlinger\nFelicia Folkes\nKetra Long \n\n\n4/25\nIfy Nwadiwe\nCameron Esposito\nAndrew Michaan\nElectra Telesford\nBobby Warrener \n\n\n\n\nHosted by Lindsay Adams & Rob Haze\nStarts 7PM PT
URL:https://thecomedybureau.com/show/good-heroin-11-2-2-2-2-2-2-2-2-2/2026-04-25/
LOCATION:Stories\, 1716 Sunset Boulevard\, Los Angeles\, CA\, 90026\, United States
CATEGORIES:Comedy Show,Los Angeles,Los Angeles Shows,Stand Up
GEO:34.0772308;-118.259172
X-APPLE-STRUCTURED-LOCATION;VALUE=URI;X-ADDRESS=Stories 1716 Sunset Boulevard Los Angeles CA 90026 United States;X-APPLE-RADIUS=500;X-TITLE=1716 Sunset Boulevard:geo:-118.259172,34.0772308
END:VEVENT
END:VCALENDAR