BEGIN:VCALENDAR
VERSION:2.0
PRODID:-//The Comedy Bureau - ECPv6.15.18//NONSGML v1.0//EN
CALSCALE:GREGORIAN
METHOD:PUBLISH
X-WR-CALNAME:The Comedy Bureau
X-ORIGINAL-URL:https://thecomedybureau.com
X-WR-CALDESC:Events for The Comedy Bureau
REFRESH-INTERVAL;VALUE=DURATION:PT1H
X-Robots-Tag:noindex
X-PUBLISHED-TTL:PT1H
BEGIN:VTIMEZONE
TZID:America/New_York
BEGIN:DAYLIGHT
TZOFFSETFROM:-0500
TZOFFSETTO:-0400
TZNAME:EDT
DTSTART:20250309T070000
END:DAYLIGHT
BEGIN:STANDARD
TZOFFSETFROM:-0400
TZOFFSETTO:-0500
TZNAME:EST
DTSTART:20251102T060000
END:STANDARD
BEGIN:DAYLIGHT
TZOFFSETFROM:-0500
TZOFFSETTO:-0400
TZNAME:EDT
DTSTART:20260308T070000
END:DAYLIGHT
BEGIN:STANDARD
TZOFFSETFROM:-0400
TZOFFSETTO:-0500
TZNAME:EST
DTSTART:20261101T060000
END:STANDARD
BEGIN:DAYLIGHT
TZOFFSETFROM:-0500
TZOFFSETTO:-0400
TZNAME:EDT
DTSTART:20270314T070000
END:DAYLIGHT
BEGIN:STANDARD
TZOFFSETFROM:-0400
TZOFFSETTO:-0500
TZNAME:EST
DTSTART:20271107T060000
END:STANDARD
END:VTIMEZONE
BEGIN:VEVENT
DTSTART;TZID=America/New_York:20260423T154500
DTEND;TZID=America/New_York:20260423T170000
DTSTAMP:20260422T023419
CREATED:20260329T233923Z
LAST-MODIFIED:20260329T233923Z
UID:10092925-1776959100-1776963600@thecomedybureau.com
SUMMARY:Improv Jam @ The PIT (in NYC)
DESCRIPTION:Starts 3:45PM ET\nFor improv and improvisers only\nAnyone can play\n$5
URL:https://thecomedybureau.com/show/improv-jam-the-pit-in-nyc-23/2026-04-23/
LOCATION:The PIT\, 123 East 24th Street\, New York\, NY\, 10010\, United States
CATEGORIES:Improv Jam,New York,New York Open Mics,Open Mic
GEO:40.7405602;-73.984683
X-APPLE-STRUCTURED-LOCATION;VALUE=URI;X-ADDRESS=The PIT 123 East 24th Street New York NY 10010 United States;X-APPLE-RADIUS=500;X-TITLE=123 East 24th Street:geo:-73.984683,40.7405602
END:VEVENT
BEGIN:VEVENT
DTSTART;TZID=America/New_York:20260423T180000
DTEND;TZID=America/New_York:20260423T193000
DTSTAMP:20260422T023419
CREATED:20250428T174946Z
LAST-MODIFIED:20260329T190632Z
UID:10092788-1776967200-1776972600@thecomedybureau.com
SUMMARY:Improv Jam @ The PIT (in NYC)
DESCRIPTION:Starts 6PM ET\nFor improv and improvisers only\nAnyone can play\n$5
URL:https://thecomedybureau.com/show/improv-jam-the-pit-in-nyc-17/2026-04-23/
LOCATION:The PIT\, 123 East 24th Street\, New York\, NY\, 10010\, United States
CATEGORIES:Improv Jam,New York,New York Open Mics,Open Mic
GEO:40.7405602;-73.984683
X-APPLE-STRUCTURED-LOCATION;VALUE=URI;X-ADDRESS=The PIT 123 East 24th Street New York NY 10010 United States;X-APPLE-RADIUS=500;X-TITLE=123 East 24th Street:geo:-73.984683,40.7405602
END:VEVENT
BEGIN:VEVENT
DTSTART;TZID=America/New_York:20260424T170000
DTEND;TZID=America/New_York:20260424T180000
DTSTAMP:20260422T023419
CREATED:20250428T175938Z
LAST-MODIFIED:20260329T190340Z
UID:10092775-1777050000-1777053600@thecomedybureau.com
SUMMARY:Improv Jam @ The PIT (in NYC)
DESCRIPTION:Starts 5PM ET\nEnds 6PM ET\nFor improv and improvisers only\nAnyone can play\n$5
URL:https://thecomedybureau.com/show/improv-jam-the-pit-in-nyc-20/2026-04-24/
LOCATION:The PIT\, 123 East 24th Street\, New York\, NY\, 10010\, United States
CATEGORIES:Improv Jam,New York,New York Open Mics,Open Mic
GEO:40.7405602;-73.984683
X-APPLE-STRUCTURED-LOCATION;VALUE=URI;X-ADDRESS=The PIT 123 East 24th Street New York NY 10010 United States;X-APPLE-RADIUS=500;X-TITLE=123 East 24th Street:geo:-73.984683,40.7405602
END:VEVENT
BEGIN:VEVENT
DTSTART;TZID=America/New_York:20260424T170000
DTEND;TZID=America/New_York:20260424T180000
DTSTAMP:20260422T023419
CREATED:20260329T234220Z
LAST-MODIFIED:20260329T234220Z
UID:10092975-1777050000-1777053600@thecomedybureau.com
SUMMARY:Improv Jam @ The PIT (in NYC)
DESCRIPTION:Starts 5PM ET\nFor improv and improvisers only\nAnyone can play\n$5
URL:https://thecomedybureau.com/show/improv-jam-the-pit-in-nyc-24/2026-04-24/
LOCATION:The PIT\, 123 East 24th Street\, New York\, NY\, 10010\, United States
CATEGORIES:Improv Jam,New York,New York Open Mics,Open Mic
GEO:40.7405602;-73.984683
X-APPLE-STRUCTURED-LOCATION;VALUE=URI;X-ADDRESS=The PIT 123 East 24th Street New York NY 10010 United States;X-APPLE-RADIUS=500;X-TITLE=123 East 24th Street:geo:-73.984683,40.7405602
END:VEVENT
BEGIN:VEVENT
DTSTART;TZID=America/New_York:20260425T174500
DTEND;TZID=America/New_York:20260425T190000
DTSTAMP:20260422T023419
CREATED:20260329T233438Z
LAST-MODIFIED:20260329T233812Z
UID:10092875-1777139100-1777143600@thecomedybureau.com
SUMMARY:Improv Jam @ The PIT (in NYC)
DESCRIPTION:Starts 5:45PM ET\nFor improv and improvisers only\nAnyone can play\n$5
URL:https://thecomedybureau.com/show/improv-jam-the-pit-in-nyc-21/2026-04-25/
LOCATION:The PIT\, 123 East 24th Street\, New York\, NY\, 10010\, United States
CATEGORIES:Improv Jam,New York,New York Open Mics,Open Mic
GEO:40.7405602;-73.984683
X-APPLE-STRUCTURED-LOCATION;VALUE=URI;X-ADDRESS=The PIT 123 East 24th Street New York NY 10010 United States;X-APPLE-RADIUS=500;X-TITLE=123 East 24th Street:geo:-73.984683,40.7405602
END:VEVENT
BEGIN:VEVENT
DTSTART;TZID=America/New_York:20260426T203000
DTEND;TZID=America/New_York:20260426T213000
DTSTAMP:20260422T023419
CREATED:20260329T233550Z
LAST-MODIFIED:20260329T233822Z
UID:10092901-1777235400-1777239000@thecomedybureau.com
SUMMARY:Improv Jam @ The PIT (in NYC)
DESCRIPTION:Starts 8:30PM ET\nFor improv and improvisers only\nAnyone can play\n$5
URL:https://thecomedybureau.com/show/improv-jam-the-pit-in-nyc-22/2026-04-26/
LOCATION:The PIT\, 123 East 24th Street\, New York\, NY\, 10010\, United States
CATEGORIES:Improv Jam,New York,New York Open Mics,Open Mic
GEO:40.7405602;-73.984683
X-APPLE-STRUCTURED-LOCATION;VALUE=URI;X-ADDRESS=The PIT 123 East 24th Street New York NY 10010 United States;X-APPLE-RADIUS=500;X-TITLE=123 East 24th Street:geo:-73.984683,40.7405602
END:VEVENT
BEGIN:VEVENT
DTSTART;TZID=America/New_York:20260430T154500
DTEND;TZID=America/New_York:20260430T170000
DTSTAMP:20260422T023419
CREATED:20260329T233923Z
LAST-MODIFIED:20260329T233923Z
UID:10092926-1777563900-1777568400@thecomedybureau.com
SUMMARY:Improv Jam @ The PIT (in NYC)
DESCRIPTION:Starts 3:45PM ET\nFor improv and improvisers only\nAnyone can play\n$5
URL:https://thecomedybureau.com/show/improv-jam-the-pit-in-nyc-23/2026-04-30/
LOCATION:The PIT\, 123 East 24th Street\, New York\, NY\, 10010\, United States
CATEGORIES:Improv Jam,New York,New York Open Mics,Open Mic
GEO:40.7405602;-73.984683
X-APPLE-STRUCTURED-LOCATION;VALUE=URI;X-ADDRESS=The PIT 123 East 24th Street New York NY 10010 United States;X-APPLE-RADIUS=500;X-TITLE=123 East 24th Street:geo:-73.984683,40.7405602
END:VEVENT
BEGIN:VEVENT
DTSTART;TZID=America/New_York:20260430T180000
DTEND;TZID=America/New_York:20260430T193000
DTSTAMP:20260422T023419
CREATED:20250428T174946Z
LAST-MODIFIED:20260329T190632Z
UID:10092789-1777572000-1777577400@thecomedybureau.com
SUMMARY:Improv Jam @ The PIT (in NYC)
DESCRIPTION:Starts 6PM ET\nFor improv and improvisers only\nAnyone can play\n$5
URL:https://thecomedybureau.com/show/improv-jam-the-pit-in-nyc-17/2026-04-30/
LOCATION:The PIT\, 123 East 24th Street\, New York\, NY\, 10010\, United States
CATEGORIES:Improv Jam,New York,New York Open Mics,Open Mic
GEO:40.7405602;-73.984683
X-APPLE-STRUCTURED-LOCATION;VALUE=URI;X-ADDRESS=The PIT 123 East 24th Street New York NY 10010 United States;X-APPLE-RADIUS=500;X-TITLE=123 East 24th Street:geo:-73.984683,40.7405602
END:VEVENT
BEGIN:VEVENT
DTSTART;TZID=America/New_York:20260501T170000
DTEND;TZID=America/New_York:20260501T180000
DTSTAMP:20260422T023419
CREATED:20250428T175938Z
LAST-MODIFIED:20260329T190340Z
UID:10092776-1777654800-1777658400@thecomedybureau.com
SUMMARY:Improv Jam @ The PIT (in NYC)
DESCRIPTION:Starts 5PM ET\nEnds 6PM ET\nFor improv and improvisers only\nAnyone can play\n$5
URL:https://thecomedybureau.com/show/improv-jam-the-pit-in-nyc-20/2026-05-01/
LOCATION:The PIT\, 123 East 24th Street\, New York\, NY\, 10010\, United States
CATEGORIES:Improv Jam,New York,New York Open Mics,Open Mic
GEO:40.7405602;-73.984683
X-APPLE-STRUCTURED-LOCATION;VALUE=URI;X-ADDRESS=The PIT 123 East 24th Street New York NY 10010 United States;X-APPLE-RADIUS=500;X-TITLE=123 East 24th Street:geo:-73.984683,40.7405602
END:VEVENT
BEGIN:VEVENT
DTSTART;TZID=America/New_York:20260501T170000
DTEND;TZID=America/New_York:20260501T180000
DTSTAMP:20260422T023419
CREATED:20260329T234220Z
LAST-MODIFIED:20260329T234220Z
UID:10092976-1777654800-1777658400@thecomedybureau.com
SUMMARY:Improv Jam @ The PIT (in NYC)
DESCRIPTION:Starts 5PM ET\nFor improv and improvisers only\nAnyone can play\n$5
URL:https://thecomedybureau.com/show/improv-jam-the-pit-in-nyc-24/2026-05-01/
LOCATION:The PIT\, 123 East 24th Street\, New York\, NY\, 10010\, United States
CATEGORIES:Improv Jam,New York,New York Open Mics,Open Mic
GEO:40.7405602;-73.984683
X-APPLE-STRUCTURED-LOCATION;VALUE=URI;X-ADDRESS=The PIT 123 East 24th Street New York NY 10010 United States;X-APPLE-RADIUS=500;X-TITLE=123 East 24th Street:geo:-73.984683,40.7405602
END:VEVENT
BEGIN:VEVENT
DTSTART;TZID=America/New_York:20260502T174500
DTEND;TZID=America/New_York:20260502T190000
DTSTAMP:20260422T023419
CREATED:20260329T233438Z
LAST-MODIFIED:20260329T233812Z
UID:10092876-1777743900-1777748400@thecomedybureau.com
SUMMARY:Improv Jam @ The PIT (in NYC)
DESCRIPTION:Starts 5:45PM ET\nFor improv and improvisers only\nAnyone can play\n$5
URL:https://thecomedybureau.com/show/improv-jam-the-pit-in-nyc-21/2026-05-02/
LOCATION:The PIT\, 123 East 24th Street\, New York\, NY\, 10010\, United States
CATEGORIES:Improv Jam,New York,New York Open Mics,Open Mic
GEO:40.7405602;-73.984683
X-APPLE-STRUCTURED-LOCATION;VALUE=URI;X-ADDRESS=The PIT 123 East 24th Street New York NY 10010 United States;X-APPLE-RADIUS=500;X-TITLE=123 East 24th Street:geo:-73.984683,40.7405602
END:VEVENT
BEGIN:VEVENT
DTSTART;TZID=America/New_York:20260503T203000
DTEND;TZID=America/New_York:20260503T213000
DTSTAMP:20260422T023419
CREATED:20260329T233550Z
LAST-MODIFIED:20260329T233822Z
UID:10092902-1777840200-1777843800@thecomedybureau.com
SUMMARY:Improv Jam @ The PIT (in NYC)
DESCRIPTION:Starts 8:30PM ET\nFor improv and improvisers only\nAnyone can play\n$5
URL:https://thecomedybureau.com/show/improv-jam-the-pit-in-nyc-22/2026-05-03/
LOCATION:The PIT\, 123 East 24th Street\, New York\, NY\, 10010\, United States
CATEGORIES:Improv Jam,New York,New York Open Mics,Open Mic
GEO:40.7405602;-73.984683
X-APPLE-STRUCTURED-LOCATION;VALUE=URI;X-ADDRESS=The PIT 123 East 24th Street New York NY 10010 United States;X-APPLE-RADIUS=500;X-TITLE=123 East 24th Street:geo:-73.984683,40.7405602
END:VEVENT
BEGIN:VEVENT
DTSTART;TZID=America/New_York:20260507T154500
DTEND;TZID=America/New_York:20260507T170000
DTSTAMP:20260422T023419
CREATED:20260329T233923Z
LAST-MODIFIED:20260329T233923Z
UID:10092927-1778168700-1778173200@thecomedybureau.com
SUMMARY:Improv Jam @ The PIT (in NYC)
DESCRIPTION:Starts 3:45PM ET\nFor improv and improvisers only\nAnyone can play\n$5
URL:https://thecomedybureau.com/show/improv-jam-the-pit-in-nyc-23/2026-05-07/
LOCATION:The PIT\, 123 East 24th Street\, New York\, NY\, 10010\, United States
CATEGORIES:Improv Jam,New York,New York Open Mics,Open Mic
GEO:40.7405602;-73.984683
X-APPLE-STRUCTURED-LOCATION;VALUE=URI;X-ADDRESS=The PIT 123 East 24th Street New York NY 10010 United States;X-APPLE-RADIUS=500;X-TITLE=123 East 24th Street:geo:-73.984683,40.7405602
END:VEVENT
BEGIN:VEVENT
DTSTART;TZID=America/New_York:20260507T180000
DTEND;TZID=America/New_York:20260507T193000
DTSTAMP:20260422T023419
CREATED:20250428T174946Z
LAST-MODIFIED:20260329T190632Z
UID:10092790-1778176800-1778182200@thecomedybureau.com
SUMMARY:Improv Jam @ The PIT (in NYC)
DESCRIPTION:Starts 6PM ET\nFor improv and improvisers only\nAnyone can play\n$5
URL:https://thecomedybureau.com/show/improv-jam-the-pit-in-nyc-17/2026-05-07/
LOCATION:The PIT\, 123 East 24th Street\, New York\, NY\, 10010\, United States
CATEGORIES:Improv Jam,New York,New York Open Mics,Open Mic
GEO:40.7405602;-73.984683
X-APPLE-STRUCTURED-LOCATION;VALUE=URI;X-ADDRESS=The PIT 123 East 24th Street New York NY 10010 United States;X-APPLE-RADIUS=500;X-TITLE=123 East 24th Street:geo:-73.984683,40.7405602
END:VEVENT
BEGIN:VEVENT
DTSTART;TZID=America/New_York:20260508T170000
DTEND;TZID=America/New_York:20260508T180000
DTSTAMP:20260422T023419
CREATED:20250428T175938Z
LAST-MODIFIED:20260329T190340Z
UID:10092777-1778259600-1778263200@thecomedybureau.com
SUMMARY:Improv Jam @ The PIT (in NYC)
DESCRIPTION:Starts 5PM ET\nEnds 6PM ET\nFor improv and improvisers only\nAnyone can play\n$5
URL:https://thecomedybureau.com/show/improv-jam-the-pit-in-nyc-20/2026-05-08/
LOCATION:The PIT\, 123 East 24th Street\, New York\, NY\, 10010\, United States
CATEGORIES:Improv Jam,New York,New York Open Mics,Open Mic
GEO:40.7405602;-73.984683
X-APPLE-STRUCTURED-LOCATION;VALUE=URI;X-ADDRESS=The PIT 123 East 24th Street New York NY 10010 United States;X-APPLE-RADIUS=500;X-TITLE=123 East 24th Street:geo:-73.984683,40.7405602
END:VEVENT
BEGIN:VEVENT
DTSTART;TZID=America/New_York:20260508T170000
DTEND;TZID=America/New_York:20260508T180000
DTSTAMP:20260422T023419
CREATED:20260329T234220Z
LAST-MODIFIED:20260329T234220Z
UID:10092977-1778259600-1778263200@thecomedybureau.com
SUMMARY:Improv Jam @ The PIT (in NYC)
DESCRIPTION:Starts 5PM ET\nFor improv and improvisers only\nAnyone can play\n$5
URL:https://thecomedybureau.com/show/improv-jam-the-pit-in-nyc-24/2026-05-08/
LOCATION:The PIT\, 123 East 24th Street\, New York\, NY\, 10010\, United States
CATEGORIES:Improv Jam,New York,New York Open Mics,Open Mic
GEO:40.7405602;-73.984683
X-APPLE-STRUCTURED-LOCATION;VALUE=URI;X-ADDRESS=The PIT 123 East 24th Street New York NY 10010 United States;X-APPLE-RADIUS=500;X-TITLE=123 East 24th Street:geo:-73.984683,40.7405602
END:VEVENT
BEGIN:VEVENT
DTSTART;TZID=America/New_York:20260509T174500
DTEND;TZID=America/New_York:20260509T190000
DTSTAMP:20260422T023419
CREATED:20260329T233438Z
LAST-MODIFIED:20260329T233812Z
UID:10092877-1778348700-1778353200@thecomedybureau.com
SUMMARY:Improv Jam @ The PIT (in NYC)
DESCRIPTION:Starts 5:45PM ET\nFor improv and improvisers only\nAnyone can play\n$5
URL:https://thecomedybureau.com/show/improv-jam-the-pit-in-nyc-21/2026-05-09/
LOCATION:The PIT\, 123 East 24th Street\, New York\, NY\, 10010\, United States
CATEGORIES:Improv Jam,New York,New York Open Mics,Open Mic
GEO:40.7405602;-73.984683
X-APPLE-STRUCTURED-LOCATION;VALUE=URI;X-ADDRESS=The PIT 123 East 24th Street New York NY 10010 United States;X-APPLE-RADIUS=500;X-TITLE=123 East 24th Street:geo:-73.984683,40.7405602
END:VEVENT
BEGIN:VEVENT
DTSTART;TZID=America/New_York:20260510T203000
DTEND;TZID=America/New_York:20260510T213000
DTSTAMP:20260422T023419
CREATED:20260329T233550Z
LAST-MODIFIED:20260329T233822Z
UID:10092903-1778445000-1778448600@thecomedybureau.com
SUMMARY:Improv Jam @ The PIT (in NYC)
DESCRIPTION:Starts 8:30PM ET\nFor improv and improvisers only\nAnyone can play\n$5
URL:https://thecomedybureau.com/show/improv-jam-the-pit-in-nyc-22/2026-05-10/
LOCATION:The PIT\, 123 East 24th Street\, New York\, NY\, 10010\, United States
CATEGORIES:Improv Jam,New York,New York Open Mics,Open Mic
GEO:40.7405602;-73.984683
X-APPLE-STRUCTURED-LOCATION;VALUE=URI;X-ADDRESS=The PIT 123 East 24th Street New York NY 10010 United States;X-APPLE-RADIUS=500;X-TITLE=123 East 24th Street:geo:-73.984683,40.7405602
END:VEVENT
BEGIN:VEVENT
DTSTART;TZID=America/New_York:20260514T154500
DTEND;TZID=America/New_York:20260514T170000
DTSTAMP:20260422T023419
CREATED:20260329T233923Z
LAST-MODIFIED:20260329T233923Z
UID:10092928-1778773500-1778778000@thecomedybureau.com
SUMMARY:Improv Jam @ The PIT (in NYC)
DESCRIPTION:Starts 3:45PM ET\nFor improv and improvisers only\nAnyone can play\n$5
URL:https://thecomedybureau.com/show/improv-jam-the-pit-in-nyc-23/2026-05-14/
LOCATION:The PIT\, 123 East 24th Street\, New York\, NY\, 10010\, United States
CATEGORIES:Improv Jam,New York,New York Open Mics,Open Mic
GEO:40.7405602;-73.984683
X-APPLE-STRUCTURED-LOCATION;VALUE=URI;X-ADDRESS=The PIT 123 East 24th Street New York NY 10010 United States;X-APPLE-RADIUS=500;X-TITLE=123 East 24th Street:geo:-73.984683,40.7405602
END:VEVENT
BEGIN:VEVENT
DTSTART;TZID=America/New_York:20260514T180000
DTEND;TZID=America/New_York:20260514T193000
DTSTAMP:20260422T023419
CREATED:20250428T174946Z
LAST-MODIFIED:20260329T190632Z
UID:10092791-1778781600-1778787000@thecomedybureau.com
SUMMARY:Improv Jam @ The PIT (in NYC)
DESCRIPTION:Starts 6PM ET\nFor improv and improvisers only\nAnyone can play\n$5
URL:https://thecomedybureau.com/show/improv-jam-the-pit-in-nyc-17/2026-05-14/
LOCATION:The PIT\, 123 East 24th Street\, New York\, NY\, 10010\, United States
CATEGORIES:Improv Jam,New York,New York Open Mics,Open Mic
GEO:40.7405602;-73.984683
X-APPLE-STRUCTURED-LOCATION;VALUE=URI;X-ADDRESS=The PIT 123 East 24th Street New York NY 10010 United States;X-APPLE-RADIUS=500;X-TITLE=123 East 24th Street:geo:-73.984683,40.7405602
END:VEVENT
BEGIN:VEVENT
DTSTART;TZID=America/New_York:20260515T170000
DTEND;TZID=America/New_York:20260515T180000
DTSTAMP:20260422T023420
CREATED:20250428T175938Z
LAST-MODIFIED:20260329T190340Z
UID:10092778-1778864400-1778868000@thecomedybureau.com
SUMMARY:Improv Jam @ The PIT (in NYC)
DESCRIPTION:Starts 5PM ET\nEnds 6PM ET\nFor improv and improvisers only\nAnyone can play\n$5
URL:https://thecomedybureau.com/show/improv-jam-the-pit-in-nyc-20/2026-05-15/
LOCATION:The PIT\, 123 East 24th Street\, New York\, NY\, 10010\, United States
CATEGORIES:Improv Jam,New York,New York Open Mics,Open Mic
GEO:40.7405602;-73.984683
X-APPLE-STRUCTURED-LOCATION;VALUE=URI;X-ADDRESS=The PIT 123 East 24th Street New York NY 10010 United States;X-APPLE-RADIUS=500;X-TITLE=123 East 24th Street:geo:-73.984683,40.7405602
END:VEVENT
BEGIN:VEVENT
DTSTART;TZID=America/New_York:20260515T170000
DTEND;TZID=America/New_York:20260515T180000
DTSTAMP:20260422T023420
CREATED:20260329T234220Z
LAST-MODIFIED:20260329T234220Z
UID:10092978-1778864400-1778868000@thecomedybureau.com
SUMMARY:Improv Jam @ The PIT (in NYC)
DESCRIPTION:Starts 5PM ET\nFor improv and improvisers only\nAnyone can play\n$5
URL:https://thecomedybureau.com/show/improv-jam-the-pit-in-nyc-24/2026-05-15/
LOCATION:The PIT\, 123 East 24th Street\, New York\, NY\, 10010\, United States
CATEGORIES:Improv Jam,New York,New York Open Mics,Open Mic
GEO:40.7405602;-73.984683
X-APPLE-STRUCTURED-LOCATION;VALUE=URI;X-ADDRESS=The PIT 123 East 24th Street New York NY 10010 United States;X-APPLE-RADIUS=500;X-TITLE=123 East 24th Street:geo:-73.984683,40.7405602
END:VEVENT
BEGIN:VEVENT
DTSTART;TZID=America/New_York:20260516T174500
DTEND;TZID=America/New_York:20260516T190000
DTSTAMP:20260422T023420
CREATED:20260329T233438Z
LAST-MODIFIED:20260329T233812Z
UID:10092878-1778953500-1778958000@thecomedybureau.com
SUMMARY:Improv Jam @ The PIT (in NYC)
DESCRIPTION:Starts 5:45PM ET\nFor improv and improvisers only\nAnyone can play\n$5
URL:https://thecomedybureau.com/show/improv-jam-the-pit-in-nyc-21/2026-05-16/
LOCATION:The PIT\, 123 East 24th Street\, New York\, NY\, 10010\, United States
CATEGORIES:Improv Jam,New York,New York Open Mics,Open Mic
GEO:40.7405602;-73.984683
X-APPLE-STRUCTURED-LOCATION;VALUE=URI;X-ADDRESS=The PIT 123 East 24th Street New York NY 10010 United States;X-APPLE-RADIUS=500;X-TITLE=123 East 24th Street:geo:-73.984683,40.7405602
END:VEVENT
BEGIN:VEVENT
DTSTART;TZID=America/New_York:20260517T203000
DTEND;TZID=America/New_York:20260517T213000
DTSTAMP:20260422T023420
CREATED:20260329T233550Z
LAST-MODIFIED:20260329T233822Z
UID:10092904-1779049800-1779053400@thecomedybureau.com
SUMMARY:Improv Jam @ The PIT (in NYC)
DESCRIPTION:Starts 8:30PM ET\nFor improv and improvisers only\nAnyone can play\n$5
URL:https://thecomedybureau.com/show/improv-jam-the-pit-in-nyc-22/2026-05-17/
LOCATION:The PIT\, 123 East 24th Street\, New York\, NY\, 10010\, United States
CATEGORIES:Improv Jam,New York,New York Open Mics,Open Mic
GEO:40.7405602;-73.984683
X-APPLE-STRUCTURED-LOCATION;VALUE=URI;X-ADDRESS=The PIT 123 East 24th Street New York NY 10010 United States;X-APPLE-RADIUS=500;X-TITLE=123 East 24th Street:geo:-73.984683,40.7405602
END:VEVENT
BEGIN:VEVENT
DTSTART;TZID=America/New_York:20260521T154500
DTEND;TZID=America/New_York:20260521T170000
DTSTAMP:20260422T023420
CREATED:20260329T233923Z
LAST-MODIFIED:20260329T233923Z
UID:10092929-1779378300-1779382800@thecomedybureau.com
SUMMARY:Improv Jam @ The PIT (in NYC)
DESCRIPTION:Starts 3:45PM ET\nFor improv and improvisers only\nAnyone can play\n$5
URL:https://thecomedybureau.com/show/improv-jam-the-pit-in-nyc-23/2026-05-21/
LOCATION:The PIT\, 123 East 24th Street\, New York\, NY\, 10010\, United States
CATEGORIES:Improv Jam,New York,New York Open Mics,Open Mic
GEO:40.7405602;-73.984683
X-APPLE-STRUCTURED-LOCATION;VALUE=URI;X-ADDRESS=The PIT 123 East 24th Street New York NY 10010 United States;X-APPLE-RADIUS=500;X-TITLE=123 East 24th Street:geo:-73.984683,40.7405602
END:VEVENT
BEGIN:VEVENT
DTSTART;TZID=America/New_York:20260521T180000
DTEND;TZID=America/New_York:20260521T193000
DTSTAMP:20260422T023420
CREATED:20250428T174946Z
LAST-MODIFIED:20260329T190632Z
UID:10092792-1779386400-1779391800@thecomedybureau.com
SUMMARY:Improv Jam @ The PIT (in NYC)
DESCRIPTION:Starts 6PM ET\nFor improv and improvisers only\nAnyone can play\n$5
URL:https://thecomedybureau.com/show/improv-jam-the-pit-in-nyc-17/2026-05-21/
LOCATION:The PIT\, 123 East 24th Street\, New York\, NY\, 10010\, United States
CATEGORIES:Improv Jam,New York,New York Open Mics,Open Mic
GEO:40.7405602;-73.984683
X-APPLE-STRUCTURED-LOCATION;VALUE=URI;X-ADDRESS=The PIT 123 East 24th Street New York NY 10010 United States;X-APPLE-RADIUS=500;X-TITLE=123 East 24th Street:geo:-73.984683,40.7405602
END:VEVENT
BEGIN:VEVENT
DTSTART;TZID=America/New_York:20260522T170000
DTEND;TZID=America/New_York:20260522T180000
DTSTAMP:20260422T023420
CREATED:20250428T175938Z
LAST-MODIFIED:20260329T190340Z
UID:10092779-1779469200-1779472800@thecomedybureau.com
SUMMARY:Improv Jam @ The PIT (in NYC)
DESCRIPTION:Starts 5PM ET\nEnds 6PM ET\nFor improv and improvisers only\nAnyone can play\n$5
URL:https://thecomedybureau.com/show/improv-jam-the-pit-in-nyc-20/2026-05-22/
LOCATION:The PIT\, 123 East 24th Street\, New York\, NY\, 10010\, United States
CATEGORIES:Improv Jam,New York,New York Open Mics,Open Mic
GEO:40.7405602;-73.984683
X-APPLE-STRUCTURED-LOCATION;VALUE=URI;X-ADDRESS=The PIT 123 East 24th Street New York NY 10010 United States;X-APPLE-RADIUS=500;X-TITLE=123 East 24th Street:geo:-73.984683,40.7405602
END:VEVENT
BEGIN:VEVENT
DTSTART;TZID=America/New_York:20260522T170000
DTEND;TZID=America/New_York:20260522T180000
DTSTAMP:20260422T023420
CREATED:20260329T234220Z
LAST-MODIFIED:20260329T234220Z
UID:10092979-1779469200-1779472800@thecomedybureau.com
SUMMARY:Improv Jam @ The PIT (in NYC)
DESCRIPTION:Starts 5PM ET\nFor improv and improvisers only\nAnyone can play\n$5
URL:https://thecomedybureau.com/show/improv-jam-the-pit-in-nyc-24/2026-05-22/
LOCATION:The PIT\, 123 East 24th Street\, New York\, NY\, 10010\, United States
CATEGORIES:Improv Jam,New York,New York Open Mics,Open Mic
GEO:40.7405602;-73.984683
X-APPLE-STRUCTURED-LOCATION;VALUE=URI;X-ADDRESS=The PIT 123 East 24th Street New York NY 10010 United States;X-APPLE-RADIUS=500;X-TITLE=123 East 24th Street:geo:-73.984683,40.7405602
END:VEVENT
BEGIN:VEVENT
DTSTART;TZID=America/New_York:20260523T174500
DTEND;TZID=America/New_York:20260523T190000
DTSTAMP:20260422T023420
CREATED:20260329T233438Z
LAST-MODIFIED:20260329T233812Z
UID:10092879-1779558300-1779562800@thecomedybureau.com
SUMMARY:Improv Jam @ The PIT (in NYC)
DESCRIPTION:Starts 5:45PM ET\nFor improv and improvisers only\nAnyone can play\n$5
URL:https://thecomedybureau.com/show/improv-jam-the-pit-in-nyc-21/2026-05-23/
LOCATION:The PIT\, 123 East 24th Street\, New York\, NY\, 10010\, United States
CATEGORIES:Improv Jam,New York,New York Open Mics,Open Mic
GEO:40.7405602;-73.984683
X-APPLE-STRUCTURED-LOCATION;VALUE=URI;X-ADDRESS=The PIT 123 East 24th Street New York NY 10010 United States;X-APPLE-RADIUS=500;X-TITLE=123 East 24th Street:geo:-73.984683,40.7405602
END:VEVENT
BEGIN:VEVENT
DTSTART;TZID=America/New_York:20260524T203000
DTEND;TZID=America/New_York:20260524T213000
DTSTAMP:20260422T023420
CREATED:20260329T233550Z
LAST-MODIFIED:20260329T233822Z
UID:10092905-1779654600-1779658200@thecomedybureau.com
SUMMARY:Improv Jam @ The PIT (in NYC)
DESCRIPTION:Starts 8:30PM ET\nFor improv and improvisers only\nAnyone can play\n$5
URL:https://thecomedybureau.com/show/improv-jam-the-pit-in-nyc-22/2026-05-24/
LOCATION:The PIT\, 123 East 24th Street\, New York\, NY\, 10010\, United States
CATEGORIES:Improv Jam,New York,New York Open Mics,Open Mic
GEO:40.7405602;-73.984683
X-APPLE-STRUCTURED-LOCATION;VALUE=URI;X-ADDRESS=The PIT 123 East 24th Street New York NY 10010 United States;X-APPLE-RADIUS=500;X-TITLE=123 East 24th Street:geo:-73.984683,40.7405602
END:VEVENT
END:VCALENDAR