BEGIN:VCALENDAR
VERSION:2.0
PRODID:-//The Comedy Bureau - ECPv6.15.18//NONSGML v1.0//EN
CALSCALE:GREGORIAN
METHOD:PUBLISH
X-WR-CALNAME:The Comedy Bureau
X-ORIGINAL-URL:https://thecomedybureau.com
X-WR-CALDESC:Events for The Comedy Bureau
REFRESH-INTERVAL;VALUE=DURATION:PT1H
X-Robots-Tag:noindex
X-PUBLISHED-TTL:PT1H
BEGIN:VTIMEZONE
TZID:America/New_York
BEGIN:DAYLIGHT
TZOFFSETFROM:-0500
TZOFFSETTO:-0400
TZNAME:EDT
DTSTART:20250309T070000
END:DAYLIGHT
BEGIN:STANDARD
TZOFFSETFROM:-0400
TZOFFSETTO:-0500
TZNAME:EST
DTSTART:20251102T060000
END:STANDARD
BEGIN:DAYLIGHT
TZOFFSETFROM:-0500
TZOFFSETTO:-0400
TZNAME:EDT
DTSTART:20260308T070000
END:DAYLIGHT
BEGIN:STANDARD
TZOFFSETFROM:-0400
TZOFFSETTO:-0500
TZNAME:EST
DTSTART:20261101T060000
END:STANDARD
BEGIN:DAYLIGHT
TZOFFSETFROM:-0500
TZOFFSETTO:-0400
TZNAME:EDT
DTSTART:20270314T070000
END:DAYLIGHT
BEGIN:STANDARD
TZOFFSETFROM:-0400
TZOFFSETTO:-0500
TZNAME:EST
DTSTART:20271107T060000
END:STANDARD
END:VTIMEZONE
BEGIN:VEVENT
DTSTART;TZID=America/New_York:20260422T220000
DTEND;TZID=America/New_York:20260422T233000
DTSTAMP:20260422T074323
CREATED:20240115T190227Z
LAST-MODIFIED:20260421T043922Z
UID:10062379-1776895200-1776900600@thecomedybureau.com
SUMMARY:Funhouse Comedy (in NYC)
DESCRIPTION:Comedians Gabe Pacheco and Sameer Naseem host this legendary weekly stand up comedy show featuring the best comedians from NYC and beyond! \nFeaturing: \nGabe Pacheco\nSameer Naseem\nFreddy G\nTomas Delgado\nBrandon Ash Mohammed\nDina Hashem\nAnnette Mullaney\nKath Barbadoro \nDoors 930pm ET Show 10pm ET sharp
URL:https://thecomedybureau.com/show/funhouse-comedy-in-nyc-2/
LOCATION:Pete’s Candy Store\, 709 Lorimer Street\, Brooklyn\, NY\, 11211\, United States
CATEGORIES:Comedy Show,New York Shows,Stand Up
GEO:40.7180854;-73.9502506
X-APPLE-STRUCTURED-LOCATION;VALUE=URI;X-ADDRESS=Pete’s Candy Store 709 Lorimer Street Brooklyn NY 11211 United States;X-APPLE-RADIUS=500;X-TITLE=709 Lorimer Street:geo:-73.9502506,40.7180854
END:VEVENT
END:VCALENDAR