BEGIN:VCALENDAR
VERSION:2.0
PRODID:-//The Comedy Bureau - ECPv6.15.18//NONSGML v1.0//EN
CALSCALE:GREGORIAN
METHOD:PUBLISH
X-WR-CALNAME:The Comedy Bureau
X-ORIGINAL-URL:https://thecomedybureau.com
X-WR-CALDESC:Events for The Comedy Bureau
REFRESH-INTERVAL;VALUE=DURATION:PT1H
X-Robots-Tag:noindex
X-PUBLISHED-TTL:PT1H
BEGIN:VTIMEZONE
TZID:America/Los_Angeles
BEGIN:DAYLIGHT
TZOFFSETFROM:-0800
TZOFFSETTO:-0700
TZNAME:PDT
DTSTART:20250309T100000
END:DAYLIGHT
BEGIN:STANDARD
TZOFFSETFROM:-0700
TZOFFSETTO:-0800
TZNAME:PST
DTSTART:20251102T090000
END:STANDARD
BEGIN:DAYLIGHT
TZOFFSETFROM:-0800
TZOFFSETTO:-0700
TZNAME:PDT
DTSTART:20260308T100000
END:DAYLIGHT
BEGIN:STANDARD
TZOFFSETFROM:-0700
TZOFFSETTO:-0800
TZNAME:PST
DTSTART:20261101T090000
END:STANDARD
BEGIN:DAYLIGHT
TZOFFSETFROM:-0800
TZOFFSETTO:-0700
TZNAME:PDT
DTSTART:20270314T100000
END:DAYLIGHT
BEGIN:STANDARD
TZOFFSETFROM:-0700
TZOFFSETTO:-0800
TZNAME:PST
DTSTART:20271107T090000
END:STANDARD
END:VTIMEZONE
BEGIN:VEVENT
DTSTART;TZID=America/Los_Angeles:20260420T200000
DTEND;TZID=America/Los_Angeles:20260420T220000
DTSTAMP:20260420T051023
CREATED:20231218T020952Z
LAST-MODIFIED:20260328T235636Z
UID:10091568-1776715200-1776722400@thecomedybureau.com
SUMMARY:Laugh Riot Grrrrl @ Tao Comedy Studio (in LA)
DESCRIPTION:Outdoor Open Mic\nWomen only\nStarts 8PM PT\nSign-up 7:30PM PT\n$5 = 5 minutes + drink.\n$5. Venmo: Bobbie-Oliver \nTake a punch card and keep coming back (5th mic is free) COMICS ONLY.\nEnter through alley behind Tao (between 1st and 2nd).\nWe are outside. We are NOT USING A MIC (to cut down on touching).\nYou must wear a mask to go in and use the bathroom.
URL:https://thecomedybureau.com/show/laugh-riot-grrrrl-tao-comedy-patio-in-la-23-2-2-2/2026-04-20/
LOCATION:Tao Comedy Studio\, 131 South Western Avenue\, Los Angeles\, CA\, 90004\, United States
CATEGORIES:Los Angeles,Los Angeles Open Mics,Open Mic
GEO:34.0721203;-118.309296
X-APPLE-STRUCTURED-LOCATION;VALUE=URI;X-ADDRESS=Tao Comedy Studio 131 South Western Avenue Los Angeles CA 90004 United States;X-APPLE-RADIUS=500;X-TITLE=131 South Western Avenue:geo:-118.309296,34.0721203
END:VEVENT
BEGIN:VEVENT
DTSTART;TZID=America/Los_Angeles:20260427T200000
DTEND;TZID=America/Los_Angeles:20260427T220000
DTSTAMP:20260420T051023
CREATED:20231218T020952Z
LAST-MODIFIED:20260328T235636Z
UID:10091569-1777320000-1777327200@thecomedybureau.com
SUMMARY:Laugh Riot Grrrrl @ Tao Comedy Studio (in LA)
DESCRIPTION:Outdoor Open Mic\nWomen only\nStarts 8PM PT\nSign-up 7:30PM PT\n$5 = 5 minutes + drink.\n$5. Venmo: Bobbie-Oliver \nTake a punch card and keep coming back (5th mic is free) COMICS ONLY.\nEnter through alley behind Tao (between 1st and 2nd).\nWe are outside. We are NOT USING A MIC (to cut down on touching).\nYou must wear a mask to go in and use the bathroom.
URL:https://thecomedybureau.com/show/laugh-riot-grrrrl-tao-comedy-patio-in-la-23-2-2-2/2026-04-27/
LOCATION:Tao Comedy Studio\, 131 South Western Avenue\, Los Angeles\, CA\, 90004\, United States
CATEGORIES:Los Angeles,Los Angeles Open Mics,Open Mic
GEO:34.0721203;-118.309296
X-APPLE-STRUCTURED-LOCATION;VALUE=URI;X-ADDRESS=Tao Comedy Studio 131 South Western Avenue Los Angeles CA 90004 United States;X-APPLE-RADIUS=500;X-TITLE=131 South Western Avenue:geo:-118.309296,34.0721203
END:VEVENT
BEGIN:VEVENT
DTSTART;TZID=America/Los_Angeles:20260504T200000
DTEND;TZID=America/Los_Angeles:20260504T220000
DTSTAMP:20260420T051023
CREATED:20231218T020952Z
LAST-MODIFIED:20260328T235636Z
UID:10091570-1777924800-1777932000@thecomedybureau.com
SUMMARY:Laugh Riot Grrrrl @ Tao Comedy Studio (in LA)
DESCRIPTION:Outdoor Open Mic\nWomen only\nStarts 8PM PT\nSign-up 7:30PM PT\n$5 = 5 minutes + drink.\n$5. Venmo: Bobbie-Oliver \nTake a punch card and keep coming back (5th mic is free) COMICS ONLY.\nEnter through alley behind Tao (between 1st and 2nd).\nWe are outside. We are NOT USING A MIC (to cut down on touching).\nYou must wear a mask to go in and use the bathroom.
URL:https://thecomedybureau.com/show/laugh-riot-grrrrl-tao-comedy-patio-in-la-23-2-2-2/2026-05-04/
LOCATION:Tao Comedy Studio\, 131 South Western Avenue\, Los Angeles\, CA\, 90004\, United States
CATEGORIES:Los Angeles,Los Angeles Open Mics,Open Mic
GEO:34.0721203;-118.309296
X-APPLE-STRUCTURED-LOCATION;VALUE=URI;X-ADDRESS=Tao Comedy Studio 131 South Western Avenue Los Angeles CA 90004 United States;X-APPLE-RADIUS=500;X-TITLE=131 South Western Avenue:geo:-118.309296,34.0721203
END:VEVENT
BEGIN:VEVENT
DTSTART;TZID=America/Los_Angeles:20260511T200000
DTEND;TZID=America/Los_Angeles:20260511T220000
DTSTAMP:20260420T051023
CREATED:20231218T020952Z
LAST-MODIFIED:20260328T235636Z
UID:10091571-1778529600-1778536800@thecomedybureau.com
SUMMARY:Laugh Riot Grrrrl @ Tao Comedy Studio (in LA)
DESCRIPTION:Outdoor Open Mic\nWomen only\nStarts 8PM PT\nSign-up 7:30PM PT\n$5 = 5 minutes + drink.\n$5. Venmo: Bobbie-Oliver \nTake a punch card and keep coming back (5th mic is free) COMICS ONLY.\nEnter through alley behind Tao (between 1st and 2nd).\nWe are outside. We are NOT USING A MIC (to cut down on touching).\nYou must wear a mask to go in and use the bathroom.
URL:https://thecomedybureau.com/show/laugh-riot-grrrrl-tao-comedy-patio-in-la-23-2-2-2/2026-05-11/
LOCATION:Tao Comedy Studio\, 131 South Western Avenue\, Los Angeles\, CA\, 90004\, United States
CATEGORIES:Los Angeles,Los Angeles Open Mics,Open Mic
GEO:34.0721203;-118.309296
X-APPLE-STRUCTURED-LOCATION;VALUE=URI;X-ADDRESS=Tao Comedy Studio 131 South Western Avenue Los Angeles CA 90004 United States;X-APPLE-RADIUS=500;X-TITLE=131 South Western Avenue:geo:-118.309296,34.0721203
END:VEVENT
BEGIN:VEVENT
DTSTART;TZID=America/Los_Angeles:20260518T200000
DTEND;TZID=America/Los_Angeles:20260518T220000
DTSTAMP:20260420T051023
CREATED:20231218T020952Z
LAST-MODIFIED:20260328T235636Z
UID:10091572-1779134400-1779141600@thecomedybureau.com
SUMMARY:Laugh Riot Grrrrl @ Tao Comedy Studio (in LA)
DESCRIPTION:Outdoor Open Mic\nWomen only\nStarts 8PM PT\nSign-up 7:30PM PT\n$5 = 5 minutes + drink.\n$5. Venmo: Bobbie-Oliver \nTake a punch card and keep coming back (5th mic is free) COMICS ONLY.\nEnter through alley behind Tao (between 1st and 2nd).\nWe are outside. We are NOT USING A MIC (to cut down on touching).\nYou must wear a mask to go in and use the bathroom.
URL:https://thecomedybureau.com/show/laugh-riot-grrrrl-tao-comedy-patio-in-la-23-2-2-2/2026-05-18/
LOCATION:Tao Comedy Studio\, 131 South Western Avenue\, Los Angeles\, CA\, 90004\, United States
CATEGORIES:Los Angeles,Los Angeles Open Mics,Open Mic
GEO:34.0721203;-118.309296
X-APPLE-STRUCTURED-LOCATION;VALUE=URI;X-ADDRESS=Tao Comedy Studio 131 South Western Avenue Los Angeles CA 90004 United States;X-APPLE-RADIUS=500;X-TITLE=131 South Western Avenue:geo:-118.309296,34.0721203
END:VEVENT
BEGIN:VEVENT
DTSTART;TZID=America/Los_Angeles:20260525T200000
DTEND;TZID=America/Los_Angeles:20260525T220000
DTSTAMP:20260420T051023
CREATED:20231218T020952Z
LAST-MODIFIED:20260328T235636Z
UID:10091573-1779739200-1779746400@thecomedybureau.com
SUMMARY:Laugh Riot Grrrrl @ Tao Comedy Studio (in LA)
DESCRIPTION:Outdoor Open Mic\nWomen only\nStarts 8PM PT\nSign-up 7:30PM PT\n$5 = 5 minutes + drink.\n$5. Venmo: Bobbie-Oliver \nTake a punch card and keep coming back (5th mic is free) COMICS ONLY.\nEnter through alley behind Tao (between 1st and 2nd).\nWe are outside. We are NOT USING A MIC (to cut down on touching).\nYou must wear a mask to go in and use the bathroom.
URL:https://thecomedybureau.com/show/laugh-riot-grrrrl-tao-comedy-patio-in-la-23-2-2-2/2026-05-25/
LOCATION:Tao Comedy Studio\, 131 South Western Avenue\, Los Angeles\, CA\, 90004\, United States
CATEGORIES:Los Angeles,Los Angeles Open Mics,Open Mic
GEO:34.0721203;-118.309296
X-APPLE-STRUCTURED-LOCATION;VALUE=URI;X-ADDRESS=Tao Comedy Studio 131 South Western Avenue Los Angeles CA 90004 United States;X-APPLE-RADIUS=500;X-TITLE=131 South Western Avenue:geo:-118.309296,34.0721203
END:VEVENT
BEGIN:VEVENT
DTSTART;TZID=America/Los_Angeles:20260601T200000
DTEND;TZID=America/Los_Angeles:20260601T220000
DTSTAMP:20260420T051023
CREATED:20231218T020952Z
LAST-MODIFIED:20260328T235636Z
UID:10091574-1780344000-1780351200@thecomedybureau.com
SUMMARY:Laugh Riot Grrrrl @ Tao Comedy Studio (in LA)
DESCRIPTION:Outdoor Open Mic\nWomen only\nStarts 8PM PT\nSign-up 7:30PM PT\n$5 = 5 minutes + drink.\n$5. Venmo: Bobbie-Oliver \nTake a punch card and keep coming back (5th mic is free) COMICS ONLY.\nEnter through alley behind Tao (between 1st and 2nd).\nWe are outside. We are NOT USING A MIC (to cut down on touching).\nYou must wear a mask to go in and use the bathroom.
URL:https://thecomedybureau.com/show/laugh-riot-grrrrl-tao-comedy-patio-in-la-23-2-2-2/2026-06-01/
LOCATION:Tao Comedy Studio\, 131 South Western Avenue\, Los Angeles\, CA\, 90004\, United States
CATEGORIES:Los Angeles,Los Angeles Open Mics,Open Mic
GEO:34.0721203;-118.309296
X-APPLE-STRUCTURED-LOCATION;VALUE=URI;X-ADDRESS=Tao Comedy Studio 131 South Western Avenue Los Angeles CA 90004 United States;X-APPLE-RADIUS=500;X-TITLE=131 South Western Avenue:geo:-118.309296,34.0721203
END:VEVENT
BEGIN:VEVENT
DTSTART;TZID=America/Los_Angeles:20260608T200000
DTEND;TZID=America/Los_Angeles:20260608T220000
DTSTAMP:20260420T051023
CREATED:20231218T020952Z
LAST-MODIFIED:20260328T235636Z
UID:10091575-1780948800-1780956000@thecomedybureau.com
SUMMARY:Laugh Riot Grrrrl @ Tao Comedy Studio (in LA)
DESCRIPTION:Outdoor Open Mic\nWomen only\nStarts 8PM PT\nSign-up 7:30PM PT\n$5 = 5 minutes + drink.\n$5. Venmo: Bobbie-Oliver \nTake a punch card and keep coming back (5th mic is free) COMICS ONLY.\nEnter through alley behind Tao (between 1st and 2nd).\nWe are outside. We are NOT USING A MIC (to cut down on touching).\nYou must wear a mask to go in and use the bathroom.
URL:https://thecomedybureau.com/show/laugh-riot-grrrrl-tao-comedy-patio-in-la-23-2-2-2/2026-06-08/
LOCATION:Tao Comedy Studio\, 131 South Western Avenue\, Los Angeles\, CA\, 90004\, United States
CATEGORIES:Los Angeles,Los Angeles Open Mics,Open Mic
GEO:34.0721203;-118.309296
X-APPLE-STRUCTURED-LOCATION;VALUE=URI;X-ADDRESS=Tao Comedy Studio 131 South Western Avenue Los Angeles CA 90004 United States;X-APPLE-RADIUS=500;X-TITLE=131 South Western Avenue:geo:-118.309296,34.0721203
END:VEVENT
BEGIN:VEVENT
DTSTART;TZID=America/Los_Angeles:20260615T200000
DTEND;TZID=America/Los_Angeles:20260615T220000
DTSTAMP:20260420T051023
CREATED:20231218T020952Z
LAST-MODIFIED:20260328T235636Z
UID:10091576-1781553600-1781560800@thecomedybureau.com
SUMMARY:Laugh Riot Grrrrl @ Tao Comedy Studio (in LA)
DESCRIPTION:Outdoor Open Mic\nWomen only\nStarts 8PM PT\nSign-up 7:30PM PT\n$5 = 5 minutes + drink.\n$5. Venmo: Bobbie-Oliver \nTake a punch card and keep coming back (5th mic is free) COMICS ONLY.\nEnter through alley behind Tao (between 1st and 2nd).\nWe are outside. We are NOT USING A MIC (to cut down on touching).\nYou must wear a mask to go in and use the bathroom.
URL:https://thecomedybureau.com/show/laugh-riot-grrrrl-tao-comedy-patio-in-la-23-2-2-2/2026-06-15/
LOCATION:Tao Comedy Studio\, 131 South Western Avenue\, Los Angeles\, CA\, 90004\, United States
CATEGORIES:Los Angeles,Los Angeles Open Mics,Open Mic
GEO:34.0721203;-118.309296
X-APPLE-STRUCTURED-LOCATION;VALUE=URI;X-ADDRESS=Tao Comedy Studio 131 South Western Avenue Los Angeles CA 90004 United States;X-APPLE-RADIUS=500;X-TITLE=131 South Western Avenue:geo:-118.309296,34.0721203
END:VEVENT
BEGIN:VEVENT
DTSTART;TZID=America/Los_Angeles:20260622T200000
DTEND;TZID=America/Los_Angeles:20260622T220000
DTSTAMP:20260420T051023
CREATED:20231218T020952Z
LAST-MODIFIED:20260328T235636Z
UID:10091577-1782158400-1782165600@thecomedybureau.com
SUMMARY:Laugh Riot Grrrrl @ Tao Comedy Studio (in LA)
DESCRIPTION:Outdoor Open Mic\nWomen only\nStarts 8PM PT\nSign-up 7:30PM PT\n$5 = 5 minutes + drink.\n$5. Venmo: Bobbie-Oliver \nTake a punch card and keep coming back (5th mic is free) COMICS ONLY.\nEnter through alley behind Tao (between 1st and 2nd).\nWe are outside. We are NOT USING A MIC (to cut down on touching).\nYou must wear a mask to go in and use the bathroom.
URL:https://thecomedybureau.com/show/laugh-riot-grrrrl-tao-comedy-patio-in-la-23-2-2-2/2026-06-22/
LOCATION:Tao Comedy Studio\, 131 South Western Avenue\, Los Angeles\, CA\, 90004\, United States
CATEGORIES:Los Angeles,Los Angeles Open Mics,Open Mic
GEO:34.0721203;-118.309296
X-APPLE-STRUCTURED-LOCATION;VALUE=URI;X-ADDRESS=Tao Comedy Studio 131 South Western Avenue Los Angeles CA 90004 United States;X-APPLE-RADIUS=500;X-TITLE=131 South Western Avenue:geo:-118.309296,34.0721203
END:VEVENT
BEGIN:VEVENT
DTSTART;TZID=America/Los_Angeles:20260629T200000
DTEND;TZID=America/Los_Angeles:20260629T220000
DTSTAMP:20260420T051023
CREATED:20231218T020952Z
LAST-MODIFIED:20260328T235636Z
UID:10091578-1782763200-1782770400@thecomedybureau.com
SUMMARY:Laugh Riot Grrrrl @ Tao Comedy Studio (in LA)
DESCRIPTION:Outdoor Open Mic\nWomen only\nStarts 8PM PT\nSign-up 7:30PM PT\n$5 = 5 minutes + drink.\n$5. Venmo: Bobbie-Oliver \nTake a punch card and keep coming back (5th mic is free) COMICS ONLY.\nEnter through alley behind Tao (between 1st and 2nd).\nWe are outside. We are NOT USING A MIC (to cut down on touching).\nYou must wear a mask to go in and use the bathroom.
URL:https://thecomedybureau.com/show/laugh-riot-grrrrl-tao-comedy-patio-in-la-23-2-2-2/2026-06-29/
LOCATION:Tao Comedy Studio\, 131 South Western Avenue\, Los Angeles\, CA\, 90004\, United States
CATEGORIES:Los Angeles,Los Angeles Open Mics,Open Mic
GEO:34.0721203;-118.309296
X-APPLE-STRUCTURED-LOCATION;VALUE=URI;X-ADDRESS=Tao Comedy Studio 131 South Western Avenue Los Angeles CA 90004 United States;X-APPLE-RADIUS=500;X-TITLE=131 South Western Avenue:geo:-118.309296,34.0721203
END:VEVENT
END:VCALENDAR