BEGIN:VCALENDAR
VERSION:2.0
PRODID:-//The Comedy Bureau - ECPv6.15.18//NONSGML v1.0//EN
CALSCALE:GREGORIAN
METHOD:PUBLISH
X-WR-CALNAME:The Comedy Bureau
X-ORIGINAL-URL:https://thecomedybureau.com
X-WR-CALDESC:Events for The Comedy Bureau
REFRESH-INTERVAL;VALUE=DURATION:PT1H
X-Robots-Tag:noindex
X-PUBLISHED-TTL:PT1H
BEGIN:VTIMEZONE
TZID:America/Los_Angeles
BEGIN:DAYLIGHT
TZOFFSETFROM:-0800
TZOFFSETTO:-0700
TZNAME:PDT
DTSTART:20250309T100000
END:DAYLIGHT
BEGIN:STANDARD
TZOFFSETFROM:-0700
TZOFFSETTO:-0800
TZNAME:PST
DTSTART:20251102T090000
END:STANDARD
BEGIN:DAYLIGHT
TZOFFSETFROM:-0800
TZOFFSETTO:-0700
TZNAME:PDT
DTSTART:20260308T100000
END:DAYLIGHT
BEGIN:STANDARD
TZOFFSETFROM:-0700
TZOFFSETTO:-0800
TZNAME:PST
DTSTART:20261101T090000
END:STANDARD
BEGIN:DAYLIGHT
TZOFFSETFROM:-0800
TZOFFSETTO:-0700
TZNAME:PDT
DTSTART:20270314T100000
END:DAYLIGHT
BEGIN:STANDARD
TZOFFSETFROM:-0700
TZOFFSETTO:-0800
TZNAME:PST
DTSTART:20271107T090000
END:STANDARD
END:VTIMEZONE
BEGIN:VTIMEZONE
TZID:America/New_York
BEGIN:DAYLIGHT
TZOFFSETFROM:-0500
TZOFFSETTO:-0400
TZNAME:EDT
DTSTART:20250309T070000
END:DAYLIGHT
BEGIN:STANDARD
TZOFFSETFROM:-0400
TZOFFSETTO:-0500
TZNAME:EST
DTSTART:20251102T060000
END:STANDARD
BEGIN:DAYLIGHT
TZOFFSETFROM:-0500
TZOFFSETTO:-0400
TZNAME:EDT
DTSTART:20260308T070000
END:DAYLIGHT
BEGIN:STANDARD
TZOFFSETFROM:-0400
TZOFFSETTO:-0500
TZNAME:EST
DTSTART:20261101T060000
END:STANDARD
BEGIN:DAYLIGHT
TZOFFSETFROM:-0500
TZOFFSETTO:-0400
TZNAME:EDT
DTSTART:20270314T070000
END:DAYLIGHT
BEGIN:STANDARD
TZOFFSETFROM:-0400
TZOFFSETTO:-0500
TZNAME:EST
DTSTART:20271107T060000
END:STANDARD
END:VTIMEZONE
BEGIN:VEVENT
DTSTART;TZID=America/Los_Angeles:20260422T193000
DTEND;TZID=America/Los_Angeles:20260422T210000
DTSTAMP:20260421T024627
CREATED:20260412T003942Z
LAST-MODIFIED:20260412T003942Z
UID:10094710-1776886200-1776891600@thecomedybureau.com
SUMMARY:POWER Presents: A Talk Show to Save the World! (in LA)
DESCRIPTION:A new talk show is born\, benefitting People Organized for Westside Renewal (POWER!) POWER is a 501(c)(3) progressive organization supporting issues that matter to people in our communities including affordable housing\, community safety\, and access to quality education. Join us as your favorite comedians perform and sit down on the couch with the hosts of The Power Hour: A “morning” talk show where we talk TEA\, ask SPICY Q’S\, and GET REAL! \nFeaturing: Best Actress (KP Parker\, Chelsea Morgan\, Monica Loomba\,) EJ Marcus\, Ru Anderson\, and more! \nSam Walt Jones and Eleanor Bray are LA-based writers and comedians with an affinity for social justice and equity! \nStarts 7:30PM PT
URL:https://thecomedybureau.com/show/power-presents-a-talk-show-to-save-the-world-in-la/
LOCATION:The Elysian\, 1944 Riverside Drive\, Los Angeles\, CA\, 90039\, United States
CATEGORIES:Comedy Show,Los Angeles Shows,Talk show,Variety
GEO:34.0979699;-118.2479957
X-APPLE-STRUCTURED-LOCATION;VALUE=URI;X-ADDRESS=The Elysian 1944 Riverside Drive Los Angeles CA 90039 United States;X-APPLE-RADIUS=500;X-TITLE=1944 Riverside Drive:geo:-118.2479957,34.0979699
END:VEVENT
BEGIN:VEVENT
DTSTART;TZID=America/New_York:20260422T193000
DTEND;TZID=America/New_York:20260422T213000
DTSTAMP:20260421T024627
CREATED:20260323T160906Z
LAST-MODIFIED:20260323T160906Z
UID:10083324-1776886200-1776893400@thecomedybureau.com
SUMMARY:We Just Find It Funny presents: Odd Jobs (in NYC)
DESCRIPTION:A female-focused comedy variety show exploring the Odd Jobs of NYC\, hosted by Kat Smith and featuring the funniest women in NYC! \n\n\n\n\nWe Just Find it Funny presents… Odd Jobs!!! \nHosted by Kat Smith \nGet ready for a hilarious night\, jam-packed with special guests and the funniest women in town exploring the highs and lows of the Odd Jobs of New York City. We have unreal stories\, segments\, standup\, and even some giveaways you won’t want to miss! \nThe first 25 early-bird tickets are just $15 – available now with code ODDJOBS \n\n\nStarts 7;30PM ET
URL:https://thecomedybureau.com/show/we-just-find-it-funny-presents-odd-jobs-in-nyc/
LOCATION:littlefield\, 635 Sackett Street\, Brooklyn\, NY\, 11217\, United States
CATEGORIES:Comedy Show,New York Shows,Talk show,Variety
GEO:40.6784267;-73.9833102
X-APPLE-STRUCTURED-LOCATION;VALUE=URI;X-ADDRESS=littlefield 635 Sackett Street Brooklyn NY 11217 United States;X-APPLE-RADIUS=500;X-TITLE=635 Sackett Street:geo:-73.9833102,40.6784267
END:VEVENT
BEGIN:VEVENT
DTSTART;TZID=America/Los_Angeles:20260426T200000
DTEND;TZID=America/Los_Angeles:20260426T213000
DTSTAMP:20260421T024627
CREATED:20251201T005849Z
LAST-MODIFIED:20260403T074644Z
UID:10075615-1777233600-1777239000@thecomedybureau.com
SUMMARY:Sammy Tonite! (in LA w/Livestream)
DESCRIPTION:Sammy Tonite with Sammy Mowrey (Adult Swim\, HBO Max) is a new queer talk show Live in LA and Livestreamed!\n\n\n\nSammy Tonite is a new queer talk show hosted by stand-up comedian Sammy Mowrey (seen on Adult Swim\, HBO Max). Join us for our first episode which features sketches from our cast of writers\, segments\, guest comedians and music from our houseband Ryan and the Dudettes. \nThis month’s guests: \n\nVera Drew (The People’s Joker)\nJanaya Future Khan (Dark Woke Show)\n\nWritten by: Sammy Mowrey\, Alice Brenner\, Jake Noll\, Enor Bishop\, Tyler Jackson and Ryan Daly. \nProduced by: Langston Alimayu\, Anya Solotaire and DSP \nStarts/streams 8PM PT/11PM ET
URL:https://thecomedybureau.com/show/sammy-tonite-in-la-w-livestream/
LOCATION:DSP LA\, 1960 Riverside Drive\, Los Angeles\, CA\, 90039\, United States
CATEGORIES:Comedy Show,Los Angeles Shows,New York Shows,Talk show
GEO:34.0982598;-118.248412
X-APPLE-STRUCTURED-LOCATION;VALUE=URI;X-ADDRESS=DSP LA 1960 Riverside Drive Los Angeles CA 90039 United States;X-APPLE-RADIUS=500;X-TITLE=1960 Riverside Drive:geo:-118.248412,34.0982598
END:VEVENT
BEGIN:VEVENT
DTSTART;TZID=America/New_York:20260429T190000
DTEND;TZID=America/New_York:20260429T210000
DTSTAMP:20260421T024627
CREATED:20230227T235449Z
LAST-MODIFIED:20260413T011152Z
UID:10094790-1777489200-1777496400@thecomedybureau.com
SUMMARY:Therapy Gecko (in NYC)
DESCRIPTION:Comedian & unlicensed therapist Therapy Gecko (aka Lyle Forever or just “Geck”) hits the road again in 2026 for his 4th LIVE tour. Fans get the chance to converse w/ the gecko live on stage as they share their problems\, dreams & anything else they choose. Mixed in w/ personal stories from Lyle’s experience as a world trotting reptile\, it will be a beautiful\, interactive & unpredictable night! \nStarts 7PM ET
URL:https://thecomedybureau.com/show/therapy-gecko-the-geckoning-world-tour-in-nyc/
LOCATION:The Bell House\, 149 7th Street\, Brooklyn\, NY\, 11215\, United States
CATEGORIES:Comedy Show,Experimental comedy,New York Shows,Talk show
GEO:40.6737185;-73.9916803
X-APPLE-STRUCTURED-LOCATION;VALUE=URI;X-ADDRESS=The Bell House 149 7th Street Brooklyn NY 11215 United States;X-APPLE-RADIUS=500;X-TITLE=149 7th Street:geo:-73.9916803,40.6737185
END:VEVENT
BEGIN:VEVENT
DTSTART;TZID=America/New_York:20260504T190000
DTEND;TZID=America/New_York:20260504T210000
DTSTAMP:20260421T024627
CREATED:20220629T092430Z
LAST-MODIFIED:20260225T032108Z
UID:10075575-1777921200-1777928400@thecomedybureau.com
SUMMARY:The George Lucas Talk Show (in NYC)
DESCRIPTION:A show for Star Wars fans and non-fans alike returns to the UCB theater for the first time in five years! Comedian Connor Ratliff (“Dead Eyes”\, “The Marvelous Mrs Maisel”) appears as George Lucas\, the creator of Star Wars\, and interviews guests like a “normal talk show”. He is joined by sidekick Watto\, played by Griffin Newman (“Blank Check”\, “The Tick”)\, and show producer Patrick Cotnoir. The show has been running since 2014 and was a regular show at the UCB Theatre in New York City for years. It has been streaming on Twitch and touring around the world since 2020. \nCollider called them ‘a bit of sunlight streaming into our lives’ and they were featured in Rolling Stone\, talked about on Seth Meyers\, had a very successful run at the Edinburgh Fringe Fest and were recently the subject of a feature length documentary that made the festival rounds and is currently available on VOD. \nStarts 7PM ET \n 
URL:https://thecomedybureau.com/show/the-george-lucas-talk-show-in-nyc/
LOCATION:The Bell House\, 149 7th Street\, Brooklyn\, NY\, 11215\, United States
CATEGORIES:Comedy Show,New York Shows,Talk show
GEO:40.6737185;-73.9916803
X-APPLE-STRUCTURED-LOCATION;VALUE=URI;X-ADDRESS=The Bell House 149 7th Street Brooklyn NY 11215 United States;X-APPLE-RADIUS=500;X-TITLE=149 7th Street:geo:-73.9916803,40.6737185
END:VEVENT
BEGIN:VEVENT
DTSTART;TZID=America/Los_Angeles:20260505T174500
DTEND;TZID=America/Los_Angeles:20260505T190000
DTSTAMP:20260421T024627
CREATED:20260421T052638Z
LAST-MODIFIED:20260421T052638Z
UID:10094999-1778003100-1778007600@thecomedybureau.com
SUMMARY:Hanging with Doctor Z @ Netflix Is a Joke (in LA)
DESCRIPTION:There is a special group of entertainers that only require one name. Madonna. Sammy. Cher. To that list you can now add… Dr. Z.  “Dr.” is a title\, so it works. This simian superstar has been there and done that\, and for one night only\, May 5th 2026\, he wants to do it with you!  Starring Dana Gould\, Michael Hitchcock\, Andy Daly\, Blaine Capatch and a SUPER AMAZING INCREDIBLE SURPRISE GUEST! Mow the lawn another night. **** You… don’t… want… to… miss… this! \nStarts 5:45PM PT
URL:https://thecomedybureau.com/show/hanging-with-doctor-z-netflix-is-a-joke-in-la/
LOCATION:Pacific Electric\, 1729 Naud Street\, Los Angeles\, CA\, 90012\, United States
CATEGORIES:Comedy Show,Los Angeles Shows,New York Shows,Talk show
GEO:34.06918;-118.2258
X-APPLE-STRUCTURED-LOCATION;VALUE=URI;X-ADDRESS=Pacific Electric 1729 Naud Street Los Angeles CA 90012 United States;X-APPLE-RADIUS=500;X-TITLE=1729 Naud Street:geo:-118.2258,34.06918
END:VEVENT
BEGIN:VEVENT
DTSTART;TZID=America/Los_Angeles:20260513T190000
DTEND;TZID=America/Los_Angeles:20260513T203000
DTSTAMP:20260421T024627
CREATED:20260413T050212Z
LAST-MODIFIED:20260413T050212Z
UID:10094795-1778698800-1778704200@thecomedybureau.com
SUMMARY:So Many Issues with Lukas (in NYC)
DESCRIPTION:So Many Issues with Lukas blends the worlds of pop culture and politics through comedy and conversation. Hosted by comedian Lukas Thimm\, that show consists of interviews\, performances\, and sketches. Lukas has interviewed late-night host Andy Cohen to MSNBC’s Stephanie Ruhle to RuPaul’s Drag Race star Peppermint to New York City Comptroller Brad Lander. \nStarts 7PM ET
URL:https://thecomedybureau.com/show/so-many-issues-with-lukas-in-nyc/2026-05-13/
LOCATION:Brooklyn Art Haus\, 20-26 Marcy Avenue\, Brooklyn\, NY\, 11211\, United States
CATEGORIES:Comedy Show,New York Shows,Talk show,Variety
GEO:40.7134688;-73.9549797
X-APPLE-STRUCTURED-LOCATION;VALUE=URI;X-ADDRESS=Brooklyn Art Haus 20-26 Marcy Avenue Brooklyn NY 11211 United States;X-APPLE-RADIUS=500;X-TITLE=20-26 Marcy Avenue:geo:-73.9549797,40.7134688
END:VEVENT
BEGIN:VEVENT
DTSTART;TZID=America/New_York:20260602T200000
DTEND;TZID=America/New_York:20260602T213000
DTSTAMP:20260421T024627
CREATED:20250328T013929Z
LAST-MODIFIED:20260419T181951Z
UID:10056481-1780430400-1780435800@thecomedybureau.com
SUMMARY:Jenny Hagel Gives Advice Book Launch (in NYC)
DESCRIPTION:Jenny Hagel is an Emmy-nominated writer/performer for Late Night w/ Seth Meyers\, & she loves two things: comedy & telling people what to do! \n\n\n\n\nJenny Hagel is an Emmy-nominated writer/performer for Late Night with Seth Meyers\, and she loves two things: comedy and telling people what to do. In her live show “Jenny Hagel Gives Advice\,” she gets to do both at the same time! \nJenny invites audience members to submit written questions about their relationships\, careers\, and finances. Then Jenny and a special guest give their best\, most professional (not professional at all) life advice. At the end of the show\, Jenny invites a real live therapist on stage to tell her and her guest star if they did a good job – or if the audience should totally ignore all of the advice they heard over the past hour. \n“Jenny Hagel Gives Advice” is more than just a comedy show — it’s a hilarious\, interactive way to watch a skilled comedian fix and/or ruin a bunch of strangers’ lives! \nWith special guest: Michael Ian Black (The State\, Viva Variety\, Stella\, Wet Hot American Summer: First Day of Camp) \n\n\nStarts 8PM ET
URL:https://thecomedybureau.com/show/jenny-hagel-gives-advice-in-nyc-2/
LOCATION:littlefield\, 635 Sackett Street\, Brooklyn\, NY\, 11217\, United States
CATEGORIES:Comedy Show,New York Shows,Talk show
GEO:40.6784267;-73.9833102
X-APPLE-STRUCTURED-LOCATION;VALUE=URI;X-ADDRESS=littlefield 635 Sackett Street Brooklyn NY 11217 United States;X-APPLE-RADIUS=500;X-TITLE=635 Sackett Street:geo:-73.9833102,40.6784267
END:VEVENT
BEGIN:VEVENT
DTSTART;TZID=America/Los_Angeles:20260610T190000
DTEND;TZID=America/Los_Angeles:20260610T203000
DTSTAMP:20260421T024627
CREATED:20260413T050212Z
LAST-MODIFIED:20260413T050212Z
UID:10094796-1781118000-1781123400@thecomedybureau.com
SUMMARY:So Many Issues with Lukas (in NYC)
DESCRIPTION:So Many Issues with Lukas blends the worlds of pop culture and politics through comedy and conversation. Hosted by comedian Lukas Thimm\, that show consists of interviews\, performances\, and sketches. Lukas has interviewed late-night host Andy Cohen to MSNBC’s Stephanie Ruhle to RuPaul’s Drag Race star Peppermint to New York City Comptroller Brad Lander. \nStarts 7PM ET
URL:https://thecomedybureau.com/show/so-many-issues-with-lukas-in-nyc/2026-06-10/
LOCATION:Brooklyn Art Haus\, 20-26 Marcy Avenue\, Brooklyn\, NY\, 11211\, United States
CATEGORIES:Comedy Show,New York Shows,Talk show,Variety
GEO:40.7134688;-73.9549797
X-APPLE-STRUCTURED-LOCATION;VALUE=URI;X-ADDRESS=Brooklyn Art Haus 20-26 Marcy Avenue Brooklyn NY 11211 United States;X-APPLE-RADIUS=500;X-TITLE=20-26 Marcy Avenue:geo:-73.9549797,40.7134688
END:VEVENT
BEGIN:VEVENT
DTSTART;TZID=America/Los_Angeles:20260808T213000
DTEND;TZID=America/Los_Angeles:20260808T230000
DTSTAMP:20260421T024627
CREATED:20260327T234305Z
LAST-MODIFIED:20260327T234305Z
UID:10083394-1786224600-1786230000@thecomedybureau.com
SUMMARY:Not That Late Show (in LA)
DESCRIPTION:Not That Late Show is a satirical exploration of late-stage capitalism\, women’s sexuality\, and pop culture through a queer/femme lens. \nEach month Rachael and Lizzy break down headlines with a Weekend Update-style monologue. Then they invite a comedic and musical guest to perform and be interviewed in an absurd fashion\, with each segment being divided by ‘‘commercial breaks” of meta-world-building parodies and original\, freaky brainchildren. These produced segments create retae an immersive experience that you’re at home watching TV\, just in a slightly different dimension. It’s sketch\, improv\, stand-up\, live music and so much more all in one night! \nHosted\, written and directed by Lisa Barlow impressionist extraordinaire and comedian Rachael Young\, and comedian and badass Lizzy Rees\, NTLS is like if Weekend Updates Tina and Amy had (hot) daughters with Beavis and Butthead! They’ve performed all over Portland\, Oregon and are excited to put the “weird” back in “Hollyweird”! \nFeaturing: \nEllory Smith! \nMark Indelicato! \nMusical guest Chris Farren! \nCheck out previous live shows and sketches on YouTube! \nStarts 9:30PM PT
URL:https://thecomedybureau.com/show/not-that-late-show-in-la/
LOCATION:Lyric Hyperion Theatre & Café\, 2106 Hyperion Avenue\, Los Angeles\, CA\, 90027\, United States
CATEGORIES:Comedy Show,Los Angeles Shows,Sketch,Talk show
GEO:34.0988494;-118.2736979
X-APPLE-STRUCTURED-LOCATION;VALUE=URI;X-ADDRESS=Lyric Hyperion Theatre & Café 2106 Hyperion Avenue Los Angeles CA 90027 United States;X-APPLE-RADIUS=500;X-TITLE=2106 Hyperion Avenue:geo:-118.2736979,34.0988494
END:VEVENT
BEGIN:VEVENT
DTSTART;TZID=America/Los_Angeles:20260916T190000
DTEND;TZID=America/Los_Angeles:20260916T203000
DTSTAMP:20260421T024627
CREATED:20260413T050212Z
LAST-MODIFIED:20260413T050212Z
UID:10094797-1789585200-1789590600@thecomedybureau.com
SUMMARY:So Many Issues with Lukas (in NYC)
DESCRIPTION:So Many Issues with Lukas blends the worlds of pop culture and politics through comedy and conversation. Hosted by comedian Lukas Thimm\, that show consists of interviews\, performances\, and sketches. Lukas has interviewed late-night host Andy Cohen to MSNBC’s Stephanie Ruhle to RuPaul’s Drag Race star Peppermint to New York City Comptroller Brad Lander. \nStarts 7PM ET
URL:https://thecomedybureau.com/show/so-many-issues-with-lukas-in-nyc/2026-09-16/
LOCATION:Brooklyn Art Haus\, 20-26 Marcy Avenue\, Brooklyn\, NY\, 11211\, United States
CATEGORIES:Comedy Show,New York Shows,Talk show,Variety
GEO:40.7134688;-73.9549797
X-APPLE-STRUCTURED-LOCATION;VALUE=URI;X-ADDRESS=Brooklyn Art Haus 20-26 Marcy Avenue Brooklyn NY 11211 United States;X-APPLE-RADIUS=500;X-TITLE=20-26 Marcy Avenue:geo:-73.9549797,40.7134688
END:VEVENT
BEGIN:VEVENT
DTSTART;TZID=America/Los_Angeles:20261014T190000
DTEND;TZID=America/Los_Angeles:20261014T203000
DTSTAMP:20260421T024627
CREATED:20260413T050212Z
LAST-MODIFIED:20260413T050212Z
UID:10094798-1792004400-1792009800@thecomedybureau.com
SUMMARY:So Many Issues with Lukas (in NYC)
DESCRIPTION:So Many Issues with Lukas blends the worlds of pop culture and politics through comedy and conversation. Hosted by comedian Lukas Thimm\, that show consists of interviews\, performances\, and sketches. Lukas has interviewed late-night host Andy Cohen to MSNBC’s Stephanie Ruhle to RuPaul’s Drag Race star Peppermint to New York City Comptroller Brad Lander. \nStarts 7PM ET
URL:https://thecomedybureau.com/show/so-many-issues-with-lukas-in-nyc/2026-10-14/
LOCATION:Brooklyn Art Haus\, 20-26 Marcy Avenue\, Brooklyn\, NY\, 11211\, United States
CATEGORIES:Comedy Show,New York Shows,Talk show,Variety
GEO:40.7134688;-73.9549797
X-APPLE-STRUCTURED-LOCATION;VALUE=URI;X-ADDRESS=Brooklyn Art Haus 20-26 Marcy Avenue Brooklyn NY 11211 United States;X-APPLE-RADIUS=500;X-TITLE=20-26 Marcy Avenue:geo:-73.9549797,40.7134688
END:VEVENT
BEGIN:VEVENT
DTSTART;TZID=America/Los_Angeles:20261111T190000
DTEND;TZID=America/Los_Angeles:20261111T203000
DTSTAMP:20260421T024627
CREATED:20260413T050212Z
LAST-MODIFIED:20260413T050212Z
UID:10094799-1794423600-1794429000@thecomedybureau.com
SUMMARY:So Many Issues with Lukas (in NYC)
DESCRIPTION:So Many Issues with Lukas blends the worlds of pop culture and politics through comedy and conversation. Hosted by comedian Lukas Thimm\, that show consists of interviews\, performances\, and sketches. Lukas has interviewed late-night host Andy Cohen to MSNBC’s Stephanie Ruhle to RuPaul’s Drag Race star Peppermint to New York City Comptroller Brad Lander. \nStarts 7PM ET
URL:https://thecomedybureau.com/show/so-many-issues-with-lukas-in-nyc/2026-11-11/
LOCATION:Brooklyn Art Haus\, 20-26 Marcy Avenue\, Brooklyn\, NY\, 11211\, United States
CATEGORIES:Comedy Show,New York Shows,Talk show,Variety
GEO:40.7134688;-73.9549797
X-APPLE-STRUCTURED-LOCATION;VALUE=URI;X-ADDRESS=Brooklyn Art Haus 20-26 Marcy Avenue Brooklyn NY 11211 United States;X-APPLE-RADIUS=500;X-TITLE=20-26 Marcy Avenue:geo:-73.9549797,40.7134688
END:VEVENT
END:VCALENDAR