BEGIN:VCALENDAR
VERSION:2.0
PRODID:-//The Comedy Bureau - ECPv6.15.18//NONSGML v1.0//EN
CALSCALE:GREGORIAN
METHOD:PUBLISH
X-ORIGINAL-URL:https://thecomedybureau.com
X-WR-CALDESC:Events for The Comedy Bureau
REFRESH-INTERVAL;VALUE=DURATION:PT1H
X-Robots-Tag:noindex
X-PUBLISHED-TTL:PT1H
BEGIN:VTIMEZONE
TZID:America/New_York
BEGIN:DAYLIGHT
TZOFFSETFROM:-0500
TZOFFSETTO:-0400
TZNAME:EDT
DTSTART:20230312T070000
END:DAYLIGHT
BEGIN:STANDARD
TZOFFSETFROM:-0400
TZOFFSETTO:-0500
TZNAME:EST
DTSTART:20231105T060000
END:STANDARD
BEGIN:DAYLIGHT
TZOFFSETFROM:-0500
TZOFFSETTO:-0400
TZNAME:EDT
DTSTART:20240310T070000
END:DAYLIGHT
BEGIN:STANDARD
TZOFFSETFROM:-0400
TZOFFSETTO:-0500
TZNAME:EST
DTSTART:20241103T060000
END:STANDARD
BEGIN:DAYLIGHT
TZOFFSETFROM:-0500
TZOFFSETTO:-0400
TZNAME:EDT
DTSTART:20250309T070000
END:DAYLIGHT
BEGIN:STANDARD
TZOFFSETFROM:-0400
TZOFFSETTO:-0500
TZNAME:EST
DTSTART:20251102T060000
END:STANDARD
END:VTIMEZONE
BEGIN:VTIMEZONE
TZID:America/Los_Angeles
BEGIN:DAYLIGHT
TZOFFSETFROM:-0800
TZOFFSETTO:-0700
TZNAME:PDT
DTSTART:20230312T100000
END:DAYLIGHT
BEGIN:STANDARD
TZOFFSETFROM:-0700
TZOFFSETTO:-0800
TZNAME:PST
DTSTART:20231105T090000
END:STANDARD
BEGIN:DAYLIGHT
TZOFFSETFROM:-0800
TZOFFSETTO:-0700
TZNAME:PDT
DTSTART:20240310T100000
END:DAYLIGHT
BEGIN:STANDARD
TZOFFSETFROM:-0700
TZOFFSETTO:-0800
TZNAME:PST
DTSTART:20241103T090000
END:STANDARD
BEGIN:DAYLIGHT
TZOFFSETFROM:-0800
TZOFFSETTO:-0700
TZNAME:PDT
DTSTART:20250309T100000
END:DAYLIGHT
BEGIN:STANDARD
TZOFFSETFROM:-0700
TZOFFSETTO:-0800
TZNAME:PST
DTSTART:20251102T090000
END:STANDARD
END:VTIMEZONE
BEGIN:VEVENT
DTSTART;TZID=America/New_York:20240326T190000
DTEND;TZID=America/New_York:20240326T210000
DTSTAMP:20260422T025036
CREATED:20231029T103450Z
LAST-MODIFIED:20241126T091353Z
UID:10011581-1711479600-1711486800@thecomedybureau.com
SUMMARY:Alphaville (in NYC)
DESCRIPTION:Sign-up 6:30PM ET\nStarts 7PM ET\n5 min.\n$5 or 1 drink min. to perform\nPresented by Pure Chaos Comedy
URL:https://thecomedybureau.com/show/alphaville-in-nyc-2/2024-03-26/
LOCATION:Alphaville\, 140 Wilson Street\, New York\, NY\, 11237\, United States
CATEGORIES:New York Open Mics,Open Mic,Standard
GEO:40.7055301;-73.9618778
X-APPLE-STRUCTURED-LOCATION;VALUE=URI;X-ADDRESS=Alphaville 140 Wilson Street New York NY 11237 United States;X-APPLE-RADIUS=500;X-TITLE=140 Wilson Street:geo:-73.9618778,40.7055301
END:VEVENT
BEGIN:VEVENT
DTSTART;TZID=America/Los_Angeles:20240326T193000
DTEND;TZID=America/Los_Angeles:20240326T203000
DTSTAMP:20260422T025036
CREATED:20230723T221126Z
LAST-MODIFIED:20240313T100617Z
UID:10000074-1711481400-1711485000@thecomedybureau.com
SUMMARY:Mo Welch & Friends (in LA)
DESCRIPTION:Mo Welch is a cartoonist (The New Yorker) and a stand up (Conan\, Comedy Central) and she’s ready to debut some of her new material about coming out\, marrying a musical theater nerd\, and having a baby the new-fashioned way. \nFeaturing: TBA \nStarts 7:30PM PT
URL:https://thecomedybureau.com/show/mo-welch-friends-in-la-2/
LOCATION:UCB Franklin\, 5919 Franklin Avenue\, Los Angeles\, CA\, 90028\, United States
CATEGORIES:Comedy Show,Los Angeles Shows,Stand Up,Standard
GEO:34.1054949;-118.3187612
X-APPLE-STRUCTURED-LOCATION;VALUE=URI;X-ADDRESS=UCB Franklin 5919 Franklin Avenue Los Angeles CA 90028 United States;X-APPLE-RADIUS=500;X-TITLE=5919 Franklin Avenue:geo:-118.3187612,34.1054949
END:VEVENT
BEGIN:VEVENT
DTSTART;TZID=America/Los_Angeles:20240326T200000
DTEND;TZID=America/Los_Angeles:20240326T213000
DTSTAMP:20260422T025036
CREATED:20231218T070522Z
LAST-MODIFIED:20250521T031322Z
UID:10062601-1711483200-1711488600@thecomedybureau.com
SUMMARY:Acapulco Goldie's @ The Mexican Village (in LA)
DESCRIPTION:Sign-up 7:30PM\nStarts 8PM\nBucket lottery\n5 min.\nHosted by Peter Skobel and Rick Carrera
URL:https://thecomedybureau.com/show/acapulco-goldies-the-mexican-village-in-la-2-2-2/2024-03-26/
LOCATION:The Mexican Village\, 3668 Beverly Boulevard\, Los Angeles\, CA\, 90004\, United States
CATEGORIES:Los Angeles,Los Angeles Open Mics,Open Mic,Standard
GEO:34.0760724;-118.2884966
X-APPLE-STRUCTURED-LOCATION;VALUE=URI;X-ADDRESS=The Mexican Village 3668 Beverly Boulevard Los Angeles CA 90004 United States;X-APPLE-RADIUS=500;X-TITLE=3668 Beverly Boulevard:geo:-118.2884966,34.0760724
END:VEVENT
BEGIN:VEVENT
DTSTART;TZID=America/New_York:20240326T214500
DTEND;TZID=America/New_York:20240326T233000
DTSTAMP:20260422T025036
CREATED:20240102T035406Z
LAST-MODIFIED:20250629T070902Z
UID:10012771-1711489500-1711495800@thecomedybureau.com
SUMMARY:Eastville Comedy Club (in NYC)
DESCRIPTION:Sign-up 9:15PM ET\nStarts 9:45PM ET\nEnds 11:30PM ET\n5 min.\n1 item min. to perform\nShow up\, go up
URL:https://thecomedybureau.com/show/eastville-comedy-club-in-nyc-51-2-2-3/2024-03-26/
LOCATION:Eastville Comedy Club\, 487 Atlantic Avenue\, Brooklyn\, NY\, 11217\, United States
CATEGORIES:New York,New York Open Mics,Open Mic,Standard
GEO:40.6859214;-73.9816178
X-APPLE-STRUCTURED-LOCATION;VALUE=URI;X-ADDRESS=Eastville Comedy Club 487 Atlantic Avenue Brooklyn NY 11217 United States;X-APPLE-RADIUS=500;X-TITLE=487 Atlantic Avenue:geo:-73.9816178,40.6859214
END:VEVENT
BEGIN:VEVENT
DTSTART;TZID=America/Los_Angeles:20240327T180000
DTEND;TZID=America/Los_Angeles:20240327T200000
DTSTAMP:20260422T025036
CREATED:20231218T192456Z
LAST-MODIFIED:20241021T161615Z
UID:10012692-1711562400-1711569600@thecomedybureau.com
SUMMARY:Eastville Comedy Club (in NYC)
DESCRIPTION:Sign-up 5:30PM ET\nStarts 6PM ET\nEnds 7:45PM ET\n5 min.\n1 item min. to perform\nShow up\, go up
URL:https://thecomedybureau.com/show/eastville-comedy-club-in-nyc-51-2-2-2/2024-03-27/
LOCATION:Eastville Comedy Club\, 487 Atlantic Avenue\, Brooklyn\, NY\, 11217\, United States
CATEGORIES:New York,New York Open Mics,Open Mic,Standard
GEO:40.6859214;-73.9816178
X-APPLE-STRUCTURED-LOCATION;VALUE=URI;X-ADDRESS=Eastville Comedy Club 487 Atlantic Avenue Brooklyn NY 11217 United States;X-APPLE-RADIUS=500;X-TITLE=487 Atlantic Avenue:geo:-73.9816178,40.6859214
END:VEVENT
BEGIN:VEVENT
DTSTART;TZID=America/New_York:20240327T214500
DTEND;TZID=America/New_York:20240327T233000
DTSTAMP:20260422T025036
CREATED:20240102T035406Z
LAST-MODIFIED:20250629T070902Z
UID:10012772-1711575900-1711582200@thecomedybureau.com
SUMMARY:Eastville Comedy Club (in NYC)
DESCRIPTION:Sign-up 9:15PM ET\nStarts 9:45PM ET\nEnds 11:30PM ET\n5 min.\n1 item min. to perform\nShow up\, go up
URL:https://thecomedybureau.com/show/eastville-comedy-club-in-nyc-51-2-2-3/2024-03-27/
LOCATION:Eastville Comedy Club\, 487 Atlantic Avenue\, Brooklyn\, NY\, 11217\, United States
CATEGORIES:New York,New York Open Mics,Open Mic,Standard
GEO:40.6859214;-73.9816178
X-APPLE-STRUCTURED-LOCATION;VALUE=URI;X-ADDRESS=Eastville Comedy Club 487 Atlantic Avenue Brooklyn NY 11217 United States;X-APPLE-RADIUS=500;X-TITLE=487 Atlantic Avenue:geo:-73.9816178,40.6859214
END:VEVENT
BEGIN:VEVENT
DTSTART;TZID=America/Los_Angeles:20240328T180000
DTEND;TZID=America/Los_Angeles:20240328T200000
DTSTAMP:20260422T025036
CREATED:20231218T192456Z
LAST-MODIFIED:20241021T161615Z
UID:10012693-1711648800-1711656000@thecomedybureau.com
SUMMARY:Eastville Comedy Club (in NYC)
DESCRIPTION:Sign-up 5:30PM ET\nStarts 6PM ET\nEnds 7:45PM ET\n5 min.\n1 item min. to perform\nShow up\, go up
URL:https://thecomedybureau.com/show/eastville-comedy-club-in-nyc-51-2-2-2/2024-03-28/
LOCATION:Eastville Comedy Club\, 487 Atlantic Avenue\, Brooklyn\, NY\, 11217\, United States
CATEGORIES:New York,New York Open Mics,Open Mic,Standard
GEO:40.6859214;-73.9816178
X-APPLE-STRUCTURED-LOCATION;VALUE=URI;X-ADDRESS=Eastville Comedy Club 487 Atlantic Avenue Brooklyn NY 11217 United States;X-APPLE-RADIUS=500;X-TITLE=487 Atlantic Avenue:geo:-73.9816178,40.6859214
END:VEVENT
BEGIN:VEVENT
DTSTART;TZID=America/Los_Angeles:20240328T180000
DTEND;TZID=America/Los_Angeles:20240328T210000
DTSTAMP:20260422T025036
CREATED:20240318T145119Z
LAST-MODIFIED:20240820T033114Z
UID:10013118-1711648800-1711659600@thecomedybureau.com
SUMMARY:(6PM-8PM Hourly) Witty Titties Women’s Only Open Mic (in LA)
DESCRIPTION:This is a women’s only open mic. All are welcome to watch and support\, but only those who identify as a woman or as nonbinary get stage time. Good vibes only! \nStarts 6PM\, 7PM\, 8PM PT every Thursday. Must show up at the top of their slotted hour or forfeit their time and money. \n\nSign-up sheet posted at 12 pm on the day of the mic at https://slotted.co/wittytitties\nCost: $5 for 5 minutes. Must Venmo (@wittytittiescomedy) ahead of time to confirm slot.\nDrinks and snacks are available for purchase\nHosted by Genesis Sol (@thegenesissol)
URL:https://thecomedybureau.com/show/6pm-7pm-hourly-witty-titties-womens-only-open-mic-in-la-20-2-2-2/2024-03-28/
LOCATION:Petty Cash Studios\, 8949 Sunset Boulevard\, West Hollywood\, CA\, 90069\, United States
CATEGORIES:Los Angeles,Los Angeles Open Mics,Open Mic,Standard
GEO:34.0908796;-118.3867111
X-APPLE-STRUCTURED-LOCATION;VALUE=URI;X-ADDRESS=Petty Cash Studios 8949 Sunset Boulevard West Hollywood CA 90069 United States;X-APPLE-RADIUS=500;X-TITLE=8949 Sunset Boulevard:geo:-118.3867111,34.0908796
END:VEVENT
BEGIN:VEVENT
DTSTART;TZID=America/Los_Angeles:20240328T190000
DTEND;TZID=America/Los_Angeles:20240328T210000
DTSTAMP:20260422T025036
CREATED:20231128T175646Z
LAST-MODIFIED:20260330T080003Z
UID:10012822-1711652400-1711659600@thecomedybureau.com
SUMMARY:Comedians on the Loose @ Black Cat LES (in NYC)
DESCRIPTION:Starts 7PM ET\nSign-up in advance at https://www.comediansontheloose.com/open-mics\n5-7 min.\n$5 to perform\nHosted by Sonja Savanovic
URL:https://thecomedybureau.com/show/comedians-on-the-loose-black-cat-les-in-nyc-54-2-2/2024-03-28/
LOCATION:Black Cat LES\, 172 Rivington Street\, New York\, NY\, 10002\, United States
CATEGORIES:New York,New York Open Mics,Open Mic,Standard
GEO:40.7191658;-73.9845007
X-APPLE-STRUCTURED-LOCATION;VALUE=URI;X-ADDRESS=Black Cat LES 172 Rivington Street New York NY 10002 United States;X-APPLE-RADIUS=500;X-TITLE=172 Rivington Street:geo:-73.9845007,40.7191658
END:VEVENT
BEGIN:VEVENT
DTSTART;TZID=America/Los_Angeles:20240330T190000
DTEND;TZID=America/Los_Angeles:20240330T210000
DTSTAMP:20260422T025036
CREATED:20231128T175646Z
LAST-MODIFIED:20260330T080003Z
UID:10012823-1711825200-1711832400@thecomedybureau.com
SUMMARY:Comedians on the Loose @ Black Cat LES (in NYC)
DESCRIPTION:Starts 7PM ET\nSign-up in advance at https://www.comediansontheloose.com/open-mics\n5-7 min.\n$5 to perform\nHosted by Sonja Savanovic
URL:https://thecomedybureau.com/show/comedians-on-the-loose-black-cat-les-in-nyc-54-2-2/2024-03-30/
LOCATION:Black Cat LES\, 172 Rivington Street\, New York\, NY\, 10002\, United States
CATEGORIES:New York,New York Open Mics,Open Mic,Standard
GEO:40.7191658;-73.9845007
X-APPLE-STRUCTURED-LOCATION;VALUE=URI;X-ADDRESS=Black Cat LES 172 Rivington Street New York NY 10002 United States;X-APPLE-RADIUS=500;X-TITLE=172 Rivington Street:geo:-73.9845007,40.7191658
END:VEVENT
BEGIN:VEVENT
DTSTART;TZID=America/New_York:20240331T214500
DTEND;TZID=America/New_York:20240331T233000
DTSTAMP:20260422T025036
CREATED:20240102T035406Z
LAST-MODIFIED:20250629T070902Z
UID:10012773-1711921500-1711927800@thecomedybureau.com
SUMMARY:Eastville Comedy Club (in NYC)
DESCRIPTION:Sign-up 9:15PM ET\nStarts 9:45PM ET\nEnds 11:30PM ET\n5 min.\n1 item min. to perform\nShow up\, go up
URL:https://thecomedybureau.com/show/eastville-comedy-club-in-nyc-51-2-2-3/2024-03-31/
LOCATION:Eastville Comedy Club\, 487 Atlantic Avenue\, Brooklyn\, NY\, 11217\, United States
CATEGORIES:New York,New York Open Mics,Open Mic,Standard
GEO:40.6859214;-73.9816178
X-APPLE-STRUCTURED-LOCATION;VALUE=URI;X-ADDRESS=Eastville Comedy Club 487 Atlantic Avenue Brooklyn NY 11217 United States;X-APPLE-RADIUS=500;X-TITLE=487 Atlantic Avenue:geo:-73.9816178,40.6859214
END:VEVENT
BEGIN:VEVENT
DTSTART;TZID=America/Los_Angeles:20240401T180000
DTEND;TZID=America/Los_Angeles:20240401T200000
DTSTAMP:20260422T025036
CREATED:20231218T192456Z
LAST-MODIFIED:20241021T161615Z
UID:10012694-1711994400-1712001600@thecomedybureau.com
SUMMARY:Eastville Comedy Club (in NYC)
DESCRIPTION:Sign-up 5:30PM ET\nStarts 6PM ET\nEnds 7:45PM ET\n5 min.\n1 item min. to perform\nShow up\, go up
URL:https://thecomedybureau.com/show/eastville-comedy-club-in-nyc-51-2-2-2/2024-04-01/
LOCATION:Eastville Comedy Club\, 487 Atlantic Avenue\, Brooklyn\, NY\, 11217\, United States
CATEGORIES:New York,New York Open Mics,Open Mic,Standard
GEO:40.6859214;-73.9816178
X-APPLE-STRUCTURED-LOCATION;VALUE=URI;X-ADDRESS=Eastville Comedy Club 487 Atlantic Avenue Brooklyn NY 11217 United States;X-APPLE-RADIUS=500;X-TITLE=487 Atlantic Avenue:geo:-73.9816178,40.6859214
END:VEVENT
BEGIN:VEVENT
DTSTART;TZID=America/New_York:20240401T214500
DTEND;TZID=America/New_York:20240401T233000
DTSTAMP:20260422T025036
CREATED:20240102T035406Z
LAST-MODIFIED:20250629T070902Z
UID:10012774-1712007900-1712014200@thecomedybureau.com
SUMMARY:Eastville Comedy Club (in NYC)
DESCRIPTION:Sign-up 9:15PM ET\nStarts 9:45PM ET\nEnds 11:30PM ET\n5 min.\n1 item min. to perform\nShow up\, go up
URL:https://thecomedybureau.com/show/eastville-comedy-club-in-nyc-51-2-2-3/2024-04-01/
LOCATION:Eastville Comedy Club\, 487 Atlantic Avenue\, Brooklyn\, NY\, 11217\, United States
CATEGORIES:New York,New York Open Mics,Open Mic,Standard
GEO:40.6859214;-73.9816178
X-APPLE-STRUCTURED-LOCATION;VALUE=URI;X-ADDRESS=Eastville Comedy Club 487 Atlantic Avenue Brooklyn NY 11217 United States;X-APPLE-RADIUS=500;X-TITLE=487 Atlantic Avenue:geo:-73.9816178,40.6859214
END:VEVENT
BEGIN:VEVENT
DTSTART;TZID=America/Los_Angeles:20240402T170000
DTEND;TZID=America/Los_Angeles:20240402T180000
DTSTAMP:20260422T025036
CREATED:20231218T022355Z
LAST-MODIFIED:20250331T001409Z
UID:10012442-1712077200-1712080800@thecomedybureau.com
SUMMARY:Hollywood Laugh Factory (in LA)
DESCRIPTION:Sign-up 4PM PT-5PM PT\nStarts 5PM PT\n10 lottery spots\n10 walk-up spots\n2 min.\nmust work clean
URL:https://thecomedybureau.com/show/hollywood-laugh-factory-4-2-2-2/2024-04-02/
LOCATION:Hollywood Laugh Factory\, 8001 West Sunset Boulevard\, Los Angeles\, CA\, 90046\, United States
CATEGORIES:Los Angeles Open Mics,Open Mic,Standard
GEO:34.098159;-118.364516
X-APPLE-STRUCTURED-LOCATION;VALUE=URI;X-ADDRESS=Hollywood Laugh Factory 8001 West Sunset Boulevard Los Angeles CA 90046 United States;X-APPLE-RADIUS=500;X-TITLE=8001 West Sunset Boulevard:geo:-118.364516,34.098159
END:VEVENT
BEGIN:VEVENT
DTSTART;TZID=America/Los_Angeles:20240402T173000
DTEND;TZID=America/Los_Angeles:20240402T193000
DTSTAMP:20260422T025036
CREATED:20231127T081225Z
LAST-MODIFIED:20260329T000409Z
UID:10012450-1712079000-1712086200@thecomedybureau.com
SUMMARY:Hollywood Improv (in LA)
DESCRIPTION:Sign-up 5PM\nin Main Room\nSign-up cut off at 75 names in bucket\nStarts 5:30PM\n3 min.\nLottery
URL:https://thecomedybureau.com/show/hollywood-improv-comedy-lab-in-la-18-2-2/2024-04-02/
LOCATION:Hollywood Improv\, 8162 Melrose Avenue\, Los Angeles\, CA\, 90046\, United States
CATEGORIES:Los Angeles,Los Angeles Open Mics,Open Mic,Standard
GEO:34.0834621;-118.3674136
X-APPLE-STRUCTURED-LOCATION;VALUE=URI;X-ADDRESS=Hollywood Improv 8162 Melrose Avenue Los Angeles CA 90046 United States;X-APPLE-RADIUS=500;X-TITLE=8162 Melrose Avenue:geo:-118.3674136,34.0834621
END:VEVENT
BEGIN:VEVENT
DTSTART;TZID=America/Los_Angeles:20240402T180000
DTEND;TZID=America/Los_Angeles:20240402T200000
DTSTAMP:20260422T025036
CREATED:20231218T192456Z
LAST-MODIFIED:20241021T161615Z
UID:10012695-1712080800-1712088000@thecomedybureau.com
SUMMARY:Eastville Comedy Club (in NYC)
DESCRIPTION:Sign-up 5:30PM ET\nStarts 6PM ET\nEnds 7:45PM ET\n5 min.\n1 item min. to perform\nShow up\, go up
URL:https://thecomedybureau.com/show/eastville-comedy-club-in-nyc-51-2-2-2/2024-04-02/
LOCATION:Eastville Comedy Club\, 487 Atlantic Avenue\, Brooklyn\, NY\, 11217\, United States
CATEGORIES:New York,New York Open Mics,Open Mic,Standard
GEO:40.6859214;-73.9816178
X-APPLE-STRUCTURED-LOCATION;VALUE=URI;X-ADDRESS=Eastville Comedy Club 487 Atlantic Avenue Brooklyn NY 11217 United States;X-APPLE-RADIUS=500;X-TITLE=487 Atlantic Avenue:geo:-73.9816178,40.6859214
END:VEVENT
BEGIN:VEVENT
DTSTART;TZID=America/New_York:20240402T190000
DTEND;TZID=America/New_York:20240402T203000
DTSTAMP:20260422T025036
CREATED:20231128T175448Z
LAST-MODIFIED:20241021T162358Z
UID:10012814-1712084400-1712089800@thecomedybureau.com
SUMMARY:Caravan of Dreams (in NYC)
DESCRIPTION:Starts 7PM ET\n5 min.\n$3 + 1 item min. to perform
URL:https://thecomedybureau.com/show/2-120-2-2/2024-04-02/
LOCATION:Caravan of Dreams\, 405 East 6th Street\, New York\, NY\, 10009\, United States
CATEGORIES:New York Open Mics,Open Mic,Standard
GEO:40.7263961;-73.9856544
X-APPLE-STRUCTURED-LOCATION;VALUE=URI;X-ADDRESS=Caravan of Dreams 405 East 6th Street New York NY 10009 United States;X-APPLE-RADIUS=500;X-TITLE=405 East 6th Street:geo:-73.9856544,40.7263961
END:VEVENT
BEGIN:VEVENT
DTSTART;TZID=America/New_York:20240402T190000
DTEND;TZID=America/New_York:20240402T210000
DTSTAMP:20260422T025036
CREATED:20231029T103450Z
LAST-MODIFIED:20241126T091353Z
UID:10011582-1712084400-1712091600@thecomedybureau.com
SUMMARY:Alphaville (in NYC)
DESCRIPTION:Sign-up 6:30PM ET\nStarts 7PM ET\n5 min.\n$5 or 1 drink min. to perform\nPresented by Pure Chaos Comedy
URL:https://thecomedybureau.com/show/alphaville-in-nyc-2/2024-04-02/
LOCATION:Alphaville\, 140 Wilson Street\, New York\, NY\, 11237\, United States
CATEGORIES:New York Open Mics,Open Mic,Standard
GEO:40.7055301;-73.9618778
X-APPLE-STRUCTURED-LOCATION;VALUE=URI;X-ADDRESS=Alphaville 140 Wilson Street New York NY 11237 United States;X-APPLE-RADIUS=500;X-TITLE=140 Wilson Street:geo:-73.9618778,40.7055301
END:VEVENT
BEGIN:VEVENT
DTSTART;TZID=America/Los_Angeles:20240402T200000
DTEND;TZID=America/Los_Angeles:20240402T213000
DTSTAMP:20260422T025036
CREATED:20231218T070522Z
LAST-MODIFIED:20250521T031322Z
UID:10062602-1712088000-1712093400@thecomedybureau.com
SUMMARY:Acapulco Goldie's @ The Mexican Village (in LA)
DESCRIPTION:Sign-up 7:30PM\nStarts 8PM\nBucket lottery\n5 min.\nHosted by Peter Skobel and Rick Carrera
URL:https://thecomedybureau.com/show/acapulco-goldies-the-mexican-village-in-la-2-2-2/2024-04-02/
LOCATION:The Mexican Village\, 3668 Beverly Boulevard\, Los Angeles\, CA\, 90004\, United States
CATEGORIES:Los Angeles,Los Angeles Open Mics,Open Mic,Standard
GEO:34.0760724;-118.2884966
X-APPLE-STRUCTURED-LOCATION;VALUE=URI;X-ADDRESS=The Mexican Village 3668 Beverly Boulevard Los Angeles CA 90004 United States;X-APPLE-RADIUS=500;X-TITLE=3668 Beverly Boulevard:geo:-118.2884966,34.0760724
END:VEVENT
BEGIN:VEVENT
DTSTART;TZID=America/New_York:20240402T214500
DTEND;TZID=America/New_York:20240402T233000
DTSTAMP:20260422T025036
CREATED:20240102T035406Z
LAST-MODIFIED:20250629T070902Z
UID:10012775-1712094300-1712100600@thecomedybureau.com
SUMMARY:Eastville Comedy Club (in NYC)
DESCRIPTION:Sign-up 9:15PM ET\nStarts 9:45PM ET\nEnds 11:30PM ET\n5 min.\n1 item min. to perform\nShow up\, go up
URL:https://thecomedybureau.com/show/eastville-comedy-club-in-nyc-51-2-2-3/2024-04-02/
LOCATION:Eastville Comedy Club\, 487 Atlantic Avenue\, Brooklyn\, NY\, 11217\, United States
CATEGORIES:New York,New York Open Mics,Open Mic,Standard
GEO:40.6859214;-73.9816178
X-APPLE-STRUCTURED-LOCATION;VALUE=URI;X-ADDRESS=Eastville Comedy Club 487 Atlantic Avenue Brooklyn NY 11217 United States;X-APPLE-RADIUS=500;X-TITLE=487 Atlantic Avenue:geo:-73.9816178,40.6859214
END:VEVENT
BEGIN:VEVENT
DTSTART;TZID=America/Los_Angeles:20240403T180000
DTEND;TZID=America/Los_Angeles:20240403T200000
DTSTAMP:20260422T025036
CREATED:20231218T192456Z
LAST-MODIFIED:20241021T161615Z
UID:10012696-1712167200-1712174400@thecomedybureau.com
SUMMARY:Eastville Comedy Club (in NYC)
DESCRIPTION:Sign-up 5:30PM ET\nStarts 6PM ET\nEnds 7:45PM ET\n5 min.\n1 item min. to perform\nShow up\, go up
URL:https://thecomedybureau.com/show/eastville-comedy-club-in-nyc-51-2-2-2/2024-04-03/
LOCATION:Eastville Comedy Club\, 487 Atlantic Avenue\, Brooklyn\, NY\, 11217\, United States
CATEGORIES:New York,New York Open Mics,Open Mic,Standard
GEO:40.6859214;-73.9816178
X-APPLE-STRUCTURED-LOCATION;VALUE=URI;X-ADDRESS=Eastville Comedy Club 487 Atlantic Avenue Brooklyn NY 11217 United States;X-APPLE-RADIUS=500;X-TITLE=487 Atlantic Avenue:geo:-73.9816178,40.6859214
END:VEVENT
BEGIN:VEVENT
DTSTART;TZID=America/New_York:20240403T214500
DTEND;TZID=America/New_York:20240403T233000
DTSTAMP:20260422T025036
CREATED:20240102T035406Z
LAST-MODIFIED:20250629T070902Z
UID:10012776-1712180700-1712187000@thecomedybureau.com
SUMMARY:Eastville Comedy Club (in NYC)
DESCRIPTION:Sign-up 9:15PM ET\nStarts 9:45PM ET\nEnds 11:30PM ET\n5 min.\n1 item min. to perform\nShow up\, go up
URL:https://thecomedybureau.com/show/eastville-comedy-club-in-nyc-51-2-2-3/2024-04-03/
LOCATION:Eastville Comedy Club\, 487 Atlantic Avenue\, Brooklyn\, NY\, 11217\, United States
CATEGORIES:New York,New York Open Mics,Open Mic,Standard
GEO:40.6859214;-73.9816178
X-APPLE-STRUCTURED-LOCATION;VALUE=URI;X-ADDRESS=Eastville Comedy Club 487 Atlantic Avenue Brooklyn NY 11217 United States;X-APPLE-RADIUS=500;X-TITLE=487 Atlantic Avenue:geo:-73.9816178,40.6859214
END:VEVENT
BEGIN:VEVENT
DTSTART;TZID=America/Los_Angeles:20240404T180000
DTEND;TZID=America/Los_Angeles:20240404T200000
DTSTAMP:20260422T025036
CREATED:20231218T192456Z
LAST-MODIFIED:20241021T161615Z
UID:10012697-1712253600-1712260800@thecomedybureau.com
SUMMARY:Eastville Comedy Club (in NYC)
DESCRIPTION:Sign-up 5:30PM ET\nStarts 6PM ET\nEnds 7:45PM ET\n5 min.\n1 item min. to perform\nShow up\, go up
URL:https://thecomedybureau.com/show/eastville-comedy-club-in-nyc-51-2-2-2/2024-04-04/
LOCATION:Eastville Comedy Club\, 487 Atlantic Avenue\, Brooklyn\, NY\, 11217\, United States
CATEGORIES:New York,New York Open Mics,Open Mic,Standard
GEO:40.6859214;-73.9816178
X-APPLE-STRUCTURED-LOCATION;VALUE=URI;X-ADDRESS=Eastville Comedy Club 487 Atlantic Avenue Brooklyn NY 11217 United States;X-APPLE-RADIUS=500;X-TITLE=487 Atlantic Avenue:geo:-73.9816178,40.6859214
END:VEVENT
BEGIN:VEVENT
DTSTART;TZID=America/Los_Angeles:20240404T180000
DTEND;TZID=America/Los_Angeles:20240404T210000
DTSTAMP:20260422T025036
CREATED:20240318T145119Z
LAST-MODIFIED:20240820T033114Z
UID:10013119-1712253600-1712264400@thecomedybureau.com
SUMMARY:(6PM-8PM Hourly) Witty Titties Women’s Only Open Mic (in LA)
DESCRIPTION:This is a women’s only open mic. All are welcome to watch and support\, but only those who identify as a woman or as nonbinary get stage time. Good vibes only! \nStarts 6PM\, 7PM\, 8PM PT every Thursday. Must show up at the top of their slotted hour or forfeit their time and money. \n\nSign-up sheet posted at 12 pm on the day of the mic at https://slotted.co/wittytitties\nCost: $5 for 5 minutes. Must Venmo (@wittytittiescomedy) ahead of time to confirm slot.\nDrinks and snacks are available for purchase\nHosted by Genesis Sol (@thegenesissol)
URL:https://thecomedybureau.com/show/6pm-7pm-hourly-witty-titties-womens-only-open-mic-in-la-20-2-2-2/2024-04-04/
LOCATION:Petty Cash Studios\, 8949 Sunset Boulevard\, West Hollywood\, CA\, 90069\, United States
CATEGORIES:Los Angeles,Los Angeles Open Mics,Open Mic,Standard
GEO:34.0908796;-118.3867111
X-APPLE-STRUCTURED-LOCATION;VALUE=URI;X-ADDRESS=Petty Cash Studios 8949 Sunset Boulevard West Hollywood CA 90069 United States;X-APPLE-RADIUS=500;X-TITLE=8949 Sunset Boulevard:geo:-118.3867111,34.0908796
END:VEVENT
BEGIN:VEVENT
DTSTART;TZID=America/Los_Angeles:20240404T190000
DTEND;TZID=America/Los_Angeles:20240404T210000
DTSTAMP:20260422T025036
CREATED:20231128T175646Z
LAST-MODIFIED:20260330T080003Z
UID:10012825-1712257200-1712264400@thecomedybureau.com
SUMMARY:Comedians on the Loose @ Black Cat LES (in NYC)
DESCRIPTION:Starts 7PM ET\nSign-up in advance at https://www.comediansontheloose.com/open-mics\n5-7 min.\n$5 to perform\nHosted by Sonja Savanovic
URL:https://thecomedybureau.com/show/comedians-on-the-loose-black-cat-les-in-nyc-54-2-2/2024-04-04/
LOCATION:Black Cat LES\, 172 Rivington Street\, New York\, NY\, 10002\, United States
CATEGORIES:New York,New York Open Mics,Open Mic,Standard
GEO:40.7191658;-73.9845007
X-APPLE-STRUCTURED-LOCATION;VALUE=URI;X-ADDRESS=Black Cat LES 172 Rivington Street New York NY 10002 United States;X-APPLE-RADIUS=500;X-TITLE=172 Rivington Street:geo:-73.9845007,40.7191658
END:VEVENT
BEGIN:VEVENT
DTSTART;TZID=America/Los_Angeles:20240406T190000
DTEND;TZID=America/Los_Angeles:20240406T210000
DTSTAMP:20260422T025036
CREATED:20231128T175646Z
LAST-MODIFIED:20260330T080003Z
UID:10012826-1712430000-1712437200@thecomedybureau.com
SUMMARY:Comedians on the Loose @ Black Cat LES (in NYC)
DESCRIPTION:Starts 7PM ET\nSign-up in advance at https://www.comediansontheloose.com/open-mics\n5-7 min.\n$5 to perform\nHosted by Sonja Savanovic
URL:https://thecomedybureau.com/show/comedians-on-the-loose-black-cat-les-in-nyc-54-2-2/2024-04-06/
LOCATION:Black Cat LES\, 172 Rivington Street\, New York\, NY\, 10002\, United States
CATEGORIES:New York,New York Open Mics,Open Mic,Standard
GEO:40.7191658;-73.9845007
X-APPLE-STRUCTURED-LOCATION;VALUE=URI;X-ADDRESS=Black Cat LES 172 Rivington Street New York NY 10002 United States;X-APPLE-RADIUS=500;X-TITLE=172 Rivington Street:geo:-73.9845007,40.7191658
END:VEVENT
BEGIN:VEVENT
DTSTART;TZID=America/New_York:20240407T214500
DTEND;TZID=America/New_York:20240407T233000
DTSTAMP:20260422T025036
CREATED:20240102T035406Z
LAST-MODIFIED:20250629T070902Z
UID:10012777-1712526300-1712532600@thecomedybureau.com
SUMMARY:Eastville Comedy Club (in NYC)
DESCRIPTION:Sign-up 9:15PM ET\nStarts 9:45PM ET\nEnds 11:30PM ET\n5 min.\n1 item min. to perform\nShow up\, go up
URL:https://thecomedybureau.com/show/eastville-comedy-club-in-nyc-51-2-2-3/2024-04-07/
LOCATION:Eastville Comedy Club\, 487 Atlantic Avenue\, Brooklyn\, NY\, 11217\, United States
CATEGORIES:New York,New York Open Mics,Open Mic,Standard
GEO:40.6859214;-73.9816178
X-APPLE-STRUCTURED-LOCATION;VALUE=URI;X-ADDRESS=Eastville Comedy Club 487 Atlantic Avenue Brooklyn NY 11217 United States;X-APPLE-RADIUS=500;X-TITLE=487 Atlantic Avenue:geo:-73.9816178,40.6859214
END:VEVENT
BEGIN:VEVENT
DTSTART;TZID=America/Los_Angeles:20240408T180000
DTEND;TZID=America/Los_Angeles:20240408T200000
DTSTAMP:20260422T025036
CREATED:20231218T192456Z
LAST-MODIFIED:20241021T161615Z
UID:10012698-1712599200-1712606400@thecomedybureau.com
SUMMARY:Eastville Comedy Club (in NYC)
DESCRIPTION:Sign-up 5:30PM ET\nStarts 6PM ET\nEnds 7:45PM ET\n5 min.\n1 item min. to perform\nShow up\, go up
URL:https://thecomedybureau.com/show/eastville-comedy-club-in-nyc-51-2-2-2/2024-04-08/
LOCATION:Eastville Comedy Club\, 487 Atlantic Avenue\, Brooklyn\, NY\, 11217\, United States
CATEGORIES:New York,New York Open Mics,Open Mic,Standard
GEO:40.6859214;-73.9816178
X-APPLE-STRUCTURED-LOCATION;VALUE=URI;X-ADDRESS=Eastville Comedy Club 487 Atlantic Avenue Brooklyn NY 11217 United States;X-APPLE-RADIUS=500;X-TITLE=487 Atlantic Avenue:geo:-73.9816178,40.6859214
END:VEVENT
BEGIN:VEVENT
DTSTART;TZID=America/New_York:20240408T214500
DTEND;TZID=America/New_York:20240408T233000
DTSTAMP:20260422T025036
CREATED:20240102T035406Z
LAST-MODIFIED:20250629T070902Z
UID:10012778-1712612700-1712619000@thecomedybureau.com
SUMMARY:Eastville Comedy Club (in NYC)
DESCRIPTION:Sign-up 9:15PM ET\nStarts 9:45PM ET\nEnds 11:30PM ET\n5 min.\n1 item min. to perform\nShow up\, go up
URL:https://thecomedybureau.com/show/eastville-comedy-club-in-nyc-51-2-2-3/2024-04-08/
LOCATION:Eastville Comedy Club\, 487 Atlantic Avenue\, Brooklyn\, NY\, 11217\, United States
CATEGORIES:New York,New York Open Mics,Open Mic,Standard
GEO:40.6859214;-73.9816178
X-APPLE-STRUCTURED-LOCATION;VALUE=URI;X-ADDRESS=Eastville Comedy Club 487 Atlantic Avenue Brooklyn NY 11217 United States;X-APPLE-RADIUS=500;X-TITLE=487 Atlantic Avenue:geo:-73.9816178,40.6859214
END:VEVENT
BEGIN:VEVENT
DTSTART;TZID=America/Los_Angeles:20240409T170000
DTEND;TZID=America/Los_Angeles:20240409T180000
DTSTAMP:20260422T025036
CREATED:20231218T022355Z
LAST-MODIFIED:20250331T001409Z
UID:10014399-1712682000-1712685600@thecomedybureau.com
SUMMARY:Hollywood Laugh Factory (in LA)
DESCRIPTION:Sign-up 4PM PT-5PM PT\nStarts 5PM PT\n10 lottery spots\n10 walk-up spots\n2 min.\nmust work clean
URL:https://thecomedybureau.com/show/hollywood-laugh-factory-4-2-2-2/2024-04-09/
LOCATION:Hollywood Laugh Factory\, 8001 West Sunset Boulevard\, Los Angeles\, CA\, 90046\, United States
CATEGORIES:Los Angeles Open Mics,Open Mic,Standard
GEO:34.098159;-118.364516
X-APPLE-STRUCTURED-LOCATION;VALUE=URI;X-ADDRESS=Hollywood Laugh Factory 8001 West Sunset Boulevard Los Angeles CA 90046 United States;X-APPLE-RADIUS=500;X-TITLE=8001 West Sunset Boulevard:geo:-118.364516,34.098159
END:VEVENT
END:VCALENDAR