BEGIN:VCALENDAR
VERSION:2.0
PRODID:-//The Comedy Bureau - ECPv6.15.18//NONSGML v1.0//EN
CALSCALE:GREGORIAN
METHOD:PUBLISH
X-WR-CALNAME:The Comedy Bureau
X-ORIGINAL-URL:https://thecomedybureau.com
X-WR-CALDESC:Events for The Comedy Bureau
REFRESH-INTERVAL;VALUE=DURATION:PT1H
X-Robots-Tag:noindex
X-PUBLISHED-TTL:PT1H
BEGIN:VTIMEZONE
TZID:America/New_York
BEGIN:DAYLIGHT
TZOFFSETFROM:-0500
TZOFFSETTO:-0400
TZNAME:EDT
DTSTART:20230312T070000
END:DAYLIGHT
BEGIN:STANDARD
TZOFFSETFROM:-0400
TZOFFSETTO:-0500
TZNAME:EST
DTSTART:20231105T060000
END:STANDARD
BEGIN:DAYLIGHT
TZOFFSETFROM:-0500
TZOFFSETTO:-0400
TZNAME:EDT
DTSTART:20240310T070000
END:DAYLIGHT
BEGIN:STANDARD
TZOFFSETFROM:-0400
TZOFFSETTO:-0500
TZNAME:EST
DTSTART:20241103T060000
END:STANDARD
BEGIN:DAYLIGHT
TZOFFSETFROM:-0500
TZOFFSETTO:-0400
TZNAME:EDT
DTSTART:20250309T070000
END:DAYLIGHT
BEGIN:STANDARD
TZOFFSETFROM:-0400
TZOFFSETTO:-0500
TZNAME:EST
DTSTART:20251102T060000
END:STANDARD
END:VTIMEZONE
BEGIN:VTIMEZONE
TZID:America/Los_Angeles
BEGIN:DAYLIGHT
TZOFFSETFROM:-0800
TZOFFSETTO:-0700
TZNAME:PDT
DTSTART:20230312T100000
END:DAYLIGHT
BEGIN:STANDARD
TZOFFSETFROM:-0700
TZOFFSETTO:-0800
TZNAME:PST
DTSTART:20231105T090000
END:STANDARD
BEGIN:DAYLIGHT
TZOFFSETFROM:-0800
TZOFFSETTO:-0700
TZNAME:PDT
DTSTART:20240310T100000
END:DAYLIGHT
BEGIN:STANDARD
TZOFFSETFROM:-0700
TZOFFSETTO:-0800
TZNAME:PST
DTSTART:20241103T090000
END:STANDARD
BEGIN:DAYLIGHT
TZOFFSETFROM:-0800
TZOFFSETTO:-0700
TZNAME:PDT
DTSTART:20250309T100000
END:DAYLIGHT
BEGIN:STANDARD
TZOFFSETFROM:-0700
TZOFFSETTO:-0800
TZNAME:PST
DTSTART:20251102T090000
END:STANDARD
END:VTIMEZONE
BEGIN:VEVENT
DTSTART;TZID=America/New_York:20240128T214500
DTEND;TZID=America/New_York:20240128T233000
DTSTAMP:20260421T195317
CREATED:20240102T035406Z
LAST-MODIFIED:20250629T070902Z
UID:10008831-1706478300-1706484600@thecomedybureau.com
SUMMARY:Eastville Comedy Club (in NYC)
DESCRIPTION:Sign-up 9:15PM ET\nStarts 9:45PM ET\nEnds 11:30PM ET\n5 min.\n1 item min. to perform\nShow up\, go up
URL:https://thecomedybureau.com/show/eastville-comedy-club-in-nyc-51-2-2-3/2024-01-28/
LOCATION:Eastville Comedy Club\, 487 Atlantic Avenue\, Brooklyn\, NY\, 11217\, United States
CATEGORIES:New York,New York Open Mics,Open Mic,Standard
GEO:40.6859214;-73.9816178
X-APPLE-STRUCTURED-LOCATION;VALUE=URI;X-ADDRESS=Eastville Comedy Club 487 Atlantic Avenue Brooklyn NY 11217 United States;X-APPLE-RADIUS=500;X-TITLE=487 Atlantic Avenue:geo:-73.9816178,40.6859214
END:VEVENT
BEGIN:VEVENT
DTSTART;TZID=America/Los_Angeles:20240129T180000
DTEND;TZID=America/Los_Angeles:20240129T200000
DTSTAMP:20260421T195317
CREATED:20231218T192456Z
LAST-MODIFIED:20241021T161615Z
UID:10008814-1706551200-1706558400@thecomedybureau.com
SUMMARY:Eastville Comedy Club (in NYC)
DESCRIPTION:Sign-up 5:30PM ET\nStarts 6PM ET\nEnds 7:45PM ET\n5 min.\n1 item min. to perform\nShow up\, go up
URL:https://thecomedybureau.com/show/eastville-comedy-club-in-nyc-51-2-2-2/2024-01-29/
LOCATION:Eastville Comedy Club\, 487 Atlantic Avenue\, Brooklyn\, NY\, 11217\, United States
CATEGORIES:New York,New York Open Mics,Open Mic,Standard
GEO:40.6859214;-73.9816178
X-APPLE-STRUCTURED-LOCATION;VALUE=URI;X-ADDRESS=Eastville Comedy Club 487 Atlantic Avenue Brooklyn NY 11217 United States;X-APPLE-RADIUS=500;X-TITLE=487 Atlantic Avenue:geo:-73.9816178,40.6859214
END:VEVENT
BEGIN:VEVENT
DTSTART;TZID=America/New_York:20240129T214500
DTEND;TZID=America/New_York:20240129T233000
DTSTAMP:20260421T195317
CREATED:20240102T035406Z
LAST-MODIFIED:20250629T070902Z
UID:10008832-1706564700-1706571000@thecomedybureau.com
SUMMARY:Eastville Comedy Club (in NYC)
DESCRIPTION:Sign-up 9:15PM ET\nStarts 9:45PM ET\nEnds 11:30PM ET\n5 min.\n1 item min. to perform\nShow up\, go up
URL:https://thecomedybureau.com/show/eastville-comedy-club-in-nyc-51-2-2-3/2024-01-29/
LOCATION:Eastville Comedy Club\, 487 Atlantic Avenue\, Brooklyn\, NY\, 11217\, United States
CATEGORIES:New York,New York Open Mics,Open Mic,Standard
GEO:40.6859214;-73.9816178
X-APPLE-STRUCTURED-LOCATION;VALUE=URI;X-ADDRESS=Eastville Comedy Club 487 Atlantic Avenue Brooklyn NY 11217 United States;X-APPLE-RADIUS=500;X-TITLE=487 Atlantic Avenue:geo:-73.9816178,40.6859214
END:VEVENT
BEGIN:VEVENT
DTSTART;TZID=America/Los_Angeles:20240130T173000
DTEND;TZID=America/Los_Angeles:20240130T193000
DTSTAMP:20260421T195317
CREATED:20231127T081225Z
LAST-MODIFIED:20260329T000409Z
UID:10007339-1706635800-1706643000@thecomedybureau.com
SUMMARY:Hollywood Improv (in LA)
DESCRIPTION:Sign-up 5PM\nin Main Room\nSign-up cut off at 75 names in bucket\nStarts 5:30PM\n3 min.\nLottery
URL:https://thecomedybureau.com/show/hollywood-improv-comedy-lab-in-la-18-2-2/2024-01-30/
LOCATION:Hollywood Improv\, 8162 Melrose Avenue\, Los Angeles\, CA\, 90046\, United States
CATEGORIES:Los Angeles,Los Angeles Open Mics,Open Mic,Standard
GEO:34.0834621;-118.3674136
X-APPLE-STRUCTURED-LOCATION;VALUE=URI;X-ADDRESS=Hollywood Improv 8162 Melrose Avenue Los Angeles CA 90046 United States;X-APPLE-RADIUS=500;X-TITLE=8162 Melrose Avenue:geo:-118.3674136,34.0834621
END:VEVENT
BEGIN:VEVENT
DTSTART;TZID=America/Los_Angeles:20240130T180000
DTEND;TZID=America/Los_Angeles:20240130T200000
DTSTAMP:20260421T195317
CREATED:20231218T192456Z
LAST-MODIFIED:20241021T161615Z
UID:10007473-1706637600-1706644800@thecomedybureau.com
SUMMARY:Eastville Comedy Club (in NYC)
DESCRIPTION:Sign-up 5:30PM ET\nStarts 6PM ET\nEnds 7:45PM ET\n5 min.\n1 item min. to perform\nShow up\, go up
URL:https://thecomedybureau.com/show/eastville-comedy-club-in-nyc-51-2-2-2/2024-01-30/
LOCATION:Eastville Comedy Club\, 487 Atlantic Avenue\, Brooklyn\, NY\, 11217\, United States
CATEGORIES:New York,New York Open Mics,Open Mic,Standard
GEO:40.6859214;-73.9816178
X-APPLE-STRUCTURED-LOCATION;VALUE=URI;X-ADDRESS=Eastville Comedy Club 487 Atlantic Avenue Brooklyn NY 11217 United States;X-APPLE-RADIUS=500;X-TITLE=487 Atlantic Avenue:geo:-73.9816178,40.6859214
END:VEVENT
BEGIN:VEVENT
DTSTART;TZID=America/New_York:20240130T190000
DTEND;TZID=America/New_York:20240130T203000
DTSTAMP:20260421T195317
CREATED:20231128T175448Z
LAST-MODIFIED:20241021T162358Z
UID:10007545-1706641200-1706646600@thecomedybureau.com
SUMMARY:Caravan of Dreams (in NYC)
DESCRIPTION:Starts 7PM ET\n5 min.\n$3 + 1 item min. to perform
URL:https://thecomedybureau.com/show/2-120-2-2/2024-01-30/
LOCATION:Caravan of Dreams\, 405 East 6th Street\, New York\, NY\, 10009\, United States
CATEGORIES:New York Open Mics,Open Mic,Standard
GEO:40.7263961;-73.9856544
X-APPLE-STRUCTURED-LOCATION;VALUE=URI;X-ADDRESS=Caravan of Dreams 405 East 6th Street New York NY 10009 United States;X-APPLE-RADIUS=500;X-TITLE=405 East 6th Street:geo:-73.9856544,40.7263961
END:VEVENT
BEGIN:VEVENT
DTSTART;TZID=America/New_York:20240130T214500
DTEND;TZID=America/New_York:20240130T233000
DTSTAMP:20260421T195317
CREATED:20240102T035406Z
LAST-MODIFIED:20250629T070902Z
UID:10008833-1706651100-1706657400@thecomedybureau.com
SUMMARY:Eastville Comedy Club (in NYC)
DESCRIPTION:Sign-up 9:15PM ET\nStarts 9:45PM ET\nEnds 11:30PM ET\n5 min.\n1 item min. to perform\nShow up\, go up
URL:https://thecomedybureau.com/show/eastville-comedy-club-in-nyc-51-2-2-3/2024-01-30/
LOCATION:Eastville Comedy Club\, 487 Atlantic Avenue\, Brooklyn\, NY\, 11217\, United States
CATEGORIES:New York,New York Open Mics,Open Mic,Standard
GEO:40.6859214;-73.9816178
X-APPLE-STRUCTURED-LOCATION;VALUE=URI;X-ADDRESS=Eastville Comedy Club 487 Atlantic Avenue Brooklyn NY 11217 United States;X-APPLE-RADIUS=500;X-TITLE=487 Atlantic Avenue:geo:-73.9816178,40.6859214
END:VEVENT
BEGIN:VEVENT
DTSTART;TZID=America/Los_Angeles:20240131T180000
DTEND;TZID=America/Los_Angeles:20240131T200000
DTSTAMP:20260421T195317
CREATED:20231218T192456Z
LAST-MODIFIED:20241021T161615Z
UID:10008815-1706724000-1706731200@thecomedybureau.com
SUMMARY:Eastville Comedy Club (in NYC)
DESCRIPTION:Sign-up 5:30PM ET\nStarts 6PM ET\nEnds 7:45PM ET\n5 min.\n1 item min. to perform\nShow up\, go up
URL:https://thecomedybureau.com/show/eastville-comedy-club-in-nyc-51-2-2-2/2024-01-31/
LOCATION:Eastville Comedy Club\, 487 Atlantic Avenue\, Brooklyn\, NY\, 11217\, United States
CATEGORIES:New York,New York Open Mics,Open Mic,Standard
GEO:40.6859214;-73.9816178
X-APPLE-STRUCTURED-LOCATION;VALUE=URI;X-ADDRESS=Eastville Comedy Club 487 Atlantic Avenue Brooklyn NY 11217 United States;X-APPLE-RADIUS=500;X-TITLE=487 Atlantic Avenue:geo:-73.9816178,40.6859214
END:VEVENT
BEGIN:VEVENT
DTSTART;TZID=America/New_York:20240131T214500
DTEND;TZID=America/New_York:20240131T233000
DTSTAMP:20260421T195317
CREATED:20240102T035406Z
LAST-MODIFIED:20250629T070902Z
UID:10008834-1706737500-1706743800@thecomedybureau.com
SUMMARY:Eastville Comedy Club (in NYC)
DESCRIPTION:Sign-up 9:15PM ET\nStarts 9:45PM ET\nEnds 11:30PM ET\n5 min.\n1 item min. to perform\nShow up\, go up
URL:https://thecomedybureau.com/show/eastville-comedy-club-in-nyc-51-2-2-3/2024-01-31/
LOCATION:Eastville Comedy Club\, 487 Atlantic Avenue\, Brooklyn\, NY\, 11217\, United States
CATEGORIES:New York,New York Open Mics,Open Mic,Standard
GEO:40.6859214;-73.9816178
X-APPLE-STRUCTURED-LOCATION;VALUE=URI;X-ADDRESS=Eastville Comedy Club 487 Atlantic Avenue Brooklyn NY 11217 United States;X-APPLE-RADIUS=500;X-TITLE=487 Atlantic Avenue:geo:-73.9816178,40.6859214
END:VEVENT
BEGIN:VEVENT
DTSTART;TZID=America/Los_Angeles:20240201T180000
DTEND;TZID=America/Los_Angeles:20240201T200000
DTSTAMP:20260421T195317
CREATED:20231218T192456Z
LAST-MODIFIED:20241021T161615Z
UID:10008816-1706810400-1706817600@thecomedybureau.com
SUMMARY:Eastville Comedy Club (in NYC)
DESCRIPTION:Sign-up 5:30PM ET\nStarts 6PM ET\nEnds 7:45PM ET\n5 min.\n1 item min. to perform\nShow up\, go up
URL:https://thecomedybureau.com/show/eastville-comedy-club-in-nyc-51-2-2-2/2024-02-01/
LOCATION:Eastville Comedy Club\, 487 Atlantic Avenue\, Brooklyn\, NY\, 11217\, United States
CATEGORIES:New York,New York Open Mics,Open Mic,Standard
GEO:40.6859214;-73.9816178
X-APPLE-STRUCTURED-LOCATION;VALUE=URI;X-ADDRESS=Eastville Comedy Club 487 Atlantic Avenue Brooklyn NY 11217 United States;X-APPLE-RADIUS=500;X-TITLE=487 Atlantic Avenue:geo:-73.9816178,40.6859214
END:VEVENT
BEGIN:VEVENT
DTSTART;TZID=America/Los_Angeles:20240201T190000
DTEND;TZID=America/Los_Angeles:20240201T210000
DTSTAMP:20260421T195317
CREATED:20231128T175646Z
LAST-MODIFIED:20260330T080003Z
UID:10007565-1706814000-1706821200@thecomedybureau.com
SUMMARY:Comedians on the Loose @ Black Cat LES (in NYC)
DESCRIPTION:Starts 7PM ET\nSign-up in advance at https://www.comediansontheloose.com/open-mics\n5-7 min.\n$5 to perform\nHosted by Sonja Savanovic
URL:https://thecomedybureau.com/show/comedians-on-the-loose-black-cat-les-in-nyc-54-2-2/2024-02-01/
LOCATION:Black Cat LES\, 172 Rivington Street\, New York\, NY\, 10002\, United States
CATEGORIES:New York,New York Open Mics,Open Mic,Standard
GEO:40.7191658;-73.9845007
X-APPLE-STRUCTURED-LOCATION;VALUE=URI;X-ADDRESS=Black Cat LES 172 Rivington Street New York NY 10002 United States;X-APPLE-RADIUS=500;X-TITLE=172 Rivington Street:geo:-73.9845007,40.7191658
END:VEVENT
BEGIN:VEVENT
DTSTART;TZID=America/Los_Angeles:20240203T190000
DTEND;TZID=America/Los_Angeles:20240203T210000
DTSTAMP:20260421T195317
CREATED:20231128T175646Z
LAST-MODIFIED:20260330T080003Z
UID:10007566-1706986800-1706994000@thecomedybureau.com
SUMMARY:Comedians on the Loose @ Black Cat LES (in NYC)
DESCRIPTION:Starts 7PM ET\nSign-up in advance at https://www.comediansontheloose.com/open-mics\n5-7 min.\n$5 to perform\nHosted by Sonja Savanovic
URL:https://thecomedybureau.com/show/comedians-on-the-loose-black-cat-les-in-nyc-54-2-2/2024-02-03/
LOCATION:Black Cat LES\, 172 Rivington Street\, New York\, NY\, 10002\, United States
CATEGORIES:New York,New York Open Mics,Open Mic,Standard
GEO:40.7191658;-73.9845007
X-APPLE-STRUCTURED-LOCATION;VALUE=URI;X-ADDRESS=Black Cat LES 172 Rivington Street New York NY 10002 United States;X-APPLE-RADIUS=500;X-TITLE=172 Rivington Street:geo:-73.9845007,40.7191658
END:VEVENT
BEGIN:VEVENT
DTSTART;TZID=America/New_York:20240204T214500
DTEND;TZID=America/New_York:20240204T233000
DTSTAMP:20260421T195317
CREATED:20240102T035406Z
LAST-MODIFIED:20250629T070902Z
UID:10008835-1707083100-1707089400@thecomedybureau.com
SUMMARY:Eastville Comedy Club (in NYC)
DESCRIPTION:Sign-up 9:15PM ET\nStarts 9:45PM ET\nEnds 11:30PM ET\n5 min.\n1 item min. to perform\nShow up\, go up
URL:https://thecomedybureau.com/show/eastville-comedy-club-in-nyc-51-2-2-3/2024-02-04/
LOCATION:Eastville Comedy Club\, 487 Atlantic Avenue\, Brooklyn\, NY\, 11217\, United States
CATEGORIES:New York,New York Open Mics,Open Mic,Standard
GEO:40.6859214;-73.9816178
X-APPLE-STRUCTURED-LOCATION;VALUE=URI;X-ADDRESS=Eastville Comedy Club 487 Atlantic Avenue Brooklyn NY 11217 United States;X-APPLE-RADIUS=500;X-TITLE=487 Atlantic Avenue:geo:-73.9816178,40.6859214
END:VEVENT
BEGIN:VEVENT
DTSTART;TZID=America/Los_Angeles:20240205T180000
DTEND;TZID=America/Los_Angeles:20240205T200000
DTSTAMP:20260421T195317
CREATED:20231218T192456Z
LAST-MODIFIED:20241021T161615Z
UID:10008817-1707156000-1707163200@thecomedybureau.com
SUMMARY:Eastville Comedy Club (in NYC)
DESCRIPTION:Sign-up 5:30PM ET\nStarts 6PM ET\nEnds 7:45PM ET\n5 min.\n1 item min. to perform\nShow up\, go up
URL:https://thecomedybureau.com/show/eastville-comedy-club-in-nyc-51-2-2-2/2024-02-05/
LOCATION:Eastville Comedy Club\, 487 Atlantic Avenue\, Brooklyn\, NY\, 11217\, United States
CATEGORIES:New York,New York Open Mics,Open Mic,Standard
GEO:40.6859214;-73.9816178
X-APPLE-STRUCTURED-LOCATION;VALUE=URI;X-ADDRESS=Eastville Comedy Club 487 Atlantic Avenue Brooklyn NY 11217 United States;X-APPLE-RADIUS=500;X-TITLE=487 Atlantic Avenue:geo:-73.9816178,40.6859214
END:VEVENT
BEGIN:VEVENT
DTSTART;TZID=America/New_York:20240205T214500
DTEND;TZID=America/New_York:20240205T233000
DTSTAMP:20260421T195317
CREATED:20240102T035406Z
LAST-MODIFIED:20250629T070902Z
UID:10008836-1707169500-1707175800@thecomedybureau.com
SUMMARY:Eastville Comedy Club (in NYC)
DESCRIPTION:Sign-up 9:15PM ET\nStarts 9:45PM ET\nEnds 11:30PM ET\n5 min.\n1 item min. to perform\nShow up\, go up
URL:https://thecomedybureau.com/show/eastville-comedy-club-in-nyc-51-2-2-3/2024-02-05/
LOCATION:Eastville Comedy Club\, 487 Atlantic Avenue\, Brooklyn\, NY\, 11217\, United States
CATEGORIES:New York,New York Open Mics,Open Mic,Standard
GEO:40.6859214;-73.9816178
X-APPLE-STRUCTURED-LOCATION;VALUE=URI;X-ADDRESS=Eastville Comedy Club 487 Atlantic Avenue Brooklyn NY 11217 United States;X-APPLE-RADIUS=500;X-TITLE=487 Atlantic Avenue:geo:-73.9816178,40.6859214
END:VEVENT
BEGIN:VEVENT
DTSTART;TZID=America/Los_Angeles:20240206T173000
DTEND;TZID=America/Los_Angeles:20240206T193000
DTSTAMP:20260421T195317
CREATED:20231127T081225Z
LAST-MODIFIED:20260329T000409Z
UID:10010375-1707240600-1707247800@thecomedybureau.com
SUMMARY:Hollywood Improv (in LA)
DESCRIPTION:Sign-up 5PM\nin Main Room\nSign-up cut off at 75 names in bucket\nStarts 5:30PM\n3 min.\nLottery
URL:https://thecomedybureau.com/show/hollywood-improv-comedy-lab-in-la-18-2-2/2024-02-06/
LOCATION:Hollywood Improv\, 8162 Melrose Avenue\, Los Angeles\, CA\, 90046\, United States
CATEGORIES:Los Angeles,Los Angeles Open Mics,Open Mic,Standard
GEO:34.0834621;-118.3674136
X-APPLE-STRUCTURED-LOCATION;VALUE=URI;X-ADDRESS=Hollywood Improv 8162 Melrose Avenue Los Angeles CA 90046 United States;X-APPLE-RADIUS=500;X-TITLE=8162 Melrose Avenue:geo:-118.3674136,34.0834621
END:VEVENT
BEGIN:VEVENT
DTSTART;TZID=America/Los_Angeles:20240206T180000
DTEND;TZID=America/Los_Angeles:20240206T200000
DTSTAMP:20260421T195317
CREATED:20231218T192456Z
LAST-MODIFIED:20241021T161615Z
UID:10010724-1707242400-1707249600@thecomedybureau.com
SUMMARY:Eastville Comedy Club (in NYC)
DESCRIPTION:Sign-up 5:30PM ET\nStarts 6PM ET\nEnds 7:45PM ET\n5 min.\n1 item min. to perform\nShow up\, go up
URL:https://thecomedybureau.com/show/eastville-comedy-club-in-nyc-51-2-2-2/2024-02-06/
LOCATION:Eastville Comedy Club\, 487 Atlantic Avenue\, Brooklyn\, NY\, 11217\, United States
CATEGORIES:New York,New York Open Mics,Open Mic,Standard
GEO:40.6859214;-73.9816178
X-APPLE-STRUCTURED-LOCATION;VALUE=URI;X-ADDRESS=Eastville Comedy Club 487 Atlantic Avenue Brooklyn NY 11217 United States;X-APPLE-RADIUS=500;X-TITLE=487 Atlantic Avenue:geo:-73.9816178,40.6859214
END:VEVENT
BEGIN:VEVENT
DTSTART;TZID=America/New_York:20240206T190000
DTEND;TZID=America/New_York:20240206T203000
DTSTAMP:20260421T195317
CREATED:20231128T175448Z
LAST-MODIFIED:20241021T162358Z
UID:10010880-1707246000-1707251400@thecomedybureau.com
SUMMARY:Caravan of Dreams (in NYC)
DESCRIPTION:Starts 7PM ET\n5 min.\n$3 + 1 item min. to perform
URL:https://thecomedybureau.com/show/2-120-2-2/2024-02-06/
LOCATION:Caravan of Dreams\, 405 East 6th Street\, New York\, NY\, 10009\, United States
CATEGORIES:New York Open Mics,Open Mic,Standard
GEO:40.7263961;-73.9856544
X-APPLE-STRUCTURED-LOCATION;VALUE=URI;X-ADDRESS=Caravan of Dreams 405 East 6th Street New York NY 10009 United States;X-APPLE-RADIUS=500;X-TITLE=405 East 6th Street:geo:-73.9856544,40.7263961
END:VEVENT
BEGIN:VEVENT
DTSTART;TZID=America/Los_Angeles:20240206T200000
DTEND;TZID=America/Los_Angeles:20240206T213000
DTSTAMP:20260421T195317
CREATED:20231218T070522Z
LAST-MODIFIED:20250521T031322Z
UID:10062594-1707249600-1707255000@thecomedybureau.com
SUMMARY:Acapulco Goldie's @ The Mexican Village (in LA)
DESCRIPTION:Sign-up 7:30PM\nStarts 8PM\nBucket lottery\n5 min.\nHosted by Peter Skobel and Rick Carrera
URL:https://thecomedybureau.com/show/acapulco-goldies-the-mexican-village-in-la-2-2-2/2024-02-06/
LOCATION:The Mexican Village\, 3668 Beverly Boulevard\, Los Angeles\, CA\, 90004\, United States
CATEGORIES:Los Angeles,Los Angeles Open Mics,Open Mic,Standard
GEO:34.0760724;-118.2884966
X-APPLE-STRUCTURED-LOCATION;VALUE=URI;X-ADDRESS=The Mexican Village 3668 Beverly Boulevard Los Angeles CA 90004 United States;X-APPLE-RADIUS=500;X-TITLE=3668 Beverly Boulevard:geo:-118.2884966,34.0760724
END:VEVENT
BEGIN:VEVENT
DTSTART;TZID=America/New_York:20240206T214500
DTEND;TZID=America/New_York:20240206T233000
DTSTAMP:20260421T195317
CREATED:20240102T035406Z
LAST-MODIFIED:20250629T070902Z
UID:10010814-1707255900-1707262200@thecomedybureau.com
SUMMARY:Eastville Comedy Club (in NYC)
DESCRIPTION:Sign-up 9:15PM ET\nStarts 9:45PM ET\nEnds 11:30PM ET\n5 min.\n1 item min. to perform\nShow up\, go up
URL:https://thecomedybureau.com/show/eastville-comedy-club-in-nyc-51-2-2-3/2024-02-06/
LOCATION:Eastville Comedy Club\, 487 Atlantic Avenue\, Brooklyn\, NY\, 11217\, United States
CATEGORIES:New York,New York Open Mics,Open Mic,Standard
GEO:40.6859214;-73.9816178
X-APPLE-STRUCTURED-LOCATION;VALUE=URI;X-ADDRESS=Eastville Comedy Club 487 Atlantic Avenue Brooklyn NY 11217 United States;X-APPLE-RADIUS=500;X-TITLE=487 Atlantic Avenue:geo:-73.9816178,40.6859214
END:VEVENT
BEGIN:VEVENT
DTSTART;TZID=America/Los_Angeles:20240207T180000
DTEND;TZID=America/Los_Angeles:20240207T200000
DTSTAMP:20260421T195317
CREATED:20231218T192456Z
LAST-MODIFIED:20241021T161615Z
UID:10010725-1707328800-1707336000@thecomedybureau.com
SUMMARY:Eastville Comedy Club (in NYC)
DESCRIPTION:Sign-up 5:30PM ET\nStarts 6PM ET\nEnds 7:45PM ET\n5 min.\n1 item min. to perform\nShow up\, go up
URL:https://thecomedybureau.com/show/eastville-comedy-club-in-nyc-51-2-2-2/2024-02-07/
LOCATION:Eastville Comedy Club\, 487 Atlantic Avenue\, Brooklyn\, NY\, 11217\, United States
CATEGORIES:New York,New York Open Mics,Open Mic,Standard
GEO:40.6859214;-73.9816178
X-APPLE-STRUCTURED-LOCATION;VALUE=URI;X-ADDRESS=Eastville Comedy Club 487 Atlantic Avenue Brooklyn NY 11217 United States;X-APPLE-RADIUS=500;X-TITLE=487 Atlantic Avenue:geo:-73.9816178,40.6859214
END:VEVENT
BEGIN:VEVENT
DTSTART;TZID=America/New_York:20240207T214500
DTEND;TZID=America/New_York:20240207T233000
DTSTAMP:20260421T195317
CREATED:20240102T035406Z
LAST-MODIFIED:20250629T070902Z
UID:10010815-1707342300-1707348600@thecomedybureau.com
SUMMARY:Eastville Comedy Club (in NYC)
DESCRIPTION:Sign-up 9:15PM ET\nStarts 9:45PM ET\nEnds 11:30PM ET\n5 min.\n1 item min. to perform\nShow up\, go up
URL:https://thecomedybureau.com/show/eastville-comedy-club-in-nyc-51-2-2-3/2024-02-07/
LOCATION:Eastville Comedy Club\, 487 Atlantic Avenue\, Brooklyn\, NY\, 11217\, United States
CATEGORIES:New York,New York Open Mics,Open Mic,Standard
GEO:40.6859214;-73.9816178
X-APPLE-STRUCTURED-LOCATION;VALUE=URI;X-ADDRESS=Eastville Comedy Club 487 Atlantic Avenue Brooklyn NY 11217 United States;X-APPLE-RADIUS=500;X-TITLE=487 Atlantic Avenue:geo:-73.9816178,40.6859214
END:VEVENT
BEGIN:VEVENT
DTSTART;TZID=America/Los_Angeles:20240208T180000
DTEND;TZID=America/Los_Angeles:20240208T200000
DTSTAMP:20260421T195317
CREATED:20231218T192456Z
LAST-MODIFIED:20241021T161615Z
UID:10010726-1707415200-1707422400@thecomedybureau.com
SUMMARY:Eastville Comedy Club (in NYC)
DESCRIPTION:Sign-up 5:30PM ET\nStarts 6PM ET\nEnds 7:45PM ET\n5 min.\n1 item min. to perform\nShow up\, go up
URL:https://thecomedybureau.com/show/eastville-comedy-club-in-nyc-51-2-2-2/2024-02-08/
LOCATION:Eastville Comedy Club\, 487 Atlantic Avenue\, Brooklyn\, NY\, 11217\, United States
CATEGORIES:New York,New York Open Mics,Open Mic,Standard
GEO:40.6859214;-73.9816178
X-APPLE-STRUCTURED-LOCATION;VALUE=URI;X-ADDRESS=Eastville Comedy Club 487 Atlantic Avenue Brooklyn NY 11217 United States;X-APPLE-RADIUS=500;X-TITLE=487 Atlantic Avenue:geo:-73.9816178,40.6859214
END:VEVENT
BEGIN:VEVENT
DTSTART;TZID=America/Los_Angeles:20240208T190000
DTEND;TZID=America/Los_Angeles:20240208T210000
DTSTAMP:20260421T195317
CREATED:20231128T175646Z
LAST-MODIFIED:20260330T080003Z
UID:10010886-1707418800-1707426000@thecomedybureau.com
SUMMARY:Comedians on the Loose @ Black Cat LES (in NYC)
DESCRIPTION:Starts 7PM ET\nSign-up in advance at https://www.comediansontheloose.com/open-mics\n5-7 min.\n$5 to perform\nHosted by Sonja Savanovic
URL:https://thecomedybureau.com/show/comedians-on-the-loose-black-cat-les-in-nyc-54-2-2/2024-02-08/
LOCATION:Black Cat LES\, 172 Rivington Street\, New York\, NY\, 10002\, United States
CATEGORIES:New York,New York Open Mics,Open Mic,Standard
GEO:40.7191658;-73.9845007
X-APPLE-STRUCTURED-LOCATION;VALUE=URI;X-ADDRESS=Black Cat LES 172 Rivington Street New York NY 10002 United States;X-APPLE-RADIUS=500;X-TITLE=172 Rivington Street:geo:-73.9845007,40.7191658
END:VEVENT
BEGIN:VEVENT
DTSTART;TZID=America/Los_Angeles:20240210T190000
DTEND;TZID=America/Los_Angeles:20240210T210000
DTSTAMP:20260421T195317
CREATED:20231128T175646Z
LAST-MODIFIED:20260330T080003Z
UID:10010887-1707591600-1707598800@thecomedybureau.com
SUMMARY:Comedians on the Loose @ Black Cat LES (in NYC)
DESCRIPTION:Starts 7PM ET\nSign-up in advance at https://www.comediansontheloose.com/open-mics\n5-7 min.\n$5 to perform\nHosted by Sonja Savanovic
URL:https://thecomedybureau.com/show/comedians-on-the-loose-black-cat-les-in-nyc-54-2-2/2024-02-10/
LOCATION:Black Cat LES\, 172 Rivington Street\, New York\, NY\, 10002\, United States
CATEGORIES:New York,New York Open Mics,Open Mic,Standard
GEO:40.7191658;-73.9845007
X-APPLE-STRUCTURED-LOCATION;VALUE=URI;X-ADDRESS=Black Cat LES 172 Rivington Street New York NY 10002 United States;X-APPLE-RADIUS=500;X-TITLE=172 Rivington Street:geo:-73.9845007,40.7191658
END:VEVENT
BEGIN:VEVENT
DTSTART;TZID=America/New_York:20240211T214500
DTEND;TZID=America/New_York:20240211T233000
DTSTAMP:20260421T195317
CREATED:20240102T035406Z
LAST-MODIFIED:20250629T070902Z
UID:10010816-1707687900-1707694200@thecomedybureau.com
SUMMARY:Eastville Comedy Club (in NYC)
DESCRIPTION:Sign-up 9:15PM ET\nStarts 9:45PM ET\nEnds 11:30PM ET\n5 min.\n1 item min. to perform\nShow up\, go up
URL:https://thecomedybureau.com/show/eastville-comedy-club-in-nyc-51-2-2-3/2024-02-11/
LOCATION:Eastville Comedy Club\, 487 Atlantic Avenue\, Brooklyn\, NY\, 11217\, United States
CATEGORIES:New York,New York Open Mics,Open Mic,Standard
GEO:40.6859214;-73.9816178
X-APPLE-STRUCTURED-LOCATION;VALUE=URI;X-ADDRESS=Eastville Comedy Club 487 Atlantic Avenue Brooklyn NY 11217 United States;X-APPLE-RADIUS=500;X-TITLE=487 Atlantic Avenue:geo:-73.9816178,40.6859214
END:VEVENT
BEGIN:VEVENT
DTSTART;TZID=America/Los_Angeles:20240212T180000
DTEND;TZID=America/Los_Angeles:20240212T200000
DTSTAMP:20260421T195317
CREATED:20231218T192456Z
LAST-MODIFIED:20241021T161615Z
UID:10010727-1707760800-1707768000@thecomedybureau.com
SUMMARY:Eastville Comedy Club (in NYC)
DESCRIPTION:Sign-up 5:30PM ET\nStarts 6PM ET\nEnds 7:45PM ET\n5 min.\n1 item min. to perform\nShow up\, go up
URL:https://thecomedybureau.com/show/eastville-comedy-club-in-nyc-51-2-2-2/2024-02-12/
LOCATION:Eastville Comedy Club\, 487 Atlantic Avenue\, Brooklyn\, NY\, 11217\, United States
CATEGORIES:New York,New York Open Mics,Open Mic,Standard
GEO:40.6859214;-73.9816178
X-APPLE-STRUCTURED-LOCATION;VALUE=URI;X-ADDRESS=Eastville Comedy Club 487 Atlantic Avenue Brooklyn NY 11217 United States;X-APPLE-RADIUS=500;X-TITLE=487 Atlantic Avenue:geo:-73.9816178,40.6859214
END:VEVENT
BEGIN:VEVENT
DTSTART;TZID=America/New_York:20240212T214500
DTEND;TZID=America/New_York:20240212T233000
DTSTAMP:20260421T195317
CREATED:20240102T035406Z
LAST-MODIFIED:20250629T070902Z
UID:10010817-1707774300-1707780600@thecomedybureau.com
SUMMARY:Eastville Comedy Club (in NYC)
DESCRIPTION:Sign-up 9:15PM ET\nStarts 9:45PM ET\nEnds 11:30PM ET\n5 min.\n1 item min. to perform\nShow up\, go up
URL:https://thecomedybureau.com/show/eastville-comedy-club-in-nyc-51-2-2-3/2024-02-12/
LOCATION:Eastville Comedy Club\, 487 Atlantic Avenue\, Brooklyn\, NY\, 11217\, United States
CATEGORIES:New York,New York Open Mics,Open Mic,Standard
GEO:40.6859214;-73.9816178
X-APPLE-STRUCTURED-LOCATION;VALUE=URI;X-ADDRESS=Eastville Comedy Club 487 Atlantic Avenue Brooklyn NY 11217 United States;X-APPLE-RADIUS=500;X-TITLE=487 Atlantic Avenue:geo:-73.9816178,40.6859214
END:VEVENT
BEGIN:VEVENT
DTSTART;TZID=America/Los_Angeles:20240213T170000
DTEND;TZID=America/Los_Angeles:20240213T180000
DTSTAMP:20260421T195317
CREATED:20231218T022355Z
LAST-MODIFIED:20250331T001409Z
UID:10011080-1707843600-1707847200@thecomedybureau.com
SUMMARY:Hollywood Laugh Factory (in LA)
DESCRIPTION:Sign-up 4PM PT-5PM PT\nStarts 5PM PT\n10 lottery spots\n10 walk-up spots\n2 min.\nmust work clean
URL:https://thecomedybureau.com/show/hollywood-laugh-factory-4-2-2-2/2024-02-13/
LOCATION:Hollywood Laugh Factory\, 8001 West Sunset Boulevard\, Los Angeles\, CA\, 90046\, United States
CATEGORIES:Los Angeles Open Mics,Open Mic,Standard
GEO:34.098159;-118.364516
X-APPLE-STRUCTURED-LOCATION;VALUE=URI;X-ADDRESS=Hollywood Laugh Factory 8001 West Sunset Boulevard Los Angeles CA 90046 United States;X-APPLE-RADIUS=500;X-TITLE=8001 West Sunset Boulevard:geo:-118.364516,34.098159
END:VEVENT
BEGIN:VEVENT
DTSTART;TZID=America/Los_Angeles:20240213T173000
DTEND;TZID=America/Los_Angeles:20240213T193000
DTSTAMP:20260421T195317
CREATED:20231127T081225Z
LAST-MODIFIED:20260329T000409Z
UID:10010376-1707845400-1707852600@thecomedybureau.com
SUMMARY:Hollywood Improv (in LA)
DESCRIPTION:Sign-up 5PM\nin Main Room\nSign-up cut off at 75 names in bucket\nStarts 5:30PM\n3 min.\nLottery
URL:https://thecomedybureau.com/show/hollywood-improv-comedy-lab-in-la-18-2-2/2024-02-13/
LOCATION:Hollywood Improv\, 8162 Melrose Avenue\, Los Angeles\, CA\, 90046\, United States
CATEGORIES:Los Angeles,Los Angeles Open Mics,Open Mic,Standard
GEO:34.0834621;-118.3674136
X-APPLE-STRUCTURED-LOCATION;VALUE=URI;X-ADDRESS=Hollywood Improv 8162 Melrose Avenue Los Angeles CA 90046 United States;X-APPLE-RADIUS=500;X-TITLE=8162 Melrose Avenue:geo:-118.3674136,34.0834621
END:VEVENT
END:VCALENDAR