BEGIN:VCALENDAR
VERSION:2.0
PRODID:-//The Comedy Bureau - ECPv6.15.18//NONSGML v1.0//EN
CALSCALE:GREGORIAN
METHOD:PUBLISH
X-WR-CALNAME:The Comedy Bureau
X-ORIGINAL-URL:https://thecomedybureau.com
X-WR-CALDESC:Events for The Comedy Bureau
REFRESH-INTERVAL;VALUE=DURATION:PT1H
X-Robots-Tag:noindex
X-PUBLISHED-TTL:PT1H
BEGIN:VTIMEZONE
TZID:America/Los_Angeles
BEGIN:DAYLIGHT
TZOFFSETFROM:-0800
TZOFFSETTO:-0700
TZNAME:PDT
DTSTART:20220313T100000
END:DAYLIGHT
BEGIN:STANDARD
TZOFFSETFROM:-0700
TZOFFSETTO:-0800
TZNAME:PST
DTSTART:20221106T090000
END:STANDARD
BEGIN:DAYLIGHT
TZOFFSETFROM:-0800
TZOFFSETTO:-0700
TZNAME:PDT
DTSTART:20230312T100000
END:DAYLIGHT
BEGIN:STANDARD
TZOFFSETFROM:-0700
TZOFFSETTO:-0800
TZNAME:PST
DTSTART:20231105T090000
END:STANDARD
BEGIN:DAYLIGHT
TZOFFSETFROM:-0800
TZOFFSETTO:-0700
TZNAME:PDT
DTSTART:20240310T100000
END:DAYLIGHT
BEGIN:STANDARD
TZOFFSETFROM:-0700
TZOFFSETTO:-0800
TZNAME:PST
DTSTART:20241103T090000
END:STANDARD
END:VTIMEZONE
BEGIN:VTIMEZONE
TZID:America/New_York
BEGIN:DAYLIGHT
TZOFFSETFROM:-0500
TZOFFSETTO:-0400
TZNAME:EDT
DTSTART:20220313T070000
END:DAYLIGHT
BEGIN:STANDARD
TZOFFSETFROM:-0400
TZOFFSETTO:-0500
TZNAME:EST
DTSTART:20221106T060000
END:STANDARD
BEGIN:DAYLIGHT
TZOFFSETFROM:-0500
TZOFFSETTO:-0400
TZNAME:EDT
DTSTART:20230312T070000
END:DAYLIGHT
BEGIN:STANDARD
TZOFFSETFROM:-0400
TZOFFSETTO:-0500
TZNAME:EST
DTSTART:20231105T060000
END:STANDARD
BEGIN:DAYLIGHT
TZOFFSETFROM:-0500
TZOFFSETTO:-0400
TZNAME:EDT
DTSTART:20240310T070000
END:DAYLIGHT
BEGIN:STANDARD
TZOFFSETFROM:-0400
TZOFFSETTO:-0500
TZNAME:EST
DTSTART:20241103T060000
END:STANDARD
END:VTIMEZONE
BEGIN:VEVENT
DTSTART;TZID=America/Los_Angeles:20231205T180000
DTEND;TZID=America/Los_Angeles:20231205T210000
DTSTAMP:20260421T024906
CREATED:20231028T235539Z
LAST-MODIFIED:20231127T081540Z
UID:10006033-1701799200-1701810000@thecomedybureau.com
SUMMARY:(6PM-8PM Hourly) Witty Titties Women’s Only Open Mic (in LA)
DESCRIPTION:This is a women’s only open mic. All are welcome to watch and support\, but only those who identify as a woman or as nonbinary get stage time. Good vibes only! 🙂 \nStarts 6PM PT and 7PM PT every Tuesday. Must show up at the top of their slotted hour or forfeit their time and money.\nSign-up in advance at https://slotted.co/wittytitties\nCost: $5 for 5 minutes. Must Venmo (@thegenesissol) ahead of time to confirm slot.\nDrinks are available for purchase \nHosted by Genesis Sol
URL:https://thecomedybureau.com/show/6pm-7pm-hourly-witty-titties-womens-only-open-mic-in-la-20-2/2023-12-05/
LOCATION:The Nitecap\, 2220 West Burbank Boulevard\, Burbank\, CA\, 91506\, United States
CATEGORIES:Los Angeles,Los Angeles Open Mics,Open Mic,Standard
GEO:34.1792488;-118.3355449
X-APPLE-STRUCTURED-LOCATION;VALUE=URI;X-ADDRESS=The Nitecap 2220 West Burbank Boulevard Burbank CA 91506 United States;X-APPLE-RADIUS=500;X-TITLE=2220 West Burbank Boulevard:geo:-118.3355449,34.1792488
END:VEVENT
BEGIN:VEVENT
DTSTART;TZID=America/New_York:20231205T190000
DTEND;TZID=America/New_York:20231205T203000
DTSTAMP:20260421T024906
CREATED:20231128T175448Z
LAST-MODIFIED:20241021T162358Z
UID:10006284-1701802800-1701808200@thecomedybureau.com
SUMMARY:Caravan of Dreams (in NYC)
DESCRIPTION:Starts 7PM ET\n5 min.\n$3 + 1 item min. to perform
URL:https://thecomedybureau.com/show/2-120-2-2/2023-12-05/
LOCATION:Caravan of Dreams\, 405 East 6th Street\, New York\, NY\, 10009\, United States
CATEGORIES:New York Open Mics,Open Mic,Standard
GEO:40.7263961;-73.9856544
X-APPLE-STRUCTURED-LOCATION;VALUE=URI;X-ADDRESS=Caravan of Dreams 405 East 6th Street New York NY 10009 United States;X-APPLE-RADIUS=500;X-TITLE=405 East 6th Street:geo:-73.9856544,40.7263961
END:VEVENT
BEGIN:VEVENT
DTSTART;TZID=America/Los_Angeles:20231205T190000
DTEND;TZID=America/Los_Angeles:20231205T210000
DTSTAMP:20260421T024906
CREATED:20231127T081657Z
LAST-MODIFIED:20231127T081702Z
UID:10006036-1701802800-1701810000@thecomedybureau.com
SUMMARY:IvanWho? Open Mic @ Ivanhoe (in LA)
DESCRIPTION:Starts 7PM PT\n5 min.\nSign-up in advance at slotted.co/l7flvf4j\nHosted by Leonard Smith Jr\, Ray Lau\, and Austin Kress
URL:https://thecomedybureau.com/show/ivanwho-open-mic-ivanhoe-in-la-2-2/2023-12-05/
LOCATION:Ivanhoe\, 2500 Riverside Drive\, Los Angeles\, CA\, 90039\, United States
CATEGORIES:Los Angeles Open Mics,Open Mic,Standard
GEO:34.1060606;-118.2569214
X-APPLE-STRUCTURED-LOCATION;VALUE=URI;X-ADDRESS=Ivanhoe 2500 Riverside Drive Los Angeles CA 90039 United States;X-APPLE-RADIUS=500;X-TITLE=2500 Riverside Drive:geo:-118.2569214,34.1060606
END:VEVENT
BEGIN:VEVENT
DTSTART;TZID=America/Los_Angeles:20231205T190000
DTEND;TZID=America/Los_Angeles:20231205T220000
DTSTAMP:20260421T024906
CREATED:20231127T081808Z
LAST-MODIFIED:20231127T081813Z
UID:10006040-1701802800-1701813600@thecomedybureau.com
SUMMARY:Mid City Comedy @ Gen Q Studios (in LA)
DESCRIPTION:Sign-up in advance at slotted.co/midcity\nStarts 7PM PT\nEnds 10PM PT\n$5 for 5 min.\n(have two waitlist spots for walk ins)\nfirst two people get a free drink\nHosted by William Pepper
URL:https://thecomedybureau.com/show/mid-city-comedy-gen-q-studios-in-la-2-2/2023-12-05/
LOCATION:Gen Q Studios\, 4700 West Jefferson Boulevard\, Los Angeles\, CA\, 90016\, United States
CATEGORIES:Los Angeles Open Mics,Open Mic,Standard
GEO:34.0251917;-118.3475196
X-APPLE-STRUCTURED-LOCATION;VALUE=URI;X-ADDRESS=Gen Q Studios 4700 West Jefferson Boulevard Los Angeles CA 90016 United States;X-APPLE-RADIUS=500;X-TITLE=4700 West Jefferson Boulevard:geo:-118.3475196,34.0251917
END:VEVENT
BEGIN:VEVENT
DTSTART;TZID=America/Los_Angeles:20231205T191500
DTEND;TZID=America/Los_Angeles:20231205T210000
DTSTAMP:20260421T024906
CREATED:20231127T082026Z
LAST-MODIFIED:20231127T082031Z
UID:10006042-1701803700-1701810000@thecomedybureau.com
SUMMARY:Acapulco Goldie's @ The Mexican Village (in LA)
DESCRIPTION:Sign-up 6:45PM\nStarts 7:15PM\nBucket lottery\n5 min.\nHosted by Peter Skobel and Rick Carrera
URL:https://thecomedybureau.com/show/acapulco-goldies-the-mexican-village-in-la-2-2/2023-12-05/
LOCATION:The Mexican Village\, 3668 Beverly Boulevard\, Los Angeles\, CA\, 90004\, United States
CATEGORIES:Los Angeles,Los Angeles Open Mics,Open Mic,Standard
GEO:34.0760724;-118.2884966
X-APPLE-STRUCTURED-LOCATION;VALUE=URI;X-ADDRESS=The Mexican Village 3668 Beverly Boulevard Los Angeles CA 90004 United States;X-APPLE-RADIUS=500;X-TITLE=3668 Beverly Boulevard:geo:-118.2884966,34.0760724
END:VEVENT
BEGIN:VEVENT
DTSTART;TZID=America/Los_Angeles:20231206T190000
DTEND;TZID=America/Los_Angeles:20231206T210000
DTSTAMP:20260421T024906
CREATED:20231127T081657Z
LAST-MODIFIED:20231127T081702Z
UID:10006037-1701889200-1701896400@thecomedybureau.com
SUMMARY:IvanWho? Open Mic @ Ivanhoe (in LA)
DESCRIPTION:Starts 7PM PT\n5 min.\nSign-up in advance at slotted.co/l7flvf4j\nHosted by Leonard Smith Jr\, Ray Lau\, and Austin Kress
URL:https://thecomedybureau.com/show/ivanwho-open-mic-ivanhoe-in-la-2-2/2023-12-06/
LOCATION:Ivanhoe\, 2500 Riverside Drive\, Los Angeles\, CA\, 90039\, United States
CATEGORIES:Los Angeles Open Mics,Open Mic,Standard
GEO:34.1060606;-118.2569214
X-APPLE-STRUCTURED-LOCATION;VALUE=URI;X-ADDRESS=Ivanhoe 2500 Riverside Drive Los Angeles CA 90039 United States;X-APPLE-RADIUS=500;X-TITLE=2500 Riverside Drive:geo:-118.2569214,34.1060606
END:VEVENT
BEGIN:VEVENT
DTSTART;TZID=America/Los_Angeles:20231207T190000
DTEND;TZID=America/Los_Angeles:20231207T210000
DTSTAMP:20260421T024906
CREATED:20231128T175646Z
LAST-MODIFIED:20260330T080003Z
UID:10006289-1701975600-1701982800@thecomedybureau.com
SUMMARY:Comedians on the Loose @ Black Cat LES (in NYC)
DESCRIPTION:Starts 7PM ET\nSign-up in advance at https://www.comediansontheloose.com/open-mics\n5-7 min.\n$5 to perform\nHosted by Sonja Savanovic
URL:https://thecomedybureau.com/show/comedians-on-the-loose-black-cat-les-in-nyc-54-2-2/2023-12-07/
LOCATION:Black Cat LES\, 172 Rivington Street\, New York\, NY\, 10002\, United States
CATEGORIES:New York,New York Open Mics,Open Mic,Standard
GEO:40.7191658;-73.9845007
X-APPLE-STRUCTURED-LOCATION;VALUE=URI;X-ADDRESS=Black Cat LES 172 Rivington Street New York NY 10002 United States;X-APPLE-RADIUS=500;X-TITLE=172 Rivington Street:geo:-73.9845007,40.7191658
END:VEVENT
BEGIN:VEVENT
DTSTART;TZID=America/Los_Angeles:20231209T190000
DTEND;TZID=America/Los_Angeles:20231209T210000
DTSTAMP:20260421T024906
CREATED:20231128T175646Z
LAST-MODIFIED:20260330T080003Z
UID:10006290-1702148400-1702155600@thecomedybureau.com
SUMMARY:Comedians on the Loose @ Black Cat LES (in NYC)
DESCRIPTION:Starts 7PM ET\nSign-up in advance at https://www.comediansontheloose.com/open-mics\n5-7 min.\n$5 to perform\nHosted by Sonja Savanovic
URL:https://thecomedybureau.com/show/comedians-on-the-loose-black-cat-les-in-nyc-54-2-2/2023-12-09/
LOCATION:Black Cat LES\, 172 Rivington Street\, New York\, NY\, 10002\, United States
CATEGORIES:New York,New York Open Mics,Open Mic,Standard
GEO:40.7191658;-73.9845007
X-APPLE-STRUCTURED-LOCATION;VALUE=URI;X-ADDRESS=Black Cat LES 172 Rivington Street New York NY 10002 United States;X-APPLE-RADIUS=500;X-TITLE=172 Rivington Street:geo:-73.9845007,40.7191658
END:VEVENT
BEGIN:VEVENT
DTSTART;TZID=America/Los_Angeles:20231212T180000
DTEND;TZID=America/Los_Angeles:20231212T210000
DTSTAMP:20260421T024906
CREATED:20231028T235539Z
LAST-MODIFIED:20231127T081540Z
UID:10006034-1702404000-1702414800@thecomedybureau.com
SUMMARY:(6PM-8PM Hourly) Witty Titties Women’s Only Open Mic (in LA)
DESCRIPTION:This is a women’s only open mic. All are welcome to watch and support\, but only those who identify as a woman or as nonbinary get stage time. Good vibes only! 🙂 \nStarts 6PM PT and 7PM PT every Tuesday. Must show up at the top of their slotted hour or forfeit their time and money.\nSign-up in advance at https://slotted.co/wittytitties\nCost: $5 for 5 minutes. Must Venmo (@thegenesissol) ahead of time to confirm slot.\nDrinks are available for purchase \nHosted by Genesis Sol
URL:https://thecomedybureau.com/show/6pm-7pm-hourly-witty-titties-womens-only-open-mic-in-la-20-2/2023-12-12/
LOCATION:The Nitecap\, 2220 West Burbank Boulevard\, Burbank\, CA\, 91506\, United States
CATEGORIES:Los Angeles,Los Angeles Open Mics,Open Mic,Standard
GEO:34.1792488;-118.3355449
X-APPLE-STRUCTURED-LOCATION;VALUE=URI;X-ADDRESS=The Nitecap 2220 West Burbank Boulevard Burbank CA 91506 United States;X-APPLE-RADIUS=500;X-TITLE=2220 West Burbank Boulevard:geo:-118.3355449,34.1792488
END:VEVENT
BEGIN:VEVENT
DTSTART;TZID=America/New_York:20231212T190000
DTEND;TZID=America/New_York:20231212T203000
DTSTAMP:20260421T024906
CREATED:20231128T175448Z
LAST-MODIFIED:20241021T162358Z
UID:10006285-1702407600-1702413000@thecomedybureau.com
SUMMARY:Caravan of Dreams (in NYC)
DESCRIPTION:Starts 7PM ET\n5 min.\n$3 + 1 item min. to perform
URL:https://thecomedybureau.com/show/2-120-2-2/2023-12-12/
LOCATION:Caravan of Dreams\, 405 East 6th Street\, New York\, NY\, 10009\, United States
CATEGORIES:New York Open Mics,Open Mic,Standard
GEO:40.7263961;-73.9856544
X-APPLE-STRUCTURED-LOCATION;VALUE=URI;X-ADDRESS=Caravan of Dreams 405 East 6th Street New York NY 10009 United States;X-APPLE-RADIUS=500;X-TITLE=405 East 6th Street:geo:-73.9856544,40.7263961
END:VEVENT
BEGIN:VEVENT
DTSTART;TZID=America/Los_Angeles:20231214T190000
DTEND;TZID=America/Los_Angeles:20231214T210000
DTSTAMP:20260421T024906
CREATED:20231128T175646Z
LAST-MODIFIED:20260330T080003Z
UID:10006292-1702580400-1702587600@thecomedybureau.com
SUMMARY:Comedians on the Loose @ Black Cat LES (in NYC)
DESCRIPTION:Starts 7PM ET\nSign-up in advance at https://www.comediansontheloose.com/open-mics\n5-7 min.\n$5 to perform\nHosted by Sonja Savanovic
URL:https://thecomedybureau.com/show/comedians-on-the-loose-black-cat-les-in-nyc-54-2-2/2023-12-14/
LOCATION:Black Cat LES\, 172 Rivington Street\, New York\, NY\, 10002\, United States
CATEGORIES:New York,New York Open Mics,Open Mic,Standard
GEO:40.7191658;-73.9845007
X-APPLE-STRUCTURED-LOCATION;VALUE=URI;X-ADDRESS=Black Cat LES 172 Rivington Street New York NY 10002 United States;X-APPLE-RADIUS=500;X-TITLE=172 Rivington Street:geo:-73.9845007,40.7191658
END:VEVENT
BEGIN:VEVENT
DTSTART;TZID=America/Los_Angeles:20231216T190000
DTEND;TZID=America/Los_Angeles:20231216T210000
DTSTAMP:20260421T024906
CREATED:20231128T175646Z
LAST-MODIFIED:20260330T080003Z
UID:10006293-1702753200-1702760400@thecomedybureau.com
SUMMARY:Comedians on the Loose @ Black Cat LES (in NYC)
DESCRIPTION:Starts 7PM ET\nSign-up in advance at https://www.comediansontheloose.com/open-mics\n5-7 min.\n$5 to perform\nHosted by Sonja Savanovic
URL:https://thecomedybureau.com/show/comedians-on-the-loose-black-cat-les-in-nyc-54-2-2/2023-12-16/
LOCATION:Black Cat LES\, 172 Rivington Street\, New York\, NY\, 10002\, United States
CATEGORIES:New York,New York Open Mics,Open Mic,Standard
GEO:40.7191658;-73.9845007
X-APPLE-STRUCTURED-LOCATION;VALUE=URI;X-ADDRESS=Black Cat LES 172 Rivington Street New York NY 10002 United States;X-APPLE-RADIUS=500;X-TITLE=172 Rivington Street:geo:-73.9845007,40.7191658
END:VEVENT
BEGIN:VEVENT
DTSTART;TZID=America/New_York:20231219T160000
DTEND;TZID=America/New_York:20231219T180000
DTSTAMP:20260421T024906
CREATED:20231218T191148Z
LAST-MODIFIED:20231218T191257Z
UID:10006269-1703001600-1703008800@thecomedybureau.com
SUMMARY:The Comedy Shop (in NYC)
DESCRIPTION:Starts 4PM ET\n5 min.\n1 item min. to perform
URL:https://thecomedybureau.com/show/the-comedy-shop-in-nyc-132-2-2-2/
LOCATION:the comedy shop\, 167 Bleecker Street\, New York\, NY\, 10012\, United States
CATEGORIES:New York Open Mics,Open Mic,Standard
GEO:40.7288609;-74.0001048
X-APPLE-STRUCTURED-LOCATION;VALUE=URI;X-ADDRESS=the comedy shop 167 Bleecker Street New York NY 10012 United States;X-APPLE-RADIUS=500;X-TITLE=167 Bleecker Street:geo:-74.0001048,40.7288609
END:VEVENT
BEGIN:VEVENT
DTSTART;TZID=America/New_York:20231219T173000
DTEND;TZID=America/New_York:20231219T193000
DTSTAMP:20260421T024906
CREATED:20231218T191625Z
LAST-MODIFIED:20231218T191709Z
UID:10006273-1703007000-1703014200@thecomedybureau.com
SUMMARY:Greenwich Village Comedy Club (in NYC)
DESCRIPTION:Starts 5:30PM ET\n$5 for 7 min. and 1 drink\nHosted by Steve Arons
URL:https://thecomedybureau.com/show/greenwich-village-comedy-club-in-nyc-7-2-2-2/2023-12-19/
LOCATION:Greenwich Village Comedy Club\, 99 MacDougal Street\, New York\, NY\, 10012\, United States
CATEGORIES:New York Open Mics,Open Mic,Standard
GEO:40.7296283;-74.0010291
X-APPLE-STRUCTURED-LOCATION;VALUE=URI;X-ADDRESS=Greenwich Village Comedy Club 99 MacDougal Street New York NY 10012 United States;X-APPLE-RADIUS=500;X-TITLE=99 MacDougal Street:geo:-74.0010291,40.7296283
END:VEVENT
BEGIN:VEVENT
DTSTART;TZID=America/Los_Angeles:20231219T173000
DTEND;TZID=America/Los_Angeles:20231219T193000
DTSTAMP:20260421T024906
CREATED:20231218T022435Z
LAST-MODIFIED:20231218T022439Z
UID:10006008-1703007000-1703014200@thecomedybureau.com
SUMMARY:Hollywood Improv Comedy Lab (in LA)
DESCRIPTION:Sign-up 5PM\nin Main Room\nSign-up cut off at 75 names in bucket\nStarts 5:30PM\n3 min.\nLottery
URL:https://thecomedybureau.com/show/hollywood-improv-comedy-lab-in-la-18-2-2-2/
LOCATION:Hollywood Improv Comedy Lab\, 8156 Melrose Avenue\, Los Angeles\, CA\, 90046\, United States
CATEGORIES:Los Angeles,Los Angeles Open Mics,Open Mic,Standard
GEO:34.0834649;-118.367257
X-APPLE-STRUCTURED-LOCATION;VALUE=URI;X-ADDRESS=Hollywood Improv Comedy Lab 8156 Melrose Avenue Los Angeles CA 90046 United States;X-APPLE-RADIUS=500;X-TITLE=8156 Melrose Avenue:geo:-118.367257,34.0834649
END:VEVENT
BEGIN:VEVENT
DTSTART;TZID=America/Los_Angeles:20231219T173000
DTEND;TZID=America/Los_Angeles:20231219T193000
DTSTAMP:20260421T024906
CREATED:20231127T081225Z
LAST-MODIFIED:20260329T000409Z
UID:10007333-1703007000-1703014200@thecomedybureau.com
SUMMARY:Hollywood Improv (in LA)
DESCRIPTION:Sign-up 5PM\nin Main Room\nSign-up cut off at 75 names in bucket\nStarts 5:30PM\n3 min.\nLottery
URL:https://thecomedybureau.com/show/hollywood-improv-comedy-lab-in-la-18-2-2/2023-12-19/
LOCATION:Hollywood Improv\, 8162 Melrose Avenue\, Los Angeles\, CA\, 90046\, United States
CATEGORIES:Los Angeles,Los Angeles Open Mics,Open Mic,Standard
GEO:34.0834621;-118.3674136
X-APPLE-STRUCTURED-LOCATION;VALUE=URI;X-ADDRESS=Hollywood Improv 8162 Melrose Avenue Los Angeles CA 90046 United States;X-APPLE-RADIUS=500;X-TITLE=8162 Melrose Avenue:geo:-118.3674136,34.0834621
END:VEVENT
BEGIN:VEVENT
DTSTART;TZID=America/Los_Angeles:20231219T180000
DTEND;TZID=America/Los_Angeles:20231219T200000
DTSTAMP:20260421T024906
CREATED:20231218T192456Z
LAST-MODIFIED:20241021T161615Z
UID:10006277-1703008800-1703016000@thecomedybureau.com
SUMMARY:Eastville Comedy Club (in NYC)
DESCRIPTION:Sign-up 5:30PM ET\nStarts 6PM ET\nEnds 7:45PM ET\n5 min.\n1 item min. to perform\nShow up\, go up
URL:https://thecomedybureau.com/show/eastville-comedy-club-in-nyc-51-2-2-2/2023-12-19/
LOCATION:Eastville Comedy Club\, 487 Atlantic Avenue\, Brooklyn\, NY\, 11217\, United States
CATEGORIES:New York,New York Open Mics,Open Mic,Standard
GEO:40.6859214;-73.9816178
X-APPLE-STRUCTURED-LOCATION;VALUE=URI;X-ADDRESS=Eastville Comedy Club 487 Atlantic Avenue Brooklyn NY 11217 United States;X-APPLE-RADIUS=500;X-TITLE=487 Atlantic Avenue:geo:-73.9816178,40.6859214
END:VEVENT
BEGIN:VEVENT
DTSTART;TZID=America/New_York:20231219T190000
DTEND;TZID=America/New_York:20231219T203000
DTSTAMP:20260421T024906
CREATED:20231128T175448Z
LAST-MODIFIED:20241021T162358Z
UID:10007539-1703012400-1703017800@thecomedybureau.com
SUMMARY:Caravan of Dreams (in NYC)
DESCRIPTION:Starts 7PM ET\n5 min.\n$3 + 1 item min. to perform
URL:https://thecomedybureau.com/show/2-120-2-2/2023-12-19/
LOCATION:Caravan of Dreams\, 405 East 6th Street\, New York\, NY\, 10009\, United States
CATEGORIES:New York Open Mics,Open Mic,Standard
GEO:40.7263961;-73.9856544
X-APPLE-STRUCTURED-LOCATION;VALUE=URI;X-ADDRESS=Caravan of Dreams 405 East 6th Street New York NY 10009 United States;X-APPLE-RADIUS=500;X-TITLE=405 East 6th Street:geo:-73.9856544,40.7263961
END:VEVENT
BEGIN:VEVENT
DTSTART;TZID=America/Los_Angeles:20231219T190000
DTEND;TZID=America/Los_Angeles:20231219T210000
DTSTAMP:20260421T024906
CREATED:20231218T065248Z
LAST-MODIFIED:20231218T065258Z
UID:10006038-1703012400-1703019600@thecomedybureau.com
SUMMARY:IvanWho? Open Mic @ Ivanhoe (in LA)
DESCRIPTION:Starts 7PM PT\n5 min.\nSign-up in advance at slotted.co/l7flvf4j\nHosted by Leonard Smith Jr\, Ray Lau\, and Austin Kress
URL:https://thecomedybureau.com/show/ivanwho-open-mic-ivanhoe-in-la-2-2-2/2023-12-19/
LOCATION:Ivanhoe\, 2500 Riverside Drive\, Los Angeles\, CA\, 90039\, United States
CATEGORIES:Los Angeles Open Mics,Open Mic,Standard
GEO:34.1060606;-118.2569214
X-APPLE-STRUCTURED-LOCATION;VALUE=URI;X-ADDRESS=Ivanhoe 2500 Riverside Drive Los Angeles CA 90039 United States;X-APPLE-RADIUS=500;X-TITLE=2500 Riverside Drive:geo:-118.2569214,34.1060606
END:VEVENT
BEGIN:VEVENT
DTSTART;TZID=America/Los_Angeles:20231219T190000
DTEND;TZID=America/Los_Angeles:20231219T220000
DTSTAMP:20260421T024906
CREATED:20231218T070357Z
LAST-MODIFIED:20231218T070401Z
UID:10006041-1703012400-1703023200@thecomedybureau.com
SUMMARY:Mid City Comedy @ Gen Q Studios (in LA)
DESCRIPTION:Sign-up in advance at slotted.co/midcity\nStarts 7PM PT\nEnds 10PM PT\n$5 for 5 min.\n(have two waitlist spots for walk ins)\nfirst two people get a free drink\nHosted by William Pepper
URL:https://thecomedybureau.com/show/mid-city-comedy-gen-q-studios-in-la-2-2-2/
LOCATION:Gen Q Studios\, 4700 West Jefferson Boulevard\, Los Angeles\, CA\, 90016\, United States
CATEGORIES:Los Angeles Open Mics,Open Mic,Standard
GEO:34.0251917;-118.3475196
X-APPLE-STRUCTURED-LOCATION;VALUE=URI;X-ADDRESS=Gen Q Studios 4700 West Jefferson Boulevard Los Angeles CA 90016 United States;X-APPLE-RADIUS=500;X-TITLE=4700 West Jefferson Boulevard:geo:-118.3475196,34.0251917
END:VEVENT
BEGIN:VEVENT
DTSTART;TZID=America/Los_Angeles:20231220T180000
DTEND;TZID=America/Los_Angeles:20231220T200000
DTSTAMP:20260421T024906
CREATED:20231218T192456Z
LAST-MODIFIED:20241021T161615Z
UID:10008797-1703095200-1703102400@thecomedybureau.com
SUMMARY:Eastville Comedy Club (in NYC)
DESCRIPTION:Sign-up 5:30PM ET\nStarts 6PM ET\nEnds 7:45PM ET\n5 min.\n1 item min. to perform\nShow up\, go up
URL:https://thecomedybureau.com/show/eastville-comedy-club-in-nyc-51-2-2-2/2023-12-20/
LOCATION:Eastville Comedy Club\, 487 Atlantic Avenue\, Brooklyn\, NY\, 11217\, United States
CATEGORIES:New York,New York Open Mics,Open Mic,Standard
GEO:40.6859214;-73.9816178
X-APPLE-STRUCTURED-LOCATION;VALUE=URI;X-ADDRESS=Eastville Comedy Club 487 Atlantic Avenue Brooklyn NY 11217 United States;X-APPLE-RADIUS=500;X-TITLE=487 Atlantic Avenue:geo:-73.9816178,40.6859214
END:VEVENT
BEGIN:VEVENT
DTSTART;TZID=America/Los_Angeles:20231221T180000
DTEND;TZID=America/Los_Angeles:20231221T200000
DTSTAMP:20260421T024906
CREATED:20231218T192456Z
LAST-MODIFIED:20241021T161615Z
UID:10008798-1703181600-1703188800@thecomedybureau.com
SUMMARY:Eastville Comedy Club (in NYC)
DESCRIPTION:Sign-up 5:30PM ET\nStarts 6PM ET\nEnds 7:45PM ET\n5 min.\n1 item min. to perform\nShow up\, go up
URL:https://thecomedybureau.com/show/eastville-comedy-club-in-nyc-51-2-2-2/2023-12-21/
LOCATION:Eastville Comedy Club\, 487 Atlantic Avenue\, Brooklyn\, NY\, 11217\, United States
CATEGORIES:New York,New York Open Mics,Open Mic,Standard
GEO:40.6859214;-73.9816178
X-APPLE-STRUCTURED-LOCATION;VALUE=URI;X-ADDRESS=Eastville Comedy Club 487 Atlantic Avenue Brooklyn NY 11217 United States;X-APPLE-RADIUS=500;X-TITLE=487 Atlantic Avenue:geo:-73.9816178,40.6859214
END:VEVENT
BEGIN:VEVENT
DTSTART;TZID=America/Los_Angeles:20231221T190000
DTEND;TZID=America/Los_Angeles:20231221T210000
DTSTAMP:20260421T024906
CREATED:20231128T175646Z
LAST-MODIFIED:20260330T080003Z
UID:10007547-1703185200-1703192400@thecomedybureau.com
SUMMARY:Comedians on the Loose @ Black Cat LES (in NYC)
DESCRIPTION:Starts 7PM ET\nSign-up in advance at https://www.comediansontheloose.com/open-mics\n5-7 min.\n$5 to perform\nHosted by Sonja Savanovic
URL:https://thecomedybureau.com/show/comedians-on-the-loose-black-cat-les-in-nyc-54-2-2/2023-12-21/
LOCATION:Black Cat LES\, 172 Rivington Street\, New York\, NY\, 10002\, United States
CATEGORIES:New York,New York Open Mics,Open Mic,Standard
GEO:40.7191658;-73.9845007
X-APPLE-STRUCTURED-LOCATION;VALUE=URI;X-ADDRESS=Black Cat LES 172 Rivington Street New York NY 10002 United States;X-APPLE-RADIUS=500;X-TITLE=172 Rivington Street:geo:-73.9845007,40.7191658
END:VEVENT
BEGIN:VEVENT
DTSTART;TZID=America/Los_Angeles:20231223T190000
DTEND;TZID=America/Los_Angeles:20231223T210000
DTSTAMP:20260421T024906
CREATED:20231128T175646Z
LAST-MODIFIED:20260330T080003Z
UID:10007548-1703358000-1703365200@thecomedybureau.com
SUMMARY:Comedians on the Loose @ Black Cat LES (in NYC)
DESCRIPTION:Starts 7PM ET\nSign-up in advance at https://www.comediansontheloose.com/open-mics\n5-7 min.\n$5 to perform\nHosted by Sonja Savanovic
URL:https://thecomedybureau.com/show/comedians-on-the-loose-black-cat-les-in-nyc-54-2-2/2023-12-23/
LOCATION:Black Cat LES\, 172 Rivington Street\, New York\, NY\, 10002\, United States
CATEGORIES:New York,New York Open Mics,Open Mic,Standard
GEO:40.7191658;-73.9845007
X-APPLE-STRUCTURED-LOCATION;VALUE=URI;X-ADDRESS=Black Cat LES 172 Rivington Street New York NY 10002 United States;X-APPLE-RADIUS=500;X-TITLE=172 Rivington Street:geo:-73.9845007,40.7191658
END:VEVENT
BEGIN:VEVENT
DTSTART;TZID=America/Los_Angeles:20231225T180000
DTEND;TZID=America/Los_Angeles:20231225T200000
DTSTAMP:20260421T024906
CREATED:20231218T192456Z
LAST-MODIFIED:20241021T161615Z
UID:10008799-1703527200-1703534400@thecomedybureau.com
SUMMARY:Eastville Comedy Club (in NYC)
DESCRIPTION:Sign-up 5:30PM ET\nStarts 6PM ET\nEnds 7:45PM ET\n5 min.\n1 item min. to perform\nShow up\, go up
URL:https://thecomedybureau.com/show/eastville-comedy-club-in-nyc-51-2-2-2/2023-12-25/
LOCATION:Eastville Comedy Club\, 487 Atlantic Avenue\, Brooklyn\, NY\, 11217\, United States
CATEGORIES:New York,New York Open Mics,Open Mic,Standard
GEO:40.6859214;-73.9816178
X-APPLE-STRUCTURED-LOCATION;VALUE=URI;X-ADDRESS=Eastville Comedy Club 487 Atlantic Avenue Brooklyn NY 11217 United States;X-APPLE-RADIUS=500;X-TITLE=487 Atlantic Avenue:geo:-73.9816178,40.6859214
END:VEVENT
BEGIN:VEVENT
DTSTART;TZID=America/New_York:20231226T173000
DTEND;TZID=America/New_York:20231226T193000
DTSTAMP:20260421T024906
CREATED:20231218T191625Z
LAST-MODIFIED:20231218T191709Z
UID:10007413-1703611800-1703619000@thecomedybureau.com
SUMMARY:Greenwich Village Comedy Club (in NYC)
DESCRIPTION:Starts 5:30PM ET\n$5 for 7 min. and 1 drink\nHosted by Steve Arons
URL:https://thecomedybureau.com/show/greenwich-village-comedy-club-in-nyc-7-2-2-2/2023-12-26/
LOCATION:Greenwich Village Comedy Club\, 99 MacDougal Street\, New York\, NY\, 10012\, United States
CATEGORIES:New York Open Mics,Open Mic,Standard
GEO:40.7296283;-74.0010291
X-APPLE-STRUCTURED-LOCATION;VALUE=URI;X-ADDRESS=Greenwich Village Comedy Club 99 MacDougal Street New York NY 10012 United States;X-APPLE-RADIUS=500;X-TITLE=99 MacDougal Street:geo:-74.0010291,40.7296283
END:VEVENT
BEGIN:VEVENT
DTSTART;TZID=America/Los_Angeles:20231226T173000
DTEND;TZID=America/Los_Angeles:20231226T193000
DTSTAMP:20260421T024906
CREATED:20231127T081225Z
LAST-MODIFIED:20260329T000409Z
UID:10007334-1703611800-1703619000@thecomedybureau.com
SUMMARY:Hollywood Improv (in LA)
DESCRIPTION:Sign-up 5PM\nin Main Room\nSign-up cut off at 75 names in bucket\nStarts 5:30PM\n3 min.\nLottery
URL:https://thecomedybureau.com/show/hollywood-improv-comedy-lab-in-la-18-2-2/2023-12-26/
LOCATION:Hollywood Improv\, 8162 Melrose Avenue\, Los Angeles\, CA\, 90046\, United States
CATEGORIES:Los Angeles,Los Angeles Open Mics,Open Mic,Standard
GEO:34.0834621;-118.3674136
X-APPLE-STRUCTURED-LOCATION;VALUE=URI;X-ADDRESS=Hollywood Improv 8162 Melrose Avenue Los Angeles CA 90046 United States;X-APPLE-RADIUS=500;X-TITLE=8162 Melrose Avenue:geo:-118.3674136,34.0834621
END:VEVENT
BEGIN:VEVENT
DTSTART;TZID=America/Los_Angeles:20231226T180000
DTEND;TZID=America/Los_Angeles:20231226T200000
DTSTAMP:20260421T024906
CREATED:20231218T192456Z
LAST-MODIFIED:20241021T161615Z
UID:10007468-1703613600-1703620800@thecomedybureau.com
SUMMARY:Eastville Comedy Club (in NYC)
DESCRIPTION:Sign-up 5:30PM ET\nStarts 6PM ET\nEnds 7:45PM ET\n5 min.\n1 item min. to perform\nShow up\, go up
URL:https://thecomedybureau.com/show/eastville-comedy-club-in-nyc-51-2-2-2/2023-12-26/
LOCATION:Eastville Comedy Club\, 487 Atlantic Avenue\, Brooklyn\, NY\, 11217\, United States
CATEGORIES:New York,New York Open Mics,Open Mic,Standard
GEO:40.6859214;-73.9816178
X-APPLE-STRUCTURED-LOCATION;VALUE=URI;X-ADDRESS=Eastville Comedy Club 487 Atlantic Avenue Brooklyn NY 11217 United States;X-APPLE-RADIUS=500;X-TITLE=487 Atlantic Avenue:geo:-73.9816178,40.6859214
END:VEVENT
BEGIN:VEVENT
DTSTART;TZID=America/New_York:20231226T190000
DTEND;TZID=America/New_York:20231226T203000
DTSTAMP:20260421T024906
CREATED:20231128T175448Z
LAST-MODIFIED:20241021T162358Z
UID:10007540-1703617200-1703622600@thecomedybureau.com
SUMMARY:Caravan of Dreams (in NYC)
DESCRIPTION:Starts 7PM ET\n5 min.\n$3 + 1 item min. to perform
URL:https://thecomedybureau.com/show/2-120-2-2/2023-12-26/
LOCATION:Caravan of Dreams\, 405 East 6th Street\, New York\, NY\, 10009\, United States
CATEGORIES:New York Open Mics,Open Mic,Standard
GEO:40.7263961;-73.9856544
X-APPLE-STRUCTURED-LOCATION;VALUE=URI;X-ADDRESS=Caravan of Dreams 405 East 6th Street New York NY 10009 United States;X-APPLE-RADIUS=500;X-TITLE=405 East 6th Street:geo:-73.9856544,40.7263961
END:VEVENT
BEGIN:VEVENT
DTSTART;TZID=America/Los_Angeles:20231227T180000
DTEND;TZID=America/Los_Angeles:20231227T200000
DTSTAMP:20260421T024906
CREATED:20231218T192456Z
LAST-MODIFIED:20241021T161615Z
UID:10008800-1703700000-1703707200@thecomedybureau.com
SUMMARY:Eastville Comedy Club (in NYC)
DESCRIPTION:Sign-up 5:30PM ET\nStarts 6PM ET\nEnds 7:45PM ET\n5 min.\n1 item min. to perform\nShow up\, go up
URL:https://thecomedybureau.com/show/eastville-comedy-club-in-nyc-51-2-2-2/2023-12-27/
LOCATION:Eastville Comedy Club\, 487 Atlantic Avenue\, Brooklyn\, NY\, 11217\, United States
CATEGORIES:New York,New York Open Mics,Open Mic,Standard
GEO:40.6859214;-73.9816178
X-APPLE-STRUCTURED-LOCATION;VALUE=URI;X-ADDRESS=Eastville Comedy Club 487 Atlantic Avenue Brooklyn NY 11217 United States;X-APPLE-RADIUS=500;X-TITLE=487 Atlantic Avenue:geo:-73.9816178,40.6859214
END:VEVENT
END:VCALENDAR