BEGIN:VCALENDAR
VERSION:2.0
PRODID:-//The Comedy Bureau - ECPv6.15.18//NONSGML v1.0//EN
CALSCALE:GREGORIAN
METHOD:PUBLISH
X-WR-CALNAME:The Comedy Bureau
X-ORIGINAL-URL:https://thecomedybureau.com
X-WR-CALDESC:Events for The Comedy Bureau
REFRESH-INTERVAL;VALUE=DURATION:PT1H
X-Robots-Tag:noindex
X-PUBLISHED-TTL:PT1H
BEGIN:VTIMEZONE
TZID:America/Los_Angeles
BEGIN:DAYLIGHT
TZOFFSETFROM:-0800
TZOFFSETTO:-0700
TZNAME:PDT
DTSTART:20220313T100000
END:DAYLIGHT
BEGIN:STANDARD
TZOFFSETFROM:-0700
TZOFFSETTO:-0800
TZNAME:PST
DTSTART:20221106T090000
END:STANDARD
BEGIN:DAYLIGHT
TZOFFSETFROM:-0800
TZOFFSETTO:-0700
TZNAME:PDT
DTSTART:20230312T100000
END:DAYLIGHT
BEGIN:STANDARD
TZOFFSETFROM:-0700
TZOFFSETTO:-0800
TZNAME:PST
DTSTART:20231105T090000
END:STANDARD
BEGIN:DAYLIGHT
TZOFFSETFROM:-0800
TZOFFSETTO:-0700
TZNAME:PDT
DTSTART:20240310T100000
END:DAYLIGHT
BEGIN:STANDARD
TZOFFSETFROM:-0700
TZOFFSETTO:-0800
TZNAME:PST
DTSTART:20241103T090000
END:STANDARD
END:VTIMEZONE
BEGIN:VTIMEZONE
TZID:America/New_York
BEGIN:DAYLIGHT
TZOFFSETFROM:-0500
TZOFFSETTO:-0400
TZNAME:EDT
DTSTART:20220313T070000
END:DAYLIGHT
BEGIN:STANDARD
TZOFFSETFROM:-0400
TZOFFSETTO:-0500
TZNAME:EST
DTSTART:20221106T060000
END:STANDARD
BEGIN:DAYLIGHT
TZOFFSETFROM:-0500
TZOFFSETTO:-0400
TZNAME:EDT
DTSTART:20230312T070000
END:DAYLIGHT
BEGIN:STANDARD
TZOFFSETFROM:-0400
TZOFFSETTO:-0500
TZNAME:EST
DTSTART:20231105T060000
END:STANDARD
BEGIN:DAYLIGHT
TZOFFSETFROM:-0500
TZOFFSETTO:-0400
TZNAME:EDT
DTSTART:20240310T070000
END:DAYLIGHT
BEGIN:STANDARD
TZOFFSETFROM:-0400
TZOFFSETTO:-0500
TZNAME:EST
DTSTART:20241103T060000
END:STANDARD
END:VTIMEZONE
BEGIN:VEVENT
DTSTART;TZID=America/Los_Angeles:20231005T190000
DTEND;TZID=America/Los_Angeles:20231005T210000
DTSTAMP:20260420T231850
CREATED:20211211T210257Z
LAST-MODIFIED:20230926T201714Z
UID:10000098-1696532400-1696539600@thecomedybureau.com
SUMMARY:Comedians on the Loose @ Black Cat LES (in NYC)
DESCRIPTION:Starts 7PM ET\nSign-up in advance at https://www.comediansontheloose.com/open-mics\n5-7 min.\n$5 to perform\nHosted by Sonja Savanovic\nFree mic covers
URL:https://thecomedybureau.com/show/comedians-on-the-loose-black-cat-les-in-nyc-54/2023-10-05/
LOCATION:Black Cat LES\, 172 Rivington Street\, New York\, NY\, 10002\, United States
CATEGORIES:New York,New York Open Mics,Open Mic,Standard
GEO:40.7191658;-73.9845007
X-APPLE-STRUCTURED-LOCATION;VALUE=URI;X-ADDRESS=Black Cat LES 172 Rivington Street New York NY 10002 United States;X-APPLE-RADIUS=500;X-TITLE=172 Rivington Street:geo:-73.9845007,40.7191658
END:VEVENT
BEGIN:VEVENT
DTSTART;TZID=America/Los_Angeles:20231007T190000
DTEND;TZID=America/Los_Angeles:20231007T210000
DTSTAMP:20260420T231850
CREATED:20211211T210257Z
LAST-MODIFIED:20230926T201714Z
UID:10000099-1696705200-1696712400@thecomedybureau.com
SUMMARY:Comedians on the Loose @ Black Cat LES (in NYC)
DESCRIPTION:Starts 7PM ET\nSign-up in advance at https://www.comediansontheloose.com/open-mics\n5-7 min.\n$5 to perform\nHosted by Sonja Savanovic\nFree mic covers
URL:https://thecomedybureau.com/show/comedians-on-the-loose-black-cat-les-in-nyc-54/2023-10-07/
LOCATION:Black Cat LES\, 172 Rivington Street\, New York\, NY\, 10002\, United States
CATEGORIES:New York,New York Open Mics,Open Mic,Standard
GEO:40.7191658;-73.9845007
X-APPLE-STRUCTURED-LOCATION;VALUE=URI;X-ADDRESS=Black Cat LES 172 Rivington Street New York NY 10002 United States;X-APPLE-RADIUS=500;X-TITLE=172 Rivington Street:geo:-73.9845007,40.7191658
END:VEVENT
BEGIN:VEVENT
DTSTART;TZID=America/New_York:20231031T160000
DTEND;TZID=America/New_York:20231031T180000
DTSTAMP:20260420T231850
CREATED:20231029T100124Z
LAST-MODIFIED:20231029T100133Z
UID:10000016-1698768000-1698775200@thecomedybureau.com
SUMMARY:The Comedy Shop (in NYC)
DESCRIPTION:Starts 4PM ET\n5 min.\n1 item min. to perform
URL:https://thecomedybureau.com/show/the-comedy-shop-in-nyc-132-2/
LOCATION:the comedy shop\, 167 Bleecker Street\, New York\, NY\, 10012\, United States
CATEGORIES:New York Open Mics,Open Mic,Standard
GEO:40.7288609;-74.0001048
X-APPLE-STRUCTURED-LOCATION;VALUE=URI;X-ADDRESS=the comedy shop 167 Bleecker Street New York NY 10012 United States;X-APPLE-RADIUS=500;X-TITLE=167 Bleecker Street:geo:-74.0001048,40.7288609
END:VEVENT
BEGIN:VEVENT
DTSTART;TZID=America/New_York:20231031T163000
DTEND;TZID=America/New_York:20231031T183000
DTSTAMP:20260420T231850
CREATED:20231029T100216Z
LAST-MODIFIED:20231029T100217Z
UID:10000022-1698769800-1698777000@thecomedybureau.com
SUMMARY:The Grisly Pear (in NYC)
DESCRIPTION:Starts 4:30PM ET\nFirst come\, first served\n5 min.\n$5 to perform\, cash preferred\nShow up go up
URL:https://thecomedybureau.com/show/the-grisly-pear-in-nyc-83-2/
LOCATION:The Grisly Pear\, 107 MacDougal Street\, New York\, NY\, 10012\, United States
CATEGORIES:New York Open Mics,Open Mic,Standard
GEO:40.7299048;-74.0009312
X-APPLE-STRUCTURED-LOCATION;VALUE=URI;X-ADDRESS=The Grisly Pear 107 MacDougal Street New York NY 10012 United States;X-APPLE-RADIUS=500;X-TITLE=107 MacDougal Street:geo:-74.0009312,40.7299048
END:VEVENT
BEGIN:VEVENT
DTSTART;TZID=America/Los_Angeles:20231031T170000
DTEND;TZID=America/Los_Angeles:20231031T180000
DTSTAMP:20260420T231850
CREATED:20231028T235407Z
LAST-MODIFIED:20231028T235408Z
UID:10000028-1698771600-1698775200@thecomedybureau.com
SUMMARY:Hollywood Laugh Factory (in LA)
DESCRIPTION:Sign-up 4PM PT-5PM PT\nStarts 5PM PT\n10 lottery spots\n10 walk-up spots\n2 min.\nmust work clean
URL:https://thecomedybureau.com/show/hollywood-laugh-factory-4-2/
LOCATION:Hollywood Laugh Factory\, 8001 West Sunset Boulevard\, Los Angeles\, CA\, 90046\, United States
CATEGORIES:Los Angeles Open Mics,Open Mic,Standard
GEO:34.098159;-118.364516
X-APPLE-STRUCTURED-LOCATION;VALUE=URI;X-ADDRESS=Hollywood Laugh Factory 8001 West Sunset Boulevard Los Angeles CA 90046 United States;X-APPLE-RADIUS=500;X-TITLE=8001 West Sunset Boulevard:geo:-118.364516,34.098159
END:VEVENT
BEGIN:VEVENT
DTSTART;TZID=America/New_York:20231031T173000
DTEND;TZID=America/New_York:20231031T193000
DTSTAMP:20260420T231850
CREATED:20231029T100310Z
LAST-MODIFIED:20231029T100312Z
UID:10000040-1698773400-1698780600@thecomedybureau.com
SUMMARY:Greenwich Village Comedy Club (in NYC)
DESCRIPTION:Starts 5:30PM ET\n$5 for 7 min. and 1 drink\nHosted by Steve Arons
URL:https://thecomedybureau.com/show/greenwich-village-comedy-club-in-nyc-7-2/
LOCATION:Greenwich Village Comedy Club\, 99 MacDougal Street\, New York\, NY\, 10012\, United States
CATEGORIES:New York Open Mics,Open Mic,Standard
GEO:40.7296283;-74.0010291
X-APPLE-STRUCTURED-LOCATION;VALUE=URI;X-ADDRESS=Greenwich Village Comedy Club 99 MacDougal Street New York NY 10012 United States;X-APPLE-RADIUS=500;X-TITLE=99 MacDougal Street:geo:-74.0010291,40.7296283
END:VEVENT
BEGIN:VEVENT
DTSTART;TZID=America/Los_Angeles:20231031T173000
DTEND;TZID=America/Los_Angeles:20231031T193000
DTSTAMP:20260420T231850
CREATED:20231028T235445Z
LAST-MODIFIED:20231028T235446Z
UID:10000034-1698773400-1698780600@thecomedybureau.com
SUMMARY:Hollywood Improv Comedy Lab (in LA)
DESCRIPTION:Sign-up 5PM\nin Main Room\nSign-up cut off at 75 names in bucket\nStarts 5:30PM\n3 min.\nLottery
URL:https://thecomedybureau.com/show/hollywood-improv-comedy-lab-in-la-18-2/
LOCATION:Hollywood Improv Comedy Lab\, 8156 Melrose Avenue\, Los Angeles\, CA\, 90046\, United States
CATEGORIES:Los Angeles,Los Angeles Open Mics,Open Mic,Standard
GEO:34.0834649;-118.367257
X-APPLE-STRUCTURED-LOCATION;VALUE=URI;X-ADDRESS=Hollywood Improv Comedy Lab 8156 Melrose Avenue Los Angeles CA 90046 United States;X-APPLE-RADIUS=500;X-TITLE=8156 Melrose Avenue:geo:-118.367257,34.0834649
END:VEVENT
BEGIN:VEVENT
DTSTART;TZID=America/Los_Angeles:20231031T180000
DTEND;TZID=America/Los_Angeles:20231031T193000
DTSTAMP:20260420T231850
CREATED:20231029T100427Z
LAST-MODIFIED:20231029T100428Z
UID:10000046-1698775200-1698780600@thecomedybureau.com
SUMMARY:Girls\, Gays\, & Theys @ New Women Space (in NYC)
DESCRIPTION:For Women\, LGBTQIA+\nStarts 6PM ET\nSign-up in advance by DM’ing Tessa Fleming\n5 min.\n$3 to perform
URL:https://thecomedybureau.com/show/girls-gays-theys-new-women-space-in-nyc-22-2/
LOCATION:New Women Space\, 188 Woodpoint Road\, Brooklyn\, NY\, 11211\, United States
CATEGORIES:New York,New York Open Mics,Open Mic,Standard
GEO:40.7163641;-73.9422545
X-APPLE-STRUCTURED-LOCATION;VALUE=URI;X-ADDRESS=New Women Space 188 Woodpoint Road Brooklyn NY 11211 United States;X-APPLE-RADIUS=500;X-TITLE=188 Woodpoint Road:geo:-73.9422545,40.7163641
END:VEVENT
BEGIN:VEVENT
DTSTART;TZID=America/New_York:20231031T180000
DTEND;TZID=America/New_York:20231031T200000
DTSTAMP:20260420T231850
CREATED:20231029T101119Z
LAST-MODIFIED:20231029T103327Z
UID:10000064-1698775200-1698782400@thecomedybureau.com
SUMMARY:Phoenix Bar (in NYC)
DESCRIPTION:Starts 6PM ET\n5 min.\nShow up\, go up\n$3 to perform\nHosted by Abigail Nolan and Niko Pav
URL:https://thecomedybureau.com/show/phoenix-bar-in-nyc-2-2/
LOCATION:Phoenix Bar\, 447 East 13th Street\, New York\, NY\, 10009\, United States
CATEGORIES:New York Open Mics,Open Mic,Standard
GEO:40.7299146;-73.9810746
X-APPLE-STRUCTURED-LOCATION;VALUE=URI;X-ADDRESS=Phoenix Bar 447 East 13th Street New York NY 10009 United States;X-APPLE-RADIUS=500;X-TITLE=447 East 13th Street:geo:-73.9810746,40.7299146
END:VEVENT
BEGIN:VEVENT
DTSTART;TZID=America/Los_Angeles:20231031T180000
DTEND;TZID=America/Los_Angeles:20231031T200000
DTSTAMP:20260420T231850
CREATED:20231029T100541Z
LAST-MODIFIED:20231029T100542Z
UID:10000052-1698775200-1698782400@thecomedybureau.com
SUMMARY:Eastville Comedy Club (in NYC)
DESCRIPTION:Sign-up 5:30PM ET\nStarts 6PM ET\n5 min.\n1 item min. to perform\nShow up\, go up
URL:https://thecomedybureau.com/show/eastville-comedy-club-in-nyc-51-2/
LOCATION:Eastville Comedy Club\, 487 Atlantic Avenue\, Brooklyn\, NY\, 11217\, United States
CATEGORIES:New York,New York Open Mics,Open Mic,Standard
GEO:40.6859214;-73.9816178
X-APPLE-STRUCTURED-LOCATION;VALUE=URI;X-ADDRESS=Eastville Comedy Club 487 Atlantic Avenue Brooklyn NY 11217 United States;X-APPLE-RADIUS=500;X-TITLE=487 Atlantic Avenue:geo:-73.9816178,40.6859214
END:VEVENT
BEGIN:VEVENT
DTSTART;TZID=America/New_York:20231031T190000
DTEND;TZID=America/New_York:20231031T203000
DTSTAMP:20260420T231850
CREATED:20231029T104153Z
LAST-MODIFIED:20231029T104153Z
UID:10000077-1698778800-1698784200@thecomedybureau.com
SUMMARY:Caravan of Dreams (in NYC)
DESCRIPTION:Starts 7PM ET\n5 min.\n$3 + 1 item min. to perform
URL:https://thecomedybureau.com/show/2-120-2/
LOCATION:Caravan of Dreams\, 405 East 6th Street\, New York\, NY\, 10009\, United States
CATEGORIES:New York Open Mics,Open Mic,Standard
GEO:40.7263961;-73.9856544
X-APPLE-STRUCTURED-LOCATION;VALUE=URI;X-ADDRESS=Caravan of Dreams 405 East 6th Street New York NY 10009 United States;X-APPLE-RADIUS=500;X-TITLE=405 East 6th Street:geo:-73.9856544,40.7263961
END:VEVENT
BEGIN:VEVENT
DTSTART;TZID=America/Los_Angeles:20231031T190000
DTEND;TZID=America/Los_Angeles:20231031T203000
DTSTAMP:20260420T231850
CREATED:20231029T103404Z
LAST-MODIFIED:20231029T103405Z
UID:10000083-1698778800-1698784200@thecomedybureau.com
SUMMARY:Scorpion Records (in NYC)
DESCRIPTION:Starts 7PM ET\nHosted by Karli Marulli
URL:https://thecomedybureau.com/show/scorpion-records-in-nyc-2/
LOCATION:Scorpion Records\, 792 Onderdonk Avenue\, Queens\, NY\, 11385\, United States
CATEGORIES:New York Open Mics,Open Mic,Standard
GEO:40.7023993;-73.9048206
X-APPLE-STRUCTURED-LOCATION;VALUE=URI;X-ADDRESS=Scorpion Records 792 Onderdonk Avenue Queens NY 11385 United States;X-APPLE-RADIUS=500;X-TITLE=792 Onderdonk Avenue:geo:-73.9048206,40.7023993
END:VEVENT
BEGIN:VEVENT
DTSTART;TZID=America/Los_Angeles:20231031T190000
DTEND;TZID=America/Los_Angeles:20231031T210000
DTSTAMP:20260420T231850
CREATED:20231029T103609Z
LAST-MODIFIED:20231029T103610Z
UID:10000100-1698778800-1698786000@thecomedybureau.com
SUMMARY:Comedians on the Loose @ Black Cat LES (in NYC)
DESCRIPTION:Starts 7PM ET\nSign-up in advance at https://www.comediansontheloose.com/open-mics\n5-7 min.\n$5 to perform\nHosted by Sonja Savanovic\nFree mic covers
URL:https://thecomedybureau.com/show/comedians-on-the-loose-black-cat-les-in-nyc-54-2/2023-10-31/
LOCATION:Black Cat LES\, 172 Rivington Street\, New York\, NY\, 10002\, United States
CATEGORIES:New York,New York Open Mics,Open Mic,Standard
GEO:40.7191658;-73.9845007
X-APPLE-STRUCTURED-LOCATION;VALUE=URI;X-ADDRESS=Black Cat LES 172 Rivington Street New York NY 10002 United States;X-APPLE-RADIUS=500;X-TITLE=172 Rivington Street:geo:-73.9845007,40.7191658
END:VEVENT
BEGIN:VEVENT
DTSTART;TZID=America/Los_Angeles:20231031T190000
DTEND;TZID=America/Los_Angeles:20231031T210000
DTSTAMP:20260420T231850
CREATED:20231028T235613Z
LAST-MODIFIED:20231028T235615Z
UID:10000114-1698778800-1698786000@thecomedybureau.com
SUMMARY:IvanWho? Open Mic @ Ivanhoe (in LA)
DESCRIPTION:Starts 7PM PT\n5 min.\nSign-up in advance at slotted.co/l7flvf4j\nHosted by Leonard Smith Jr\, Ray Lau\, and Austin Kress
URL:https://thecomedybureau.com/show/ivanwho-open-mic-ivanhoe-in-la-2/2023-10-31/
LOCATION:Ivanhoe\, 2500 Riverside Drive\, Los Angeles\, CA\, 90039\, United States
CATEGORIES:Los Angeles Open Mics,Open Mic,Standard
GEO:34.1060606;-118.2569214
X-APPLE-STRUCTURED-LOCATION;VALUE=URI;X-ADDRESS=Ivanhoe 2500 Riverside Drive Los Angeles CA 90039 United States;X-APPLE-RADIUS=500;X-TITLE=2500 Riverside Drive:geo:-118.2569214,34.1060606
END:VEVENT
BEGIN:VEVENT
DTSTART;TZID=America/New_York:20231031T190000
DTEND;TZID=America/New_York:20231031T213000
DTSTAMP:20260420T231850
CREATED:20231029T103656Z
LAST-MODIFIED:20231029T103656Z
UID:10000122-1698778800-1698787800@thecomedybureau.com
SUMMARY:Jersey City Open Mic @ JSQ Lounge (near NYC)
DESCRIPTION:Starts 7PM ET\nEnds 9:30PM ET\nAll acts welcome (comedy\, music\, poetry)\nFirst come\, first served\nHosted by Devin Peacock
URL:https://thecomedybureau.com/show/jersey-city-open-mic-jsq-lounge-near-nyc-2/
LOCATION:JSQ Lounge\, 50 Journal Square Plaza\, Jersey City\, NJ\, 07306\, United States
CATEGORIES:New York,New York Open Mics,Open Mic,Standard
GEO:40.7319609;-74.0643208
X-APPLE-STRUCTURED-LOCATION;VALUE=URI;X-ADDRESS=JSQ Lounge 50 Journal Square Plaza Jersey City NJ 07306 United States;X-APPLE-RADIUS=500;X-TITLE=50 Journal Square Plaza:geo:-74.0643208,40.7319609
END:VEVENT
BEGIN:VEVENT
DTSTART;TZID=America/Los_Angeles:20231031T190000
DTEND;TZID=America/Los_Angeles:20231031T220000
DTSTAMP:20260420T231850
CREATED:20231028T235644Z
LAST-MODIFIED:20231028T235648Z
UID:10000128-1698778800-1698789600@thecomedybureau.com
SUMMARY:Mid City Comedy @ Gen Q Studios (in LA)
DESCRIPTION:Sign-up in advance at slotted.co/midcity\nStarts 7PM PT\nEnds 10PM PT\n$5 for 5 min.\n(have two waitlist spots for walk ins)\nfirst two people get a free drink\nHosted by William Pepper
URL:https://thecomedybureau.com/show/mid-city-comedy-gen-q-studios-in-la-2/
LOCATION:Gen Q Studios\, 4700 West Jefferson Boulevard\, Los Angeles\, CA\, 90016\, United States
CATEGORIES:Los Angeles Open Mics,Open Mic,Standard
GEO:34.0251917;-118.3475196
X-APPLE-STRUCTURED-LOCATION;VALUE=URI;X-ADDRESS=Gen Q Studios 4700 West Jefferson Boulevard Los Angeles CA 90016 United States;X-APPLE-RADIUS=500;X-TITLE=4700 West Jefferson Boulevard:geo:-118.3475196,34.0251917
END:VEVENT
BEGIN:VEVENT
DTSTART;TZID=America/Los_Angeles:20231031T191500
DTEND;TZID=America/Los_Angeles:20231031T210000
DTSTAMP:20260420T231850
CREATED:20231028T235715Z
LAST-MODIFIED:20231028T235731Z
UID:10000134-1698779700-1698786000@thecomedybureau.com
SUMMARY:Acapulco Goldie's @ The Mexican Village (in LA)
DESCRIPTION:Sign-up 6:45PM\nStarts 7:15PM\nBucket lottery\n5 min.\nHosted by Peter Skobel and Rick Carrera
URL:https://thecomedybureau.com/show/acapulco-goldies-the-mexican-village-in-la-2/
LOCATION:The Mexican Village\, 3668 Beverly Boulevard\, Los Angeles\, CA\, 90004\, United States
CATEGORIES:Los Angeles,Los Angeles Open Mics,Open Mic,Standard
GEO:34.0760724;-118.2884966
X-APPLE-STRUCTURED-LOCATION;VALUE=URI;X-ADDRESS=The Mexican Village 3668 Beverly Boulevard Los Angeles CA 90004 United States;X-APPLE-RADIUS=500;X-TITLE=3668 Beverly Boulevard:geo:-118.2884966,34.0760724
END:VEVENT
BEGIN:VEVENT
DTSTART;TZID=America/Los_Angeles:20231101T190000
DTEND;TZID=America/Los_Angeles:20231101T210000
DTSTAMP:20260420T231850
CREATED:20231028T235613Z
LAST-MODIFIED:20231028T235615Z
UID:10004432-1698865200-1698872400@thecomedybureau.com
SUMMARY:IvanWho? Open Mic @ Ivanhoe (in LA)
DESCRIPTION:Starts 7PM PT\n5 min.\nSign-up in advance at slotted.co/l7flvf4j\nHosted by Leonard Smith Jr\, Ray Lau\, and Austin Kress
URL:https://thecomedybureau.com/show/ivanwho-open-mic-ivanhoe-in-la-2/2023-11-01/
LOCATION:Ivanhoe\, 2500 Riverside Drive\, Los Angeles\, CA\, 90039\, United States
CATEGORIES:Los Angeles Open Mics,Open Mic,Standard
GEO:34.1060606;-118.2569214
X-APPLE-STRUCTURED-LOCATION;VALUE=URI;X-ADDRESS=Ivanhoe 2500 Riverside Drive Los Angeles CA 90039 United States;X-APPLE-RADIUS=500;X-TITLE=2500 Riverside Drive:geo:-118.2569214,34.1060606
END:VEVENT
BEGIN:VEVENT
DTSTART;TZID=America/Los_Angeles:20231102T190000
DTEND;TZID=America/Los_Angeles:20231102T210000
DTSTAMP:20260420T231850
CREATED:20231029T103609Z
LAST-MODIFIED:20231029T103610Z
UID:10004869-1698951600-1698958800@thecomedybureau.com
SUMMARY:Comedians on the Loose @ Black Cat LES (in NYC)
DESCRIPTION:Starts 7PM ET\nSign-up in advance at https://www.comediansontheloose.com/open-mics\n5-7 min.\n$5 to perform\nHosted by Sonja Savanovic\nFree mic covers
URL:https://thecomedybureau.com/show/comedians-on-the-loose-black-cat-les-in-nyc-54-2/2023-11-02/
LOCATION:Black Cat LES\, 172 Rivington Street\, New York\, NY\, 10002\, United States
CATEGORIES:New York,New York Open Mics,Open Mic,Standard
GEO:40.7191658;-73.9845007
X-APPLE-STRUCTURED-LOCATION;VALUE=URI;X-ADDRESS=Black Cat LES 172 Rivington Street New York NY 10002 United States;X-APPLE-RADIUS=500;X-TITLE=172 Rivington Street:geo:-73.9845007,40.7191658
END:VEVENT
BEGIN:VEVENT
DTSTART;TZID=America/Los_Angeles:20231104T190000
DTEND;TZID=America/Los_Angeles:20231104T210000
DTSTAMP:20260420T231850
CREATED:20231029T103609Z
LAST-MODIFIED:20231029T103610Z
UID:10004870-1699124400-1699131600@thecomedybureau.com
SUMMARY:Comedians on the Loose @ Black Cat LES (in NYC)
DESCRIPTION:Starts 7PM ET\nSign-up in advance at https://www.comediansontheloose.com/open-mics\n5-7 min.\n$5 to perform\nHosted by Sonja Savanovic\nFree mic covers
URL:https://thecomedybureau.com/show/comedians-on-the-loose-black-cat-les-in-nyc-54-2/2023-11-04/
LOCATION:Black Cat LES\, 172 Rivington Street\, New York\, NY\, 10002\, United States
CATEGORIES:New York,New York Open Mics,Open Mic,Standard
GEO:40.7191658;-73.9845007
X-APPLE-STRUCTURED-LOCATION;VALUE=URI;X-ADDRESS=Black Cat LES 172 Rivington Street New York NY 10002 United States;X-APPLE-RADIUS=500;X-TITLE=172 Rivington Street:geo:-73.9845007,40.7191658
END:VEVENT
BEGIN:VEVENT
DTSTART;TZID=America/New_York:20231121T180000
DTEND;TZID=America/New_York:20231121T200000
DTSTAMP:20260420T231850
CREATED:20231029T100811Z
LAST-MODIFIED:20231029T100812Z
UID:10000058-1700589600-1700596800@thecomedybureau.com
SUMMARY:The Comedy Shop (in NYC)
DESCRIPTION:Starts 6PM ET\n5 min.\n1 item min.
URL:https://thecomedybureau.com/show/the-comedy-shop-in-nyc-128-2/2023-11-21/
LOCATION:the comedy shop\, 167 Bleecker Street\, New York\, NY\, 10012\, United States
CATEGORIES:New York,New York Open Mics,Open Mic,Standard
GEO:40.7288609;-74.0001048
X-APPLE-STRUCTURED-LOCATION;VALUE=URI;X-ADDRESS=the comedy shop 167 Bleecker Street New York NY 10012 United States;X-APPLE-RADIUS=500;X-TITLE=167 Bleecker Street:geo:-74.0001048,40.7288609
END:VEVENT
BEGIN:VEVENT
DTSTART;TZID=America/New_York:20231128T160000
DTEND;TZID=America/New_York:20231128T180000
DTSTAMP:20260420T231850
CREATED:20231128T173954Z
LAST-MODIFIED:20231128T173958Z
UID:10004845-1701187200-1701194400@thecomedybureau.com
SUMMARY:The Comedy Shop (in NYC)
DESCRIPTION:Starts 4PM ET\n5 min.\n1 item min. to perform
URL:https://thecomedybureau.com/show/the-comedy-shop-in-nyc-132-2-2/2023-11-28/
LOCATION:the comedy shop\, 167 Bleecker Street\, New York\, NY\, 10012\, United States
CATEGORIES:New York Open Mics,Open Mic,Standard
GEO:40.7288609;-74.0001048
X-APPLE-STRUCTURED-LOCATION;VALUE=URI;X-ADDRESS=the comedy shop 167 Bleecker Street New York NY 10012 United States;X-APPLE-RADIUS=500;X-TITLE=167 Bleecker Street:geo:-74.0001048,40.7288609
END:VEVENT
BEGIN:VEVENT
DTSTART;TZID=America/Los_Angeles:20231128T170000
DTEND;TZID=America/Los_Angeles:20231128T180000
DTSTAMP:20260420T231850
CREATED:20231127T081000Z
LAST-MODIFIED:20231127T081046Z
UID:10004423-1701190800-1701194400@thecomedybureau.com
SUMMARY:Hollywood Laugh Factory (in LA)
DESCRIPTION:Sign-up 4PM PT-5PM PT\nStarts 5PM PT\n10 lottery spots\n10 walk-up spots\n2 min.\nmust work clean
URL:https://thecomedybureau.com/show/hollywood-laugh-factory-4-2-2/2023-11-28/
LOCATION:Hollywood Laugh Factory\, 8001 West Sunset Boulevard\, Los Angeles\, CA\, 90046\, United States
CATEGORIES:Los Angeles Open Mics,Open Mic,Standard
GEO:34.098159;-118.364516
X-APPLE-STRUCTURED-LOCATION;VALUE=URI;X-ADDRESS=Hollywood Laugh Factory 8001 West Sunset Boulevard Los Angeles CA 90046 United States;X-APPLE-RADIUS=500;X-TITLE=8001 West Sunset Boulevard:geo:-118.364516,34.098159
END:VEVENT
BEGIN:VEVENT
DTSTART;TZID=America/New_York:20231128T173000
DTEND;TZID=America/New_York:20231128T193000
DTSTAMP:20260420T231850
CREATED:20231128T174344Z
LAST-MODIFIED:20231128T174350Z
UID:10004851-1701192600-1701199800@thecomedybureau.com
SUMMARY:Greenwich Village Comedy Club (in NYC)
DESCRIPTION:Starts 5:30PM ET\n$5 for 7 min. and 1 drink\nHosted by Steve Arons
URL:https://thecomedybureau.com/show/greenwich-village-comedy-club-in-nyc-7-2-2/2023-11-28/
LOCATION:Greenwich Village Comedy Club\, 99 MacDougal Street\, New York\, NY\, 10012\, United States
CATEGORIES:New York Open Mics,Open Mic,Standard
GEO:40.7296283;-74.0010291
X-APPLE-STRUCTURED-LOCATION;VALUE=URI;X-ADDRESS=Greenwich Village Comedy Club 99 MacDougal Street New York NY 10012 United States;X-APPLE-RADIUS=500;X-TITLE=99 MacDougal Street:geo:-74.0010291,40.7296283
END:VEVENT
BEGIN:VEVENT
DTSTART;TZID=America/Los_Angeles:20231128T180000
DTEND;TZID=America/Los_Angeles:20231128T193000
DTSTAMP:20260420T231850
CREATED:20231128T174449Z
LAST-MODIFIED:20231128T174457Z
UID:10004854-1701194400-1701199800@thecomedybureau.com
SUMMARY:Girls\, Gays\, & Theys @ New Women Space (in NYC)
DESCRIPTION:For Women\, LGBTQIA+\nStarts 6PM ET\nSign-up in advance by DM’ing Tessa Fleming\n5 min.\n$3 to perform
URL:https://thecomedybureau.com/show/girls-gays-theys-new-women-space-in-nyc-22-2-2/2023-11-28/
LOCATION:New Women Space\, 188 Woodpoint Road\, Brooklyn\, NY\, 11211\, United States
CATEGORIES:New York,New York Open Mics,Open Mic,Standard
GEO:40.7163641;-73.9422545
X-APPLE-STRUCTURED-LOCATION;VALUE=URI;X-ADDRESS=New Women Space 188 Woodpoint Road Brooklyn NY 11211 United States;X-APPLE-RADIUS=500;X-TITLE=188 Woodpoint Road:geo:-73.9422545,40.7163641
END:VEVENT
BEGIN:VEVENT
DTSTART;TZID=America/New_York:20231128T180000
DTEND;TZID=America/New_York:20231128T200000
DTSTAMP:20260420T231850
CREATED:20231128T174917Z
LAST-MODIFIED:20260330T075704Z
UID:10004860-1701194400-1701201600@thecomedybureau.com
SUMMARY:Phoenix Bar (in NYC)
DESCRIPTION:Starts 6:30PM ET\n5 min.\nShow up\, go up\nFree
URL:https://thecomedybureau.com/show/phoenix-bar-in-nyc-2-2-2/
LOCATION:Phoenix Bar\, 447 East 13th Street\, New York\, NY\, 10009\, United States
CATEGORIES:New York Open Mics,Open Mic,Standard
GEO:40.7299146;-73.9810746
X-APPLE-STRUCTURED-LOCATION;VALUE=URI;X-ADDRESS=Phoenix Bar 447 East 13th Street New York NY 10009 United States;X-APPLE-RADIUS=500;X-TITLE=447 East 13th Street:geo:-73.9810746,40.7299146
END:VEVENT
BEGIN:VEVENT
DTSTART;TZID=America/Los_Angeles:20231128T180000
DTEND;TZID=America/Los_Angeles:20231128T200000
DTSTAMP:20260420T231850
CREATED:20231128T174629Z
LAST-MODIFIED:20231128T174634Z
UID:10004857-1701194400-1701201600@thecomedybureau.com
SUMMARY:Eastville Comedy Club (in NYC)
DESCRIPTION:Sign-up 5:30PM ET\nStarts 6PM ET\n5 min.\n1 item min. to perform\nShow up\, go up
URL:https://thecomedybureau.com/show/eastville-comedy-club-in-nyc-51-2-2/2023-11-28/
LOCATION:Eastville Comedy Club\, 487 Atlantic Avenue\, Brooklyn\, NY\, 11217\, United States
CATEGORIES:New York,New York Open Mics,Open Mic,Standard
GEO:40.6859214;-73.9816178
X-APPLE-STRUCTURED-LOCATION;VALUE=URI;X-ADDRESS=Eastville Comedy Club 487 Atlantic Avenue Brooklyn NY 11217 United States;X-APPLE-RADIUS=500;X-TITLE=487 Atlantic Avenue:geo:-73.9816178,40.6859214
END:VEVENT
BEGIN:VEVENT
DTSTART;TZID=America/Los_Angeles:20231128T180000
DTEND;TZID=America/Los_Angeles:20231128T210000
DTSTAMP:20260420T231850
CREATED:20231028T235539Z
LAST-MODIFIED:20231127T081540Z
UID:10006032-1701194400-1701205200@thecomedybureau.com
SUMMARY:(6PM-8PM Hourly) Witty Titties Women’s Only Open Mic (in LA)
DESCRIPTION:This is a women’s only open mic. All are welcome to watch and support\, but only those who identify as a woman or as nonbinary get stage time. Good vibes only! 🙂 \nStarts 6PM PT and 7PM PT every Tuesday. Must show up at the top of their slotted hour or forfeit their time and money.\nSign-up in advance at https://slotted.co/wittytitties\nCost: $5 for 5 minutes. Must Venmo (@thegenesissol) ahead of time to confirm slot.\nDrinks are available for purchase \nHosted by Genesis Sol
URL:https://thecomedybureau.com/show/6pm-7pm-hourly-witty-titties-womens-only-open-mic-in-la-20-2/2023-11-28/
LOCATION:The Nitecap\, 2220 West Burbank Boulevard\, Burbank\, CA\, 91506\, United States
CATEGORIES:Los Angeles,Los Angeles Open Mics,Open Mic,Standard
GEO:34.1792488;-118.3355449
X-APPLE-STRUCTURED-LOCATION;VALUE=URI;X-ADDRESS=The Nitecap 2220 West Burbank Boulevard Burbank CA 91506 United States;X-APPLE-RADIUS=500;X-TITLE=2220 West Burbank Boulevard:geo:-118.3355449,34.1792488
END:VEVENT
BEGIN:VEVENT
DTSTART;TZID=America/New_York:20231128T190000
DTEND;TZID=America/New_York:20231128T203000
DTSTAMP:20260420T231850
CREATED:20231128T175448Z
LAST-MODIFIED:20241021T162358Z
UID:10004909-1701198000-1701203400@thecomedybureau.com
SUMMARY:Caravan of Dreams (in NYC)
DESCRIPTION:Starts 7PM ET\n5 min.\n$3 + 1 item min. to perform
URL:https://thecomedybureau.com/show/2-120-2-2/2023-11-28/
LOCATION:Caravan of Dreams\, 405 East 6th Street\, New York\, NY\, 10009\, United States
CATEGORIES:New York Open Mics,Open Mic,Standard
GEO:40.7263961;-73.9856544
X-APPLE-STRUCTURED-LOCATION;VALUE=URI;X-ADDRESS=Caravan of Dreams 405 East 6th Street New York NY 10009 United States;X-APPLE-RADIUS=500;X-TITLE=405 East 6th Street:geo:-73.9856544,40.7263961
END:VEVENT
BEGIN:VEVENT
DTSTART;TZID=America/Los_Angeles:20231128T190000
DTEND;TZID=America/Los_Angeles:20231128T210000
DTSTAMP:20260420T231850
CREATED:20231128T175646Z
LAST-MODIFIED:20260330T080003Z
UID:10004871-1701198000-1701205200@thecomedybureau.com
SUMMARY:Comedians on the Loose @ Black Cat LES (in NYC)
DESCRIPTION:Starts 7PM ET\nSign-up in advance at https://www.comediansontheloose.com/open-mics\n5-7 min.\n$5 to perform\nHosted by Sonja Savanovic
URL:https://thecomedybureau.com/show/comedians-on-the-loose-black-cat-les-in-nyc-54-2-2/2023-11-28/
LOCATION:Black Cat LES\, 172 Rivington Street\, New York\, NY\, 10002\, United States
CATEGORIES:New York,New York Open Mics,Open Mic,Standard
GEO:40.7191658;-73.9845007
X-APPLE-STRUCTURED-LOCATION;VALUE=URI;X-ADDRESS=Black Cat LES 172 Rivington Street New York NY 10002 United States;X-APPLE-RADIUS=500;X-TITLE=172 Rivington Street:geo:-73.9845007,40.7191658
END:VEVENT
END:VCALENDAR