BEGIN:VCALENDAR
VERSION:2.0
PRODID:-//The Comedy Bureau - ECPv6.15.18//NONSGML v1.0//EN
CALSCALE:GREGORIAN
METHOD:PUBLISH
X-WR-CALNAME:The Comedy Bureau
X-ORIGINAL-URL:https://thecomedybureau.com
X-WR-CALDESC:Events for The Comedy Bureau
REFRESH-INTERVAL;VALUE=DURATION:PT1H
X-Robots-Tag:noindex
X-PUBLISHED-TTL:PT1H
BEGIN:VTIMEZONE
TZID:America/Los_Angeles
BEGIN:DAYLIGHT
TZOFFSETFROM:-0800
TZOFFSETTO:-0700
TZNAME:PDT
DTSTART:20250309T100000
END:DAYLIGHT
BEGIN:STANDARD
TZOFFSETFROM:-0700
TZOFFSETTO:-0800
TZNAME:PST
DTSTART:20251102T090000
END:STANDARD
BEGIN:DAYLIGHT
TZOFFSETFROM:-0800
TZOFFSETTO:-0700
TZNAME:PDT
DTSTART:20260308T100000
END:DAYLIGHT
BEGIN:STANDARD
TZOFFSETFROM:-0700
TZOFFSETTO:-0800
TZNAME:PST
DTSTART:20261101T090000
END:STANDARD
BEGIN:DAYLIGHT
TZOFFSETFROM:-0800
TZOFFSETTO:-0700
TZNAME:PDT
DTSTART:20270314T100000
END:DAYLIGHT
BEGIN:STANDARD
TZOFFSETFROM:-0700
TZOFFSETTO:-0800
TZNAME:PST
DTSTART:20271107T090000
END:STANDARD
END:VTIMEZONE
BEGIN:VTIMEZONE
TZID:America/New_York
BEGIN:DAYLIGHT
TZOFFSETFROM:-0500
TZOFFSETTO:-0400
TZNAME:EDT
DTSTART:20250309T070000
END:DAYLIGHT
BEGIN:STANDARD
TZOFFSETFROM:-0400
TZOFFSETTO:-0500
TZNAME:EST
DTSTART:20251102T060000
END:STANDARD
BEGIN:DAYLIGHT
TZOFFSETFROM:-0500
TZOFFSETTO:-0400
TZNAME:EDT
DTSTART:20260308T070000
END:DAYLIGHT
BEGIN:STANDARD
TZOFFSETFROM:-0400
TZOFFSETTO:-0500
TZNAME:EST
DTSTART:20261101T060000
END:STANDARD
BEGIN:DAYLIGHT
TZOFFSETFROM:-0500
TZOFFSETTO:-0400
TZNAME:EDT
DTSTART:20270314T070000
END:DAYLIGHT
BEGIN:STANDARD
TZOFFSETFROM:-0400
TZOFFSETTO:-0500
TZNAME:EST
DTSTART:20271107T060000
END:STANDARD
END:VTIMEZONE
BEGIN:VEVENT
DTSTART;TZID=America/Los_Angeles:20260420T193000
DTEND;TZID=America/Los_Angeles:20260420T213000
DTSTAMP:20260420T105939
CREATED:20260330T075954Z
LAST-MODIFIED:20260330T080045Z
UID:10093909-1776713400-1776720600@thecomedybureau.com
SUMMARY:Comedians on the Loose @ Black Cat LES (in NYC)
DESCRIPTION:Starts 7:30PM ET\nSign-up in advance at https://www.comediansontheloose.com/open-mics\n5-7 min.\n$5 to perform\nHosted by Sonja Savanovic\nFree mic covers
URL:https://thecomedybureau.com/show/comedians-on-the-loose-black-cat-les-in-nyc-60/2026-04-20/
LOCATION:Black Cat LES\, 172 Rivington Street\, New York\, NY\, 10002\, United States
CATEGORIES:New York,New York Open Mics,Open Mic,Standard
GEO:40.7191658;-73.9845007
X-APPLE-STRUCTURED-LOCATION;VALUE=URI;X-ADDRESS=Black Cat LES 172 Rivington Street New York NY 10002 United States;X-APPLE-RADIUS=500;X-TITLE=172 Rivington Street:geo:-73.9845007,40.7191658
END:VEVENT
BEGIN:VEVENT
DTSTART;TZID=America/Los_Angeles:20260421T173000
DTEND;TZID=America/Los_Angeles:20260421T193000
DTSTAMP:20260420T105939
CREATED:20231127T081225Z
LAST-MODIFIED:20260329T000409Z
UID:10091780-1776792600-1776799800@thecomedybureau.com
SUMMARY:Hollywood Improv (in LA)
DESCRIPTION:Sign-up 5PM\nin Main Room\nSign-up cut off at 75 names in bucket\nStarts 5:30PM\n3 min.\nLottery
URL:https://thecomedybureau.com/show/hollywood-improv-comedy-lab-in-la-18-2-2/2026-04-21/
LOCATION:Hollywood Improv\, 8162 Melrose Avenue\, Los Angeles\, CA\, 90046\, United States
CATEGORIES:Los Angeles,Los Angeles Open Mics,Open Mic,Standard
GEO:34.0834621;-118.3674136
X-APPLE-STRUCTURED-LOCATION;VALUE=URI;X-ADDRESS=Hollywood Improv 8162 Melrose Avenue Los Angeles CA 90046 United States;X-APPLE-RADIUS=500;X-TITLE=8162 Melrose Avenue:geo:-118.3674136,34.0834621
END:VEVENT
BEGIN:VEVENT
DTSTART;TZID=America/Los_Angeles:20260421T193000
DTEND;TZID=America/Los_Angeles:20260421T213000
DTSTAMP:20260420T105939
CREATED:20260330T075954Z
LAST-MODIFIED:20260330T080045Z
UID:10093910-1776799800-1776807000@thecomedybureau.com
SUMMARY:Comedians on the Loose @ Black Cat LES (in NYC)
DESCRIPTION:Starts 7:30PM ET\nSign-up in advance at https://www.comediansontheloose.com/open-mics\n5-7 min.\n$5 to perform\nHosted by Sonja Savanovic\nFree mic covers
URL:https://thecomedybureau.com/show/comedians-on-the-loose-black-cat-les-in-nyc-60/2026-04-21/
LOCATION:Black Cat LES\, 172 Rivington Street\, New York\, NY\, 10002\, United States
CATEGORIES:New York,New York Open Mics,Open Mic,Standard
GEO:40.7191658;-73.9845007
X-APPLE-STRUCTURED-LOCATION;VALUE=URI;X-ADDRESS=Black Cat LES 172 Rivington Street New York NY 10002 United States;X-APPLE-RADIUS=500;X-TITLE=172 Rivington Street:geo:-73.9845007,40.7191658
END:VEVENT
BEGIN:VEVENT
DTSTART;TZID=America/Los_Angeles:20260423T190000
DTEND;TZID=America/Los_Angeles:20260423T210000
DTSTAMP:20260420T105939
CREATED:20231128T175646Z
LAST-MODIFIED:20260330T080003Z
UID:10093589-1776970800-1776978000@thecomedybureau.com
SUMMARY:Comedians on the Loose @ Black Cat LES (in NYC)
DESCRIPTION:Starts 7PM ET\nSign-up in advance at https://www.comediansontheloose.com/open-mics\n5-7 min.\n$5 to perform\nHosted by Sonja Savanovic
URL:https://thecomedybureau.com/show/comedians-on-the-loose-black-cat-les-in-nyc-54-2-2/2026-04-23/
LOCATION:Black Cat LES\, 172 Rivington Street\, New York\, NY\, 10002\, United States
CATEGORIES:New York,New York Open Mics,Open Mic,Standard
GEO:40.7191658;-73.9845007
X-APPLE-STRUCTURED-LOCATION;VALUE=URI;X-ADDRESS=Black Cat LES 172 Rivington Street New York NY 10002 United States;X-APPLE-RADIUS=500;X-TITLE=172 Rivington Street:geo:-73.9845007,40.7191658
END:VEVENT
BEGIN:VEVENT
DTSTART;TZID=America/New_York:20260424T233000
DTEND;TZID=America/New_York:20260425T010000
DTSTAMP:20260420T105939
CREATED:20260329T185321Z
LAST-MODIFIED:20260329T185415Z
UID:10092374-1777073400-1777078800@thecomedybureau.com
SUMMARY:Eastville Comedy Club (in NYC)
DESCRIPTION:Starts 11:30PM ET\n5 min.\n1 item min. to perform\nShow up\, go up
URL:https://thecomedybureau.com/show/eastville-comedy-club-in-nyc-51-2-2-3-2-2/2026-04-24/
LOCATION:Eastville Comedy Club\, 487 Atlantic Avenue\, Brooklyn\, NY\, 11217\, United States
CATEGORIES:New York,New York Open Mics,Open Mic,Standard
GEO:40.6859214;-73.9816178
X-APPLE-STRUCTURED-LOCATION;VALUE=URI;X-ADDRESS=Eastville Comedy Club 487 Atlantic Avenue Brooklyn NY 11217 United States;X-APPLE-RADIUS=500;X-TITLE=487 Atlantic Avenue:geo:-73.9816178,40.6859214
END:VEVENT
BEGIN:VEVENT
DTSTART;TZID=America/Los_Angeles:20260425T190000
DTEND;TZID=America/Los_Angeles:20260425T210000
DTSTAMP:20260420T105939
CREATED:20231128T175646Z
LAST-MODIFIED:20260330T080003Z
UID:10093590-1777143600-1777150800@thecomedybureau.com
SUMMARY:Comedians on the Loose @ Black Cat LES (in NYC)
DESCRIPTION:Starts 7PM ET\nSign-up in advance at https://www.comediansontheloose.com/open-mics\n5-7 min.\n$5 to perform\nHosted by Sonja Savanovic
URL:https://thecomedybureau.com/show/comedians-on-the-loose-black-cat-les-in-nyc-54-2-2/2026-04-25/
LOCATION:Black Cat LES\, 172 Rivington Street\, New York\, NY\, 10002\, United States
CATEGORIES:New York,New York Open Mics,Open Mic,Standard
GEO:40.7191658;-73.9845007
X-APPLE-STRUCTURED-LOCATION;VALUE=URI;X-ADDRESS=Black Cat LES 172 Rivington Street New York NY 10002 United States;X-APPLE-RADIUS=500;X-TITLE=172 Rivington Street:geo:-73.9845007,40.7191658
END:VEVENT
BEGIN:VEVENT
DTSTART;TZID=America/New_York:20260425T233000
DTEND;TZID=America/New_York:20260426T010000
DTSTAMP:20260420T105939
CREATED:20260329T185321Z
LAST-MODIFIED:20260329T185415Z
UID:10092375-1777159800-1777165200@thecomedybureau.com
SUMMARY:Eastville Comedy Club (in NYC)
DESCRIPTION:Starts 11:30PM ET\n5 min.\n1 item min. to perform\nShow up\, go up
URL:https://thecomedybureau.com/show/eastville-comedy-club-in-nyc-51-2-2-3-2-2/2026-04-25/
LOCATION:Eastville Comedy Club\, 487 Atlantic Avenue\, Brooklyn\, NY\, 11217\, United States
CATEGORIES:New York,New York Open Mics,Open Mic,Standard
GEO:40.6859214;-73.9816178
X-APPLE-STRUCTURED-LOCATION;VALUE=URI;X-ADDRESS=Eastville Comedy Club 487 Atlantic Avenue Brooklyn NY 11217 United States;X-APPLE-RADIUS=500;X-TITLE=487 Atlantic Avenue:geo:-73.9816178,40.6859214
END:VEVENT
BEGIN:VEVENT
DTSTART;TZID=America/Los_Angeles:20260427T193000
DTEND;TZID=America/Los_Angeles:20260427T213000
DTSTAMP:20260420T105939
CREATED:20260330T075954Z
LAST-MODIFIED:20260330T080045Z
UID:10093911-1777318200-1777325400@thecomedybureau.com
SUMMARY:Comedians on the Loose @ Black Cat LES (in NYC)
DESCRIPTION:Starts 7:30PM ET\nSign-up in advance at https://www.comediansontheloose.com/open-mics\n5-7 min.\n$5 to perform\nHosted by Sonja Savanovic\nFree mic covers
URL:https://thecomedybureau.com/show/comedians-on-the-loose-black-cat-les-in-nyc-60/2026-04-27/
LOCATION:Black Cat LES\, 172 Rivington Street\, New York\, NY\, 10002\, United States
CATEGORIES:New York,New York Open Mics,Open Mic,Standard
GEO:40.7191658;-73.9845007
X-APPLE-STRUCTURED-LOCATION;VALUE=URI;X-ADDRESS=Black Cat LES 172 Rivington Street New York NY 10002 United States;X-APPLE-RADIUS=500;X-TITLE=172 Rivington Street:geo:-73.9845007,40.7191658
END:VEVENT
BEGIN:VEVENT
DTSTART;TZID=America/Los_Angeles:20260428T173000
DTEND;TZID=America/Los_Angeles:20260428T193000
DTSTAMP:20260420T105939
CREATED:20231127T081225Z
LAST-MODIFIED:20260329T000409Z
UID:10091781-1777397400-1777404600@thecomedybureau.com
SUMMARY:Hollywood Improv (in LA)
DESCRIPTION:Sign-up 5PM\nin Main Room\nSign-up cut off at 75 names in bucket\nStarts 5:30PM\n3 min.\nLottery
URL:https://thecomedybureau.com/show/hollywood-improv-comedy-lab-in-la-18-2-2/2026-04-28/
LOCATION:Hollywood Improv\, 8162 Melrose Avenue\, Los Angeles\, CA\, 90046\, United States
CATEGORIES:Los Angeles,Los Angeles Open Mics,Open Mic,Standard
GEO:34.0834621;-118.3674136
X-APPLE-STRUCTURED-LOCATION;VALUE=URI;X-ADDRESS=Hollywood Improv 8162 Melrose Avenue Los Angeles CA 90046 United States;X-APPLE-RADIUS=500;X-TITLE=8162 Melrose Avenue:geo:-118.3674136,34.0834621
END:VEVENT
BEGIN:VEVENT
DTSTART;TZID=America/Los_Angeles:20260428T193000
DTEND;TZID=America/Los_Angeles:20260428T213000
DTSTAMP:20260420T105939
CREATED:20260330T075954Z
LAST-MODIFIED:20260330T080045Z
UID:10093912-1777404600-1777411800@thecomedybureau.com
SUMMARY:Comedians on the Loose @ Black Cat LES (in NYC)
DESCRIPTION:Starts 7:30PM ET\nSign-up in advance at https://www.comediansontheloose.com/open-mics\n5-7 min.\n$5 to perform\nHosted by Sonja Savanovic\nFree mic covers
URL:https://thecomedybureau.com/show/comedians-on-the-loose-black-cat-les-in-nyc-60/2026-04-28/
LOCATION:Black Cat LES\, 172 Rivington Street\, New York\, NY\, 10002\, United States
CATEGORIES:New York,New York Open Mics,Open Mic,Standard
GEO:40.7191658;-73.9845007
X-APPLE-STRUCTURED-LOCATION;VALUE=URI;X-ADDRESS=Black Cat LES 172 Rivington Street New York NY 10002 United States;X-APPLE-RADIUS=500;X-TITLE=172 Rivington Street:geo:-73.9845007,40.7191658
END:VEVENT
BEGIN:VEVENT
DTSTART;TZID=America/Los_Angeles:20260430T190000
DTEND;TZID=America/Los_Angeles:20260430T210000
DTSTAMP:20260420T105939
CREATED:20231128T175646Z
LAST-MODIFIED:20260330T080003Z
UID:10093591-1777575600-1777582800@thecomedybureau.com
SUMMARY:Comedians on the Loose @ Black Cat LES (in NYC)
DESCRIPTION:Starts 7PM ET\nSign-up in advance at https://www.comediansontheloose.com/open-mics\n5-7 min.\n$5 to perform\nHosted by Sonja Savanovic
URL:https://thecomedybureau.com/show/comedians-on-the-loose-black-cat-les-in-nyc-54-2-2/2026-04-30/
LOCATION:Black Cat LES\, 172 Rivington Street\, New York\, NY\, 10002\, United States
CATEGORIES:New York,New York Open Mics,Open Mic,Standard
GEO:40.7191658;-73.9845007
X-APPLE-STRUCTURED-LOCATION;VALUE=URI;X-ADDRESS=Black Cat LES 172 Rivington Street New York NY 10002 United States;X-APPLE-RADIUS=500;X-TITLE=172 Rivington Street:geo:-73.9845007,40.7191658
END:VEVENT
BEGIN:VEVENT
DTSTART;TZID=America/New_York:20260501T233000
DTEND;TZID=America/New_York:20260502T010000
DTSTAMP:20260420T105939
CREATED:20260329T185321Z
LAST-MODIFIED:20260329T185415Z
UID:10092376-1777678200-1777683600@thecomedybureau.com
SUMMARY:Eastville Comedy Club (in NYC)
DESCRIPTION:Starts 11:30PM ET\n5 min.\n1 item min. to perform\nShow up\, go up
URL:https://thecomedybureau.com/show/eastville-comedy-club-in-nyc-51-2-2-3-2-2/2026-05-01/
LOCATION:Eastville Comedy Club\, 487 Atlantic Avenue\, Brooklyn\, NY\, 11217\, United States
CATEGORIES:New York,New York Open Mics,Open Mic,Standard
GEO:40.6859214;-73.9816178
X-APPLE-STRUCTURED-LOCATION;VALUE=URI;X-ADDRESS=Eastville Comedy Club 487 Atlantic Avenue Brooklyn NY 11217 United States;X-APPLE-RADIUS=500;X-TITLE=487 Atlantic Avenue:geo:-73.9816178,40.6859214
END:VEVENT
BEGIN:VEVENT
DTSTART;TZID=America/Los_Angeles:20260502T190000
DTEND;TZID=America/Los_Angeles:20260502T210000
DTSTAMP:20260420T105939
CREATED:20231128T175646Z
LAST-MODIFIED:20260330T080003Z
UID:10093592-1777748400-1777755600@thecomedybureau.com
SUMMARY:Comedians on the Loose @ Black Cat LES (in NYC)
DESCRIPTION:Starts 7PM ET\nSign-up in advance at https://www.comediansontheloose.com/open-mics\n5-7 min.\n$5 to perform\nHosted by Sonja Savanovic
URL:https://thecomedybureau.com/show/comedians-on-the-loose-black-cat-les-in-nyc-54-2-2/2026-05-02/
LOCATION:Black Cat LES\, 172 Rivington Street\, New York\, NY\, 10002\, United States
CATEGORIES:New York,New York Open Mics,Open Mic,Standard
GEO:40.7191658;-73.9845007
X-APPLE-STRUCTURED-LOCATION;VALUE=URI;X-ADDRESS=Black Cat LES 172 Rivington Street New York NY 10002 United States;X-APPLE-RADIUS=500;X-TITLE=172 Rivington Street:geo:-73.9845007,40.7191658
END:VEVENT
BEGIN:VEVENT
DTSTART;TZID=America/New_York:20260502T233000
DTEND;TZID=America/New_York:20260503T010000
DTSTAMP:20260420T105939
CREATED:20260329T185321Z
LAST-MODIFIED:20260329T185415Z
UID:10092377-1777764600-1777770000@thecomedybureau.com
SUMMARY:Eastville Comedy Club (in NYC)
DESCRIPTION:Starts 11:30PM ET\n5 min.\n1 item min. to perform\nShow up\, go up
URL:https://thecomedybureau.com/show/eastville-comedy-club-in-nyc-51-2-2-3-2-2/2026-05-02/
LOCATION:Eastville Comedy Club\, 487 Atlantic Avenue\, Brooklyn\, NY\, 11217\, United States
CATEGORIES:New York,New York Open Mics,Open Mic,Standard
GEO:40.6859214;-73.9816178
X-APPLE-STRUCTURED-LOCATION;VALUE=URI;X-ADDRESS=Eastville Comedy Club 487 Atlantic Avenue Brooklyn NY 11217 United States;X-APPLE-RADIUS=500;X-TITLE=487 Atlantic Avenue:geo:-73.9816178,40.6859214
END:VEVENT
BEGIN:VEVENT
DTSTART;TZID=America/Los_Angeles:20260504T193000
DTEND;TZID=America/Los_Angeles:20260504T213000
DTSTAMP:20260420T105939
CREATED:20260330T075954Z
LAST-MODIFIED:20260330T080045Z
UID:10093913-1777923000-1777930200@thecomedybureau.com
SUMMARY:Comedians on the Loose @ Black Cat LES (in NYC)
DESCRIPTION:Starts 7:30PM ET\nSign-up in advance at https://www.comediansontheloose.com/open-mics\n5-7 min.\n$5 to perform\nHosted by Sonja Savanovic\nFree mic covers
URL:https://thecomedybureau.com/show/comedians-on-the-loose-black-cat-les-in-nyc-60/2026-05-04/
LOCATION:Black Cat LES\, 172 Rivington Street\, New York\, NY\, 10002\, United States
CATEGORIES:New York,New York Open Mics,Open Mic,Standard
GEO:40.7191658;-73.9845007
X-APPLE-STRUCTURED-LOCATION;VALUE=URI;X-ADDRESS=Black Cat LES 172 Rivington Street New York NY 10002 United States;X-APPLE-RADIUS=500;X-TITLE=172 Rivington Street:geo:-73.9845007,40.7191658
END:VEVENT
BEGIN:VEVENT
DTSTART;TZID=America/Los_Angeles:20260505T173000
DTEND;TZID=America/Los_Angeles:20260505T193000
DTSTAMP:20260420T105939
CREATED:20231127T081225Z
LAST-MODIFIED:20260329T000409Z
UID:10091782-1778002200-1778009400@thecomedybureau.com
SUMMARY:Hollywood Improv (in LA)
DESCRIPTION:Sign-up 5PM\nin Main Room\nSign-up cut off at 75 names in bucket\nStarts 5:30PM\n3 min.\nLottery
URL:https://thecomedybureau.com/show/hollywood-improv-comedy-lab-in-la-18-2-2/2026-05-05/
LOCATION:Hollywood Improv\, 8162 Melrose Avenue\, Los Angeles\, CA\, 90046\, United States
CATEGORIES:Los Angeles,Los Angeles Open Mics,Open Mic,Standard
GEO:34.0834621;-118.3674136
X-APPLE-STRUCTURED-LOCATION;VALUE=URI;X-ADDRESS=Hollywood Improv 8162 Melrose Avenue Los Angeles CA 90046 United States;X-APPLE-RADIUS=500;X-TITLE=8162 Melrose Avenue:geo:-118.3674136,34.0834621
END:VEVENT
BEGIN:VEVENT
DTSTART;TZID=America/Los_Angeles:20260505T193000
DTEND;TZID=America/Los_Angeles:20260505T213000
DTSTAMP:20260420T105939
CREATED:20260330T075954Z
LAST-MODIFIED:20260330T080045Z
UID:10093914-1778009400-1778016600@thecomedybureau.com
SUMMARY:Comedians on the Loose @ Black Cat LES (in NYC)
DESCRIPTION:Starts 7:30PM ET\nSign-up in advance at https://www.comediansontheloose.com/open-mics\n5-7 min.\n$5 to perform\nHosted by Sonja Savanovic\nFree mic covers
URL:https://thecomedybureau.com/show/comedians-on-the-loose-black-cat-les-in-nyc-60/2026-05-05/
LOCATION:Black Cat LES\, 172 Rivington Street\, New York\, NY\, 10002\, United States
CATEGORIES:New York,New York Open Mics,Open Mic,Standard
GEO:40.7191658;-73.9845007
X-APPLE-STRUCTURED-LOCATION;VALUE=URI;X-ADDRESS=Black Cat LES 172 Rivington Street New York NY 10002 United States;X-APPLE-RADIUS=500;X-TITLE=172 Rivington Street:geo:-73.9845007,40.7191658
END:VEVENT
BEGIN:VEVENT
DTSTART;TZID=America/Los_Angeles:20260507T190000
DTEND;TZID=America/Los_Angeles:20260507T210000
DTSTAMP:20260420T105939
CREATED:20231128T175646Z
LAST-MODIFIED:20260330T080003Z
UID:10093593-1778180400-1778187600@thecomedybureau.com
SUMMARY:Comedians on the Loose @ Black Cat LES (in NYC)
DESCRIPTION:Starts 7PM ET\nSign-up in advance at https://www.comediansontheloose.com/open-mics\n5-7 min.\n$5 to perform\nHosted by Sonja Savanovic
URL:https://thecomedybureau.com/show/comedians-on-the-loose-black-cat-les-in-nyc-54-2-2/2026-05-07/
LOCATION:Black Cat LES\, 172 Rivington Street\, New York\, NY\, 10002\, United States
CATEGORIES:New York,New York Open Mics,Open Mic,Standard
GEO:40.7191658;-73.9845007
X-APPLE-STRUCTURED-LOCATION;VALUE=URI;X-ADDRESS=Black Cat LES 172 Rivington Street New York NY 10002 United States;X-APPLE-RADIUS=500;X-TITLE=172 Rivington Street:geo:-73.9845007,40.7191658
END:VEVENT
BEGIN:VEVENT
DTSTART;TZID=America/New_York:20260508T233000
DTEND;TZID=America/New_York:20260509T010000
DTSTAMP:20260420T105939
CREATED:20260329T185321Z
LAST-MODIFIED:20260329T185415Z
UID:10092378-1778283000-1778288400@thecomedybureau.com
SUMMARY:Eastville Comedy Club (in NYC)
DESCRIPTION:Starts 11:30PM ET\n5 min.\n1 item min. to perform\nShow up\, go up
URL:https://thecomedybureau.com/show/eastville-comedy-club-in-nyc-51-2-2-3-2-2/2026-05-08/
LOCATION:Eastville Comedy Club\, 487 Atlantic Avenue\, Brooklyn\, NY\, 11217\, United States
CATEGORIES:New York,New York Open Mics,Open Mic,Standard
GEO:40.6859214;-73.9816178
X-APPLE-STRUCTURED-LOCATION;VALUE=URI;X-ADDRESS=Eastville Comedy Club 487 Atlantic Avenue Brooklyn NY 11217 United States;X-APPLE-RADIUS=500;X-TITLE=487 Atlantic Avenue:geo:-73.9816178,40.6859214
END:VEVENT
BEGIN:VEVENT
DTSTART;TZID=America/Los_Angeles:20260509T190000
DTEND;TZID=America/Los_Angeles:20260509T210000
DTSTAMP:20260420T105939
CREATED:20231128T175646Z
LAST-MODIFIED:20260330T080003Z
UID:10093594-1778353200-1778360400@thecomedybureau.com
SUMMARY:Comedians on the Loose @ Black Cat LES (in NYC)
DESCRIPTION:Starts 7PM ET\nSign-up in advance at https://www.comediansontheloose.com/open-mics\n5-7 min.\n$5 to perform\nHosted by Sonja Savanovic
URL:https://thecomedybureau.com/show/comedians-on-the-loose-black-cat-les-in-nyc-54-2-2/2026-05-09/
LOCATION:Black Cat LES\, 172 Rivington Street\, New York\, NY\, 10002\, United States
CATEGORIES:New York,New York Open Mics,Open Mic,Standard
GEO:40.7191658;-73.9845007
X-APPLE-STRUCTURED-LOCATION;VALUE=URI;X-ADDRESS=Black Cat LES 172 Rivington Street New York NY 10002 United States;X-APPLE-RADIUS=500;X-TITLE=172 Rivington Street:geo:-73.9845007,40.7191658
END:VEVENT
BEGIN:VEVENT
DTSTART;TZID=America/New_York:20260509T233000
DTEND;TZID=America/New_York:20260510T010000
DTSTAMP:20260420T105939
CREATED:20260329T185321Z
LAST-MODIFIED:20260329T185415Z
UID:10092379-1778369400-1778374800@thecomedybureau.com
SUMMARY:Eastville Comedy Club (in NYC)
DESCRIPTION:Starts 11:30PM ET\n5 min.\n1 item min. to perform\nShow up\, go up
URL:https://thecomedybureau.com/show/eastville-comedy-club-in-nyc-51-2-2-3-2-2/2026-05-09/
LOCATION:Eastville Comedy Club\, 487 Atlantic Avenue\, Brooklyn\, NY\, 11217\, United States
CATEGORIES:New York,New York Open Mics,Open Mic,Standard
GEO:40.6859214;-73.9816178
X-APPLE-STRUCTURED-LOCATION;VALUE=URI;X-ADDRESS=Eastville Comedy Club 487 Atlantic Avenue Brooklyn NY 11217 United States;X-APPLE-RADIUS=500;X-TITLE=487 Atlantic Avenue:geo:-73.9816178,40.6859214
END:VEVENT
BEGIN:VEVENT
DTSTART;TZID=America/Los_Angeles:20260511T193000
DTEND;TZID=America/Los_Angeles:20260511T213000
DTSTAMP:20260420T105939
CREATED:20260330T075954Z
LAST-MODIFIED:20260330T080045Z
UID:10093915-1778527800-1778535000@thecomedybureau.com
SUMMARY:Comedians on the Loose @ Black Cat LES (in NYC)
DESCRIPTION:Starts 7:30PM ET\nSign-up in advance at https://www.comediansontheloose.com/open-mics\n5-7 min.\n$5 to perform\nHosted by Sonja Savanovic\nFree mic covers
URL:https://thecomedybureau.com/show/comedians-on-the-loose-black-cat-les-in-nyc-60/2026-05-11/
LOCATION:Black Cat LES\, 172 Rivington Street\, New York\, NY\, 10002\, United States
CATEGORIES:New York,New York Open Mics,Open Mic,Standard
GEO:40.7191658;-73.9845007
X-APPLE-STRUCTURED-LOCATION;VALUE=URI;X-ADDRESS=Black Cat LES 172 Rivington Street New York NY 10002 United States;X-APPLE-RADIUS=500;X-TITLE=172 Rivington Street:geo:-73.9845007,40.7191658
END:VEVENT
BEGIN:VEVENT
DTSTART;TZID=America/Los_Angeles:20260512T173000
DTEND;TZID=America/Los_Angeles:20260512T193000
DTSTAMP:20260420T105939
CREATED:20231127T081225Z
LAST-MODIFIED:20260329T000409Z
UID:10091783-1778607000-1778614200@thecomedybureau.com
SUMMARY:Hollywood Improv (in LA)
DESCRIPTION:Sign-up 5PM\nin Main Room\nSign-up cut off at 75 names in bucket\nStarts 5:30PM\n3 min.\nLottery
URL:https://thecomedybureau.com/show/hollywood-improv-comedy-lab-in-la-18-2-2/2026-05-12/
LOCATION:Hollywood Improv\, 8162 Melrose Avenue\, Los Angeles\, CA\, 90046\, United States
CATEGORIES:Los Angeles,Los Angeles Open Mics,Open Mic,Standard
GEO:34.0834621;-118.3674136
X-APPLE-STRUCTURED-LOCATION;VALUE=URI;X-ADDRESS=Hollywood Improv 8162 Melrose Avenue Los Angeles CA 90046 United States;X-APPLE-RADIUS=500;X-TITLE=8162 Melrose Avenue:geo:-118.3674136,34.0834621
END:VEVENT
BEGIN:VEVENT
DTSTART;TZID=America/Los_Angeles:20260512T193000
DTEND;TZID=America/Los_Angeles:20260512T213000
DTSTAMP:20260420T105939
CREATED:20260330T075954Z
LAST-MODIFIED:20260330T080045Z
UID:10093916-1778614200-1778621400@thecomedybureau.com
SUMMARY:Comedians on the Loose @ Black Cat LES (in NYC)
DESCRIPTION:Starts 7:30PM ET\nSign-up in advance at https://www.comediansontheloose.com/open-mics\n5-7 min.\n$5 to perform\nHosted by Sonja Savanovic\nFree mic covers
URL:https://thecomedybureau.com/show/comedians-on-the-loose-black-cat-les-in-nyc-60/2026-05-12/
LOCATION:Black Cat LES\, 172 Rivington Street\, New York\, NY\, 10002\, United States
CATEGORIES:New York,New York Open Mics,Open Mic,Standard
GEO:40.7191658;-73.9845007
X-APPLE-STRUCTURED-LOCATION;VALUE=URI;X-ADDRESS=Black Cat LES 172 Rivington Street New York NY 10002 United States;X-APPLE-RADIUS=500;X-TITLE=172 Rivington Street:geo:-73.9845007,40.7191658
END:VEVENT
BEGIN:VEVENT
DTSTART;TZID=America/Los_Angeles:20260514T190000
DTEND;TZID=America/Los_Angeles:20260514T210000
DTSTAMP:20260420T105939
CREATED:20231128T175646Z
LAST-MODIFIED:20260330T080003Z
UID:10093595-1778785200-1778792400@thecomedybureau.com
SUMMARY:Comedians on the Loose @ Black Cat LES (in NYC)
DESCRIPTION:Starts 7PM ET\nSign-up in advance at https://www.comediansontheloose.com/open-mics\n5-7 min.\n$5 to perform\nHosted by Sonja Savanovic
URL:https://thecomedybureau.com/show/comedians-on-the-loose-black-cat-les-in-nyc-54-2-2/2026-05-14/
LOCATION:Black Cat LES\, 172 Rivington Street\, New York\, NY\, 10002\, United States
CATEGORIES:New York,New York Open Mics,Open Mic,Standard
GEO:40.7191658;-73.9845007
X-APPLE-STRUCTURED-LOCATION;VALUE=URI;X-ADDRESS=Black Cat LES 172 Rivington Street New York NY 10002 United States;X-APPLE-RADIUS=500;X-TITLE=172 Rivington Street:geo:-73.9845007,40.7191658
END:VEVENT
BEGIN:VEVENT
DTSTART;TZID=America/New_York:20260515T233000
DTEND;TZID=America/New_York:20260516T010000
DTSTAMP:20260420T105939
CREATED:20260329T185321Z
LAST-MODIFIED:20260329T185415Z
UID:10092380-1778887800-1778893200@thecomedybureau.com
SUMMARY:Eastville Comedy Club (in NYC)
DESCRIPTION:Starts 11:30PM ET\n5 min.\n1 item min. to perform\nShow up\, go up
URL:https://thecomedybureau.com/show/eastville-comedy-club-in-nyc-51-2-2-3-2-2/2026-05-15/
LOCATION:Eastville Comedy Club\, 487 Atlantic Avenue\, Brooklyn\, NY\, 11217\, United States
CATEGORIES:New York,New York Open Mics,Open Mic,Standard
GEO:40.6859214;-73.9816178
X-APPLE-STRUCTURED-LOCATION;VALUE=URI;X-ADDRESS=Eastville Comedy Club 487 Atlantic Avenue Brooklyn NY 11217 United States;X-APPLE-RADIUS=500;X-TITLE=487 Atlantic Avenue:geo:-73.9816178,40.6859214
END:VEVENT
BEGIN:VEVENT
DTSTART;TZID=America/Los_Angeles:20260516T190000
DTEND;TZID=America/Los_Angeles:20260516T210000
DTSTAMP:20260420T105939
CREATED:20231128T175646Z
LAST-MODIFIED:20260330T080003Z
UID:10093596-1778958000-1778965200@thecomedybureau.com
SUMMARY:Comedians on the Loose @ Black Cat LES (in NYC)
DESCRIPTION:Starts 7PM ET\nSign-up in advance at https://www.comediansontheloose.com/open-mics\n5-7 min.\n$5 to perform\nHosted by Sonja Savanovic
URL:https://thecomedybureau.com/show/comedians-on-the-loose-black-cat-les-in-nyc-54-2-2/2026-05-16/
LOCATION:Black Cat LES\, 172 Rivington Street\, New York\, NY\, 10002\, United States
CATEGORIES:New York,New York Open Mics,Open Mic,Standard
GEO:40.7191658;-73.9845007
X-APPLE-STRUCTURED-LOCATION;VALUE=URI;X-ADDRESS=Black Cat LES 172 Rivington Street New York NY 10002 United States;X-APPLE-RADIUS=500;X-TITLE=172 Rivington Street:geo:-73.9845007,40.7191658
END:VEVENT
BEGIN:VEVENT
DTSTART;TZID=America/New_York:20260516T233000
DTEND;TZID=America/New_York:20260517T010000
DTSTAMP:20260420T105939
CREATED:20260329T185321Z
LAST-MODIFIED:20260329T185415Z
UID:10092381-1778974200-1778979600@thecomedybureau.com
SUMMARY:Eastville Comedy Club (in NYC)
DESCRIPTION:Starts 11:30PM ET\n5 min.\n1 item min. to perform\nShow up\, go up
URL:https://thecomedybureau.com/show/eastville-comedy-club-in-nyc-51-2-2-3-2-2/2026-05-16/
LOCATION:Eastville Comedy Club\, 487 Atlantic Avenue\, Brooklyn\, NY\, 11217\, United States
CATEGORIES:New York,New York Open Mics,Open Mic,Standard
GEO:40.6859214;-73.9816178
X-APPLE-STRUCTURED-LOCATION;VALUE=URI;X-ADDRESS=Eastville Comedy Club 487 Atlantic Avenue Brooklyn NY 11217 United States;X-APPLE-RADIUS=500;X-TITLE=487 Atlantic Avenue:geo:-73.9816178,40.6859214
END:VEVENT
BEGIN:VEVENT
DTSTART;TZID=America/Los_Angeles:20260518T193000
DTEND;TZID=America/Los_Angeles:20260518T213000
DTSTAMP:20260420T105939
CREATED:20260330T075954Z
LAST-MODIFIED:20260330T080045Z
UID:10093917-1779132600-1779139800@thecomedybureau.com
SUMMARY:Comedians on the Loose @ Black Cat LES (in NYC)
DESCRIPTION:Starts 7:30PM ET\nSign-up in advance at https://www.comediansontheloose.com/open-mics\n5-7 min.\n$5 to perform\nHosted by Sonja Savanovic\nFree mic covers
URL:https://thecomedybureau.com/show/comedians-on-the-loose-black-cat-les-in-nyc-60/2026-05-18/
LOCATION:Black Cat LES\, 172 Rivington Street\, New York\, NY\, 10002\, United States
CATEGORIES:New York,New York Open Mics,Open Mic,Standard
GEO:40.7191658;-73.9845007
X-APPLE-STRUCTURED-LOCATION;VALUE=URI;X-ADDRESS=Black Cat LES 172 Rivington Street New York NY 10002 United States;X-APPLE-RADIUS=500;X-TITLE=172 Rivington Street:geo:-73.9845007,40.7191658
END:VEVENT
BEGIN:VEVENT
DTSTART;TZID=America/Los_Angeles:20260519T173000
DTEND;TZID=America/Los_Angeles:20260519T193000
DTSTAMP:20260420T105939
CREATED:20231127T081225Z
LAST-MODIFIED:20260329T000409Z
UID:10091784-1779211800-1779219000@thecomedybureau.com
SUMMARY:Hollywood Improv (in LA)
DESCRIPTION:Sign-up 5PM\nin Main Room\nSign-up cut off at 75 names in bucket\nStarts 5:30PM\n3 min.\nLottery
URL:https://thecomedybureau.com/show/hollywood-improv-comedy-lab-in-la-18-2-2/2026-05-19/
LOCATION:Hollywood Improv\, 8162 Melrose Avenue\, Los Angeles\, CA\, 90046\, United States
CATEGORIES:Los Angeles,Los Angeles Open Mics,Open Mic,Standard
GEO:34.0834621;-118.3674136
X-APPLE-STRUCTURED-LOCATION;VALUE=URI;X-ADDRESS=Hollywood Improv 8162 Melrose Avenue Los Angeles CA 90046 United States;X-APPLE-RADIUS=500;X-TITLE=8162 Melrose Avenue:geo:-118.3674136,34.0834621
END:VEVENT
END:VCALENDAR