BEGIN:VCALENDAR
VERSION:2.0
PRODID:-//The Comedy Bureau - ECPv6.15.18//NONSGML v1.0//EN
CALSCALE:GREGORIAN
METHOD:PUBLISH
X-WR-CALNAME:The Comedy Bureau
X-ORIGINAL-URL:https://thecomedybureau.com
X-WR-CALDESC:Events for The Comedy Bureau
REFRESH-INTERVAL;VALUE=DURATION:PT1H
X-Robots-Tag:noindex
X-PUBLISHED-TTL:PT1H
BEGIN:VTIMEZONE
TZID:America/New_York
BEGIN:DAYLIGHT
TZOFFSETFROM:-0500
TZOFFSETTO:-0400
TZNAME:EDT
DTSTART:20250309T070000
END:DAYLIGHT
BEGIN:STANDARD
TZOFFSETFROM:-0400
TZOFFSETTO:-0500
TZNAME:EST
DTSTART:20251102T060000
END:STANDARD
BEGIN:DAYLIGHT
TZOFFSETFROM:-0500
TZOFFSETTO:-0400
TZNAME:EDT
DTSTART:20260308T070000
END:DAYLIGHT
BEGIN:STANDARD
TZOFFSETFROM:-0400
TZOFFSETTO:-0500
TZNAME:EST
DTSTART:20261101T060000
END:STANDARD
BEGIN:DAYLIGHT
TZOFFSETFROM:-0500
TZOFFSETTO:-0400
TZNAME:EDT
DTSTART:20270314T070000
END:DAYLIGHT
BEGIN:STANDARD
TZOFFSETFROM:-0400
TZOFFSETTO:-0500
TZNAME:EST
DTSTART:20271107T060000
END:STANDARD
END:VTIMEZONE
BEGIN:VTIMEZONE
TZID:America/Los_Angeles
BEGIN:DAYLIGHT
TZOFFSETFROM:-0800
TZOFFSETTO:-0700
TZNAME:PDT
DTSTART:20250309T100000
END:DAYLIGHT
BEGIN:STANDARD
TZOFFSETFROM:-0700
TZOFFSETTO:-0800
TZNAME:PST
DTSTART:20251102T090000
END:STANDARD
BEGIN:DAYLIGHT
TZOFFSETFROM:-0800
TZOFFSETTO:-0700
TZNAME:PDT
DTSTART:20260308T100000
END:DAYLIGHT
BEGIN:STANDARD
TZOFFSETFROM:-0700
TZOFFSETTO:-0800
TZNAME:PST
DTSTART:20261101T090000
END:STANDARD
BEGIN:DAYLIGHT
TZOFFSETFROM:-0800
TZOFFSETTO:-0700
TZNAME:PDT
DTSTART:20270314T100000
END:DAYLIGHT
BEGIN:STANDARD
TZOFFSETFROM:-0700
TZOFFSETTO:-0800
TZNAME:PST
DTSTART:20271107T090000
END:STANDARD
END:VTIMEZONE
BEGIN:VEVENT
DTSTART;TZID=America/New_York:20260425T210000
DTEND;TZID=America/New_York:20260425T220000
DTSTAMP:20260423T091618
CREATED:20260409T170756Z
LAST-MODIFIED:20260409T170756Z
UID:10094665-1777150800-1777154400@thecomedybureau.com
SUMMARY:Criminally Stupid: The Search For the World’s Dumbest Criminal (in NYC)
DESCRIPTION:Two hit podcasts team up to roast the world’s dumbest criminals. True crime meets comedy in this live show you won’t want to miss! \n\n\n\n\nWhat happens when two true crime podcasts come together for one night only? They talk about really dumb criminals\, of course! \nFor the first time ever\, Tim Pilleri and Lance Reenstierna – the team behind such beloved podcasts as Missing & Crawlspace – and Monique Sanchez and Amy Traydon\, the BFFs from the paranormal\, true crime\, comedy hit\, Another F*cking Horror Podcast\, are sharing a stage and bringing their A-game to celebrate and humiliate the world’s most criminally challenged. \nEach host will take the mic to present their case: a true story of a criminal so spectacularly and breathtakingly stupid that it will prove that truth is indeed stranger than fiction. \nEvidence will be presented. Arguments will be made. Dignity will be lost. \nOnce our hosts have rested their cases\, that’s when the real fun begins. At the end of the night\, you\, the audience\, will vote on who will be crowned The World’s Dumbest Criminal. \nPart true crime\, part comedy show\, all laughs\, Criminally Stupid is a night you won’t want to miss – unless you’re the kind of person who leaves a 5-star review on the ski mask you used to rob a bank – which\, 1- that has absolutely happened and 2 – in that case\, you might want to sit this one out. \n\n\nStarts 9PM ET
URL:https://thecomedybureau.com/show/criminally-stupid-the-search-for-the-worlds-dumbest-criminal-in-nyc/
LOCATION:The Shillelagh Tavern\, 47-22 30th Avenue\, Queens\, NY\, 11103\, United States
CATEGORIES:Comedy Show,New York Shows,Podcast
GEO:40.7607983;-73.9088761
X-APPLE-STRUCTURED-LOCATION;VALUE=URI;X-ADDRESS=The Shillelagh Tavern 47-22 30th Avenue Queens NY 11103 United States;X-APPLE-RADIUS=500;X-TITLE=47-22 30th Avenue:geo:-73.9088761,40.7607983
END:VEVENT
BEGIN:VEVENT
DTSTART;TZID=America/Los_Angeles:20260429T200000
DTEND;TZID=America/Los_Angeles:20260429T213000
DTSTAMP:20260423T091618
CREATED:20260322T010431Z
LAST-MODIFIED:20260322T010431Z
UID:10083254-1777492800-1777498200@thecomedybureau.com
SUMMARY:The Doughboys Podcast (near LA)
DESCRIPTION:Live taping of The Doughboys Podcast with Nick Wiger and Mike Mitchell \n$48.01 + 2 item min. \nStarts 8PM PT
URL:https://thecomedybureau.com/show/the-doughboys-podcast-near-la/
LOCATION:The Irvine Improv\, 527 Spectrum Center Drive\, Irvine\, CA\, 92618\, United States
CATEGORIES:Comedy Show,Los Angeles Shows,Podcast
GEO:33.652269;-117.7465459
X-APPLE-STRUCTURED-LOCATION;VALUE=URI;X-ADDRESS=The Irvine Improv 527 Spectrum Center Drive Irvine CA 92618 United States;X-APPLE-RADIUS=500;X-TITLE=527 Spectrum Center Drive:geo:-117.7465459,33.652269
END:VEVENT
BEGIN:VEVENT
DTSTART;TZID=America/Los_Angeles:20260501T190000
DTEND;TZID=America/Los_Angeles:20260501T203000
DTSTAMP:20260423T091618
CREATED:20260413T000831Z
LAST-MODIFIED:20260413T000831Z
UID:10094779-1777662000-1777667400@thecomedybureau.com
SUMMARY:MaxFun Drive Podcast Justice (in LA)
DESCRIPTION:Join Maximum Fun for a live Judge John Hodgman show as they conclude their annual membership drive. Judge John Hodgman and Bailiff Jesse Thorn will settle cases between hosts from across the network as MaxFun sets out to reach its membership goal. \nMaximum Fun is a pioneering podcast network and worker-owned cooperative. A home to dozens of shows\, some of which they produce and some of which are produced independently. \nDid we mention that the show is free to attend?!?! Get your tickets before they are gone! \nStarts 7PM PT
URL:https://thecomedybureau.com/show/maxfun-drive-podcast-justice-in-la/
LOCATION:Stray Theater\, 4319 Melrose Avenue\, Los Angeles\, CA\, 90029\, United States
CATEGORIES:Comedy Show,Los Angeles Shows,Podcast
GEO:34.0838958;-118.2947309
X-APPLE-STRUCTURED-LOCATION;VALUE=URI;X-ADDRESS=Stray Theater 4319 Melrose Avenue Los Angeles CA 90029 United States;X-APPLE-RADIUS=500;X-TITLE=4319 Melrose Avenue:geo:-118.2947309,34.0838958
END:VEVENT
BEGIN:VEVENT
DTSTART;TZID=America/Los_Angeles:20260504T190000
DTEND;TZID=America/Los_Angeles:20260504T203000
DTSTAMP:20260423T091618
CREATED:20260131T082225Z
LAST-MODIFIED:20260131T082225Z
UID:10082083-1777921200-1777926600@thecomedybureau.com
SUMMARY:Handsome Live @ Netflix Is a Joke (in LA)
DESCRIPTION:“Handsome” is a podcast from comedians Tig Notaro\, Fortune Feimster\, and Mae Martin. Every week\, the handsome hosts field a question from a friend and attempt to answer it together\, covering every subject you could think of. Along the way\, Tig\, Fortune and Mae tell plenty of stories and just generally have a ridiculous time. \nStarts 7PM PT
URL:https://thecomedybureau.com/show/handsome-live-netflix-is-a-joke-in-la/
LOCATION:The Wiltern\, 3790 Wilshire Boulevard\, Los Angeles\, CA\, 90010\, United States
CATEGORIES:Comedy Show,Los Angeles Shows,Podcast
GEO:34.0614896;-118.3087587
X-APPLE-STRUCTURED-LOCATION;VALUE=URI;X-ADDRESS=The Wiltern 3790 Wilshire Boulevard Los Angeles CA 90010 United States;X-APPLE-RADIUS=500;X-TITLE=3790 Wilshire Boulevard:geo:-118.3087587,34.0614896
END:VEVENT
BEGIN:VEVENT
DTSTART;TZID=America/Los_Angeles:20260504T190000
DTEND;TZID=America/Los_Angeles:20260504T203000
DTSTAMP:20260423T091618
CREATED:20260131T083314Z
LAST-MODIFIED:20260131T083314Z
UID:10082084-1777921200-1777926600@thecomedybureau.com
SUMMARY:Off Book: The Improvised Musical @ Netflix Is a Joke (in LA)
DESCRIPTION:Jessica McKenna and Zach Reino create a completely improvised musical in an attempt to combat the notion that musicals should be “carefully crafted” or “thought out at all.” \nStarts 7PM PT
URL:https://thecomedybureau.com/show/off-book-the-improvised-musical-netflix-is-a-joke-in-la/
LOCATION:Hollywood Forever Cemetery\, 6000 Santa Monica Boulevard\, Los Angeles\, CA\, 90038\, United States
CATEGORIES:Comedy Show,Los Angeles Shows,Musical comedy,Podcast
GEO:34.0888841;-118.319063
X-APPLE-STRUCTURED-LOCATION;VALUE=URI;X-ADDRESS=Hollywood Forever Cemetery 6000 Santa Monica Boulevard Los Angeles CA 90038 United States;X-APPLE-RADIUS=500;X-TITLE=6000 Santa Monica Boulevard:geo:-118.319063,34.0888841
END:VEVENT
BEGIN:VEVENT
DTSTART;TZID=America/Los_Angeles:20260504T190000
DTEND;TZID=America/Los_Angeles:20260504T203000
DTSTAMP:20260423T091618
CREATED:20260131T171300Z
LAST-MODIFIED:20260131T171300Z
UID:10082115-1777921200-1777926600@thecomedybureau.com
SUMMARY:Wrong Turns With Jameela Jamil @ Netflix Is a Joke (in LA)
DESCRIPTION:Jameela gathers her funny friends\, and they share their most mortifying and embarrassing stories. Crucially\, there are no morals and no silver linings. They are simply here to revel in each other’s misfortune. Wrong Turns: where dignity goes to die. \nStarts 7PM PT
URL:https://thecomedybureau.com/show/wrong-turns-with-jameela-jamil-netflix-is-a-joke-in-la/
LOCATION:Avalon Hollywood\, 1735 Vine Street\, Los Angeles\, CA\, 90028\, United States
CATEGORIES:Comedy Show,Los Angeles Shows,Podcast
GEO:34.1027433;-118.3271497
X-APPLE-STRUCTURED-LOCATION;VALUE=URI;X-ADDRESS=Avalon Hollywood 1735 Vine Street Los Angeles CA 90028 United States;X-APPLE-RADIUS=500;X-TITLE=1735 Vine Street:geo:-118.3271497,34.1027433
END:VEVENT
BEGIN:VEVENT
DTSTART;TZID=America/Los_Angeles:20260505T190000
DTEND;TZID=America/Los_Angeles:20260505T203000
DTSTAMP:20260423T091618
CREATED:20260421T053816Z
LAST-MODIFIED:20260421T053816Z
UID:10095002-1778007600-1778013000@thecomedybureau.com
SUMMARY:The WayBack Live with Ryan Sickler (in LA)
DESCRIPTION:The Wayback with Ryan Sickler takes you on a nostalgic journey through the stories that shaped your childhood. Each week\, Ryan welcomes a guest to hop in the back seat of the station wagon and reminisce about growing up. From the first time you heard your parents curse to that summer job you’ll never forget\, from your first sip of beer to everything in between\, this storytelling podcast is a time machine that transports you to the moments that made you who you are. \nStarts 7PM PT
URL:https://thecomedybureau.com/show/the-wayback-live-with-ryan-sickler-in-la/
LOCATION:The Hotel Cafe\, 1623 North Cahuenga Boulevard\, Los Angeles\, CA\, 90028\, United States
CATEGORIES:Comedy Show,Los Angeles Shows,Podcast
GEO:34.1003781;-118.3298943
X-APPLE-STRUCTURED-LOCATION;VALUE=URI;X-ADDRESS=The Hotel Cafe 1623 North Cahuenga Boulevard Los Angeles CA 90028 United States;X-APPLE-RADIUS=500;X-TITLE=1623 North Cahuenga Boulevard:geo:-118.3298943,34.1003781
END:VEVENT
BEGIN:VEVENT
DTSTART;TZID=America/New_York:20260505T193000
DTEND;TZID=America/New_York:20260505T210000
DTSTAMP:20260423T091618
CREATED:20260414T021644Z
LAST-MODIFIED:20260414T021644Z
UID:10094838-1778009400-1778014800@thecomedybureau.com
SUMMARY:Evolution of a Snake: The Showgirl Experience (in NYC)
DESCRIPTION:Hosted by Zachary Hourihane (Swiftologist) & Madeline Rubicam (The Lizard Review)\, Evolution of a Snake is the hit podcast known for its analytical & often hilarious takes on Taylor Swift’s career. In The Showgirl Experience\, the duo turns their signature wit & commentary toward 1 of Swift’s most controversial works\, saying the things they’ve held back-until now! \nStarts 7:30PM ET
URL:https://thecomedybureau.com/show/evolution-of-a-snake-the-showgirl-experience-in-nyc/
LOCATION:The Bell House\, 149 7th Street\, Brooklyn\, NY\, 11215\, United States
CATEGORIES:Comedy Show,New York Shows,Podcast
GEO:40.6737185;-73.9916803
X-APPLE-STRUCTURED-LOCATION;VALUE=URI;X-ADDRESS=The Bell House 149 7th Street Brooklyn NY 11215 United States;X-APPLE-RADIUS=500;X-TITLE=149 7th Street:geo:-73.9916803,40.6737185
END:VEVENT
BEGIN:VEVENT
DTSTART;TZID=America/Los_Angeles:20260507T193000
DTEND;TZID=America/Los_Angeles:20260507T210000
DTSTAMP:20260423T091618
CREATED:20260421T062454Z
LAST-MODIFIED:20260421T062454Z
UID:10095015-1778182200-1778187600@thecomedybureau.com
SUMMARY:Right Now with John Goblikon @ Netflix Is a Joke (in LA)
DESCRIPTION:RIGHT NOW w/ John Goblikon (comedian Dave Rispoli) is the #1 goblin comedy podcast in the universe! Leave all your expectations @ the door as John asks your favorite comedians & celebrities all the hard hitting ?s-from the meaning of life to whether they’ve ever been to Trader Joe’s. \n$29.86 + 2 item min. \nStarts 7:30PM ET
URL:https://thecomedybureau.com/show/right-now-with-john-goblikon-netflix-is-a-joke-in-la/
LOCATION:Hollywood Improv\, 8162 Melrose Avenue\, Los Angeles\, CA\, 90046\, United States
CATEGORIES:Comedy Show,Los Angeles Shows,New York Shows,Podcast
GEO:34.0834621;-118.3674136
X-APPLE-STRUCTURED-LOCATION;VALUE=URI;X-ADDRESS=Hollywood Improv 8162 Melrose Avenue Los Angeles CA 90046 United States;X-APPLE-RADIUS=500;X-TITLE=8162 Melrose Avenue:geo:-118.3674136,34.0834621
END:VEVENT
BEGIN:VEVENT
DTSTART;TZID=America/Los_Angeles:20260507T200000
DTEND;TZID=America/Los_Angeles:20260507T213000
DTSTAMP:20260423T091618
CREATED:20260130T045039Z
LAST-MODIFIED:20260130T045039Z
UID:10082049-1778184000-1778189400@thecomedybureau.com
SUMMARY:Tank Top Talks with Matt Braunger @ Netflix Is a Joke (in LA)
DESCRIPTION:Tank Tops are ridiculous\, but they feel good\, and the reason they feel good is that they’re ridiculous. Welcome to Tank Top Talks – a weekly conversation podcast where comedian Matt Braunger sits down with comedians\, writers\, actors\, and other luminaries\, each of them wearing a tank of their choice. Once Matt and his guest get past the well-earned silliness\, the conversation is always worth the listen (or the watch). \nStarts 8PM PT
URL:https://thecomedybureau.com/show/tank-top-talks-with-matt-braunger-netflix-is-a-joke-in-la/
LOCATION:The Elysian\, 1944 Riverside Drive\, Los Angeles\, CA\, 90039\, United States
CATEGORIES:Comedy Show,Los Angeles Shows,Podcast
GEO:34.0979699;-118.2479957
X-APPLE-STRUCTURED-LOCATION;VALUE=URI;X-ADDRESS=The Elysian 1944 Riverside Drive Los Angeles CA 90039 United States;X-APPLE-RADIUS=500;X-TITLE=1944 Riverside Drive:geo:-118.2479957,34.0979699
END:VEVENT
BEGIN:VEVENT
DTSTART;TZID=America/Los_Angeles:20260507T214500
DTEND;TZID=America/Los_Angeles:20260507T233000
DTSTAMP:20260423T091618
CREATED:20260130T043837Z
LAST-MODIFIED:20260130T043837Z
UID:10082042-1778190300-1778196600@thecomedybureau.com
SUMMARY:Side Stories @ Netflix Is a Joke (in LA)
DESCRIPTION:Hosted by Henry Zebrowski and Ed Larson. It’s scary\, it’s silly\, it’s slimy. It’s SIDE STORIES. \nDig into the latest true crime news and paranormal happenings\, breaking down ooky-spooky stories. ONE night only. \nStarts 9:45PM PT
URL:https://thecomedybureau.com/show/side-stories-netflix-is-a-joke-in-la/
LOCATION:Avalon Hollywood\, 1735 Vine Street\, Los Angeles\, CA\, 90028\, United States
CATEGORIES:Comedy Show,Los Angeles Shows,Podcast
GEO:34.1027433;-118.3271497
X-APPLE-STRUCTURED-LOCATION;VALUE=URI;X-ADDRESS=Avalon Hollywood 1735 Vine Street Los Angeles CA 90028 United States;X-APPLE-RADIUS=500;X-TITLE=1735 Vine Street:geo:-118.3271497,34.1027433
END:VEVENT
BEGIN:VEVENT
DTSTART;TZID=America/Los_Angeles:20260508T214500
DTEND;TZID=America/Los_Angeles:20260508T233000
DTSTAMP:20260423T091618
CREATED:20260131T030906Z
LAST-MODIFIED:20260131T030906Z
UID:10082063-1778276700-1778283000@thecomedybureau.com
SUMMARY:Seek Treatment with Pat & Cat @ Netflix Is a Joke (in LA)
DESCRIPTION:A live episode of Seek Treatment with Catherine Cohen & Pat Regan \nStarts 9:45PM PT
URL:https://thecomedybureau.com/show/seek-treatment-with-pat-cat-netflix-is-a-joke-in-la/
LOCATION:Pacific Electric\, 1729 Naud Street\, Los Angeles\, CA\, 90012\, United States
CATEGORIES:Comedy Show,Los Angeles Shows,Podcast
GEO:34.06918;-118.2258
X-APPLE-STRUCTURED-LOCATION;VALUE=URI;X-ADDRESS=Pacific Electric 1729 Naud Street Los Angeles CA 90012 United States;X-APPLE-RADIUS=500;X-TITLE=1729 Naud Street:geo:-118.2258,34.06918
END:VEVENT
BEGIN:VEVENT
DTSTART;TZID=America/Los_Angeles:20260509T213000
DTEND;TZID=America/Los_Angeles:20260509T230000
DTSTAMP:20260423T091618
CREATED:20260420T181146Z
LAST-MODIFIED:20260420T181146Z
UID:10094955-1778362200-1778367600@thecomedybureau.com
SUMMARY:Spilling Your Seed W/ Chloe Troast @ Netflix Is a Joke (in LA)
DESCRIPTION:Join Chloe Troast as she uncovers the ancestral roots of her surprise special guests. Chloe\, her sidekick Peanut\, and her comedian friends will reveal shocking connections\, beautiful hidden histories\, and truly embarrassing discoveries — LIVE on the UCB Stage. \nFeaturing: TBA \nStarts 9:30PM PT
URL:https://thecomedybureau.com/show/spilling-your-seed-w-chloe-troast-netflix-is-a-joke-in-la/
LOCATION:UCB Franklin\, 5919 Franklin Avenue\, Los Angeles\, CA\, 90028\, United States
CATEGORIES:Comedy Show,Los Angeles Shows,Podcast
GEO:34.1054949;-118.3187612
X-APPLE-STRUCTURED-LOCATION;VALUE=URI;X-ADDRESS=UCB Franklin 5919 Franklin Avenue Los Angeles CA 90028 United States;X-APPLE-RADIUS=500;X-TITLE=5919 Franklin Avenue:geo:-118.3187612,34.1054949
END:VEVENT
BEGIN:VEVENT
DTSTART;TZID=America/Los_Angeles:20260527T213000
DTEND;TZID=America/Los_Angeles:20260527T230000
DTSTAMP:20260423T091618
CREATED:20260409T081413Z
LAST-MODIFIED:20260409T081413Z
UID:10094649-1779917400-1779922800@thecomedybureau.com
SUMMARY:Anna & Isabella Do Improv LIVE (in LA)
DESCRIPTION:About the podcast: Every week\, Anna Bezahler and Isabella Escalante\, an LA based improv duo\, experiment with different improv forms. And sometimes even with a special guest. \nPodcast produced by ⁠Mark David Christenson⁠\, ⁠Anna Bezahler⁠ and ⁠Isabella Escalante⁠ \nAudio Engineered and Edited by Mark David Christenson \nStarts 9:30PM PT
URL:https://thecomedybureau.com/show/anna-isabella-do-improv-live-in-la/
LOCATION:Lyric Hyperion Theatre & Café\, 2106 Hyperion Avenue\, Los Angeles\, CA\, 90027\, United States
CATEGORIES:Comedy Show,Los Angeles Shows,Podcast
GEO:34.0988494;-118.2736979
X-APPLE-STRUCTURED-LOCATION;VALUE=URI;X-ADDRESS=Lyric Hyperion Theatre & Café 2106 Hyperion Avenue Los Angeles CA 90027 United States;X-APPLE-RADIUS=500;X-TITLE=2106 Hyperion Avenue:geo:-118.2736979,34.0988494
END:VEVENT
BEGIN:VEVENT
DTSTART;TZID=America/New_York:20260605T193000
DTEND;TZID=America/New_York:20260605T210000
DTSTAMP:20260423T091618
CREATED:20260413T000631Z
LAST-MODIFIED:20260413T000631Z
UID:10094778-1780687800-1780693200@thecomedybureau.com
SUMMARY:That's Messed Up LIVE! (in NYC)
DESCRIPTION:Comedians & amateur detectives Liza Treyger & Kara Klenk host a live episode of their hit podcast That’s Messed Up where they break down a classic episode of Law & Order: SVU plus games\, gossip & more! These are their stories! Dun Dun!! \nStarts 7:30PM ET
URL:https://thecomedybureau.com/show/thats-messed-up-live-in-nyc/
LOCATION:The Bell House\, 149 7th Street\, Brooklyn\, NY\, 11215\, United States
CATEGORIES:Comedy Show,New York Shows,Podcast
GEO:40.6737185;-73.9916803
X-APPLE-STRUCTURED-LOCATION;VALUE=URI;X-ADDRESS=The Bell House 149 7th Street Brooklyn NY 11215 United States;X-APPLE-RADIUS=500;X-TITLE=149 7th Street:geo:-73.9916803,40.6737185
END:VEVENT
END:VCALENDAR