BEGIN:VCALENDAR
VERSION:2.0
PRODID:-//The Comedy Bureau - ECPv6.15.18//NONSGML v1.0//EN
CALSCALE:GREGORIAN
METHOD:PUBLISH
X-ORIGINAL-URL:https://thecomedybureau.com
X-WR-CALDESC:Events for The Comedy Bureau
REFRESH-INTERVAL;VALUE=DURATION:PT1H
X-Robots-Tag:noindex
X-PUBLISHED-TTL:PT1H
BEGIN:VTIMEZONE
TZID:America/New_York
BEGIN:DAYLIGHT
TZOFFSETFROM:-0500
TZOFFSETTO:-0400
TZNAME:EDT
DTSTART:20230312T070000
END:DAYLIGHT
BEGIN:STANDARD
TZOFFSETFROM:-0400
TZOFFSETTO:-0500
TZNAME:EST
DTSTART:20231105T060000
END:STANDARD
BEGIN:DAYLIGHT
TZOFFSETFROM:-0500
TZOFFSETTO:-0400
TZNAME:EDT
DTSTART:20240310T070000
END:DAYLIGHT
BEGIN:STANDARD
TZOFFSETFROM:-0400
TZOFFSETTO:-0500
TZNAME:EST
DTSTART:20241103T060000
END:STANDARD
BEGIN:DAYLIGHT
TZOFFSETFROM:-0500
TZOFFSETTO:-0400
TZNAME:EDT
DTSTART:20250309T070000
END:DAYLIGHT
BEGIN:STANDARD
TZOFFSETFROM:-0400
TZOFFSETTO:-0500
TZNAME:EST
DTSTART:20251102T060000
END:STANDARD
END:VTIMEZONE
BEGIN:VTIMEZONE
TZID:America/Los_Angeles
BEGIN:DAYLIGHT
TZOFFSETFROM:-0800
TZOFFSETTO:-0700
TZNAME:PDT
DTSTART:20230312T100000
END:DAYLIGHT
BEGIN:STANDARD
TZOFFSETFROM:-0700
TZOFFSETTO:-0800
TZNAME:PST
DTSTART:20231105T090000
END:STANDARD
BEGIN:DAYLIGHT
TZOFFSETFROM:-0800
TZOFFSETTO:-0700
TZNAME:PDT
DTSTART:20240310T100000
END:DAYLIGHT
BEGIN:STANDARD
TZOFFSETFROM:-0700
TZOFFSETTO:-0800
TZNAME:PST
DTSTART:20241103T090000
END:STANDARD
BEGIN:DAYLIGHT
TZOFFSETFROM:-0800
TZOFFSETTO:-0700
TZNAME:PDT
DTSTART:20250309T100000
END:DAYLIGHT
BEGIN:STANDARD
TZOFFSETFROM:-0700
TZOFFSETTO:-0800
TZNAME:PST
DTSTART:20251102T090000
END:STANDARD
END:VTIMEZONE
BEGIN:VEVENT
DTSTART;TZID=America/New_York:20240309T220000
DTEND;TZID=America/New_York:20240309T233000
DTSTAMP:20260424T201546
CREATED:20231218T193453Z
LAST-MODIFIED:20251220T024654Z
UID:10010866-1710021600-1710027000@thecomedybureau.com
SUMMARY:The Tiny Cupboard (in NYC)
DESCRIPTION:Starts at 10PM ET\nShow up\, go up\n$2 to perform\nMixed mic (comedy\, music poetry)\nShow up go up*\nSign-up details and list of hosts available at thetinycupboard.com/open-mics/
URL:https://thecomedybureau.com/show/the-tiny-cupboard-in-nyc-247-2-2-2/2024-03-09/
LOCATION:The Tiny Cupboard\, 1717 Broadway #315\, Brooklyn\, NY\, 11207\, United States
CATEGORIES:New York,New York Open Mics,Open Mic
GEO:40.6835998;-73.911137
X-APPLE-STRUCTURED-LOCATION;VALUE=URI;X-ADDRESS=The Tiny Cupboard 1717 Broadway #315 Brooklyn NY 11207 United States;X-APPLE-RADIUS=500;X-TITLE=1717 Broadway #315:geo:-73.911137,40.6835998
END:VEVENT
BEGIN:VEVENT
DTSTART;TZID=America/New_York:20240309T223000
DTEND;TZID=America/New_York:20240310T000000
DTSTAMP:20260424T201546
CREATED:20231223T194238Z
LAST-MODIFIED:20240511T180129Z
UID:10011767-1710023400-1710028800@thecomedybureau.com
SUMMARY:Live at the Barbershop (in NYC)
DESCRIPTION:The show takes place in a real East Village Barbershop (Sometimes On Rooftops) and always featuring killer comics from TV\, special guest drop-ins and amazing crowds. \nSat. @ 10:30PM ET
URL:https://thecomedybureau.com/show/live-at-the-barbershop-in-nyc-2-2-2/2024-03-09/
LOCATION:Original Barbershop\, 174 East 2nd Street\, New York\, NY\, 10009\, United States
CATEGORIES:Comedy Show,New York,New York Shows,Stand Up
GEO:40.7226824;-73.9845869
X-APPLE-STRUCTURED-LOCATION;VALUE=URI;X-ADDRESS=Original Barbershop 174 East 2nd Street New York NY 10009 United States;X-APPLE-RADIUS=500;X-TITLE=174 East 2nd Street:geo:-73.9845869,40.7226824
END:VEVENT
BEGIN:VEVENT
DTSTART;TZID=America/New_York:20240310T173000
DTEND;TZID=America/New_York:20240310T190000
DTSTAMP:20260424T201546
CREATED:20231218T191524Z
LAST-MODIFIED:20250629T070438Z
UID:10010722-1710091800-1710097200@thecomedybureau.com
SUMMARY:The Tiny Cupboard (in NYC)
DESCRIPTION:Starts at 5:30PM\nShow up\, go up\n$2 to perform\nMixed mic (comedy\, music poetry)\nShow up go up*\nSign-up details and list of hosts available at thetinycupboard.com/open-mics/
URL:https://thecomedybureau.com/show/the-tiny-cupboard-in-nyc-209-2-2-2/2024-03-10/
LOCATION:The Tiny Cupboard\, 1717 Broadway #315\, Brooklyn\, NY\, 11207\, United States
CATEGORIES:New York,New York Open Mics,Open Mic
GEO:40.6835998;-73.911137
X-APPLE-STRUCTURED-LOCATION;VALUE=URI;X-ADDRESS=The Tiny Cupboard 1717 Broadway #315 Brooklyn NY 11207 United States;X-APPLE-RADIUS=500;X-TITLE=1717 Broadway #315:geo:-73.911137,40.6835998
END:VEVENT
BEGIN:VEVENT
DTSTART;TZID=America/New_York:20240310T190000
DTEND;TZID=America/New_York:20240310T203000
DTSTAMP:20260424T201546
CREATED:20231218T192643Z
LAST-MODIFIED:20241126T043529Z
UID:10010777-1710097200-1710102600@thecomedybureau.com
SUMMARY:The Tiny Cupboard (in NYC)
DESCRIPTION:Starts at 7PM ET\nShow up\, go up\n$2 to perform\nMixed mic (comedy\, music poetry)\nShow up go up*\nSign-up details and list of hosts available at thetinycupboard.com/open-mics/
URL:https://thecomedybureau.com/show/the-tiny-cupboard-in-nyc-245-2-2-2/2024-03-10/
LOCATION:The Tiny Cupboard\, 1717 Broadway #315\, Brooklyn\, NY\, 11207\, United States
CATEGORIES:New York,New York Open Mics,Open Mic
GEO:40.6835998;-73.911137
X-APPLE-STRUCTURED-LOCATION;VALUE=URI;X-ADDRESS=The Tiny Cupboard 1717 Broadway #315 Brooklyn NY 11207 United States;X-APPLE-RADIUS=500;X-TITLE=1717 Broadway #315:geo:-73.911137,40.6835998
END:VEVENT
BEGIN:VEVENT
DTSTART;TZID=America/New_York:20240310T214500
DTEND;TZID=America/New_York:20240310T233000
DTSTAMP:20260424T201546
CREATED:20240102T035406Z
LAST-MODIFIED:20250629T070902Z
UID:10010832-1710107100-1710113400@thecomedybureau.com
SUMMARY:Eastville Comedy Club (in NYC)
DESCRIPTION:Sign-up 9:15PM ET\nStarts 9:45PM ET\nEnds 11:30PM ET\n5 min.\n1 item min. to perform\nShow up\, go up
URL:https://thecomedybureau.com/show/eastville-comedy-club-in-nyc-51-2-2-3/2024-03-10/
LOCATION:Eastville Comedy Club\, 487 Atlantic Avenue\, Brooklyn\, NY\, 11217\, United States
CATEGORIES:New York,New York Open Mics,Open Mic,Standard
GEO:40.6859214;-73.9816178
X-APPLE-STRUCTURED-LOCATION;VALUE=URI;X-ADDRESS=Eastville Comedy Club 487 Atlantic Avenue Brooklyn NY 11217 United States;X-APPLE-RADIUS=500;X-TITLE=487 Atlantic Avenue:geo:-73.9816178,40.6859214
END:VEVENT
BEGIN:VEVENT
DTSTART;TZID=America/New_York:20240310T220000
DTEND;TZID=America/New_York:20240310T233000
DTSTAMP:20260424T201546
CREATED:20231218T193453Z
LAST-MODIFIED:20251220T024654Z
UID:10010867-1710108000-1710113400@thecomedybureau.com
SUMMARY:The Tiny Cupboard (in NYC)
DESCRIPTION:Starts at 10PM ET\nShow up\, go up\n$2 to perform\nMixed mic (comedy\, music poetry)\nShow up go up*\nSign-up details and list of hosts available at thetinycupboard.com/open-mics/
URL:https://thecomedybureau.com/show/the-tiny-cupboard-in-nyc-247-2-2-2/2024-03-10/
LOCATION:The Tiny Cupboard\, 1717 Broadway #315\, Brooklyn\, NY\, 11207\, United States
CATEGORIES:New York,New York Open Mics,Open Mic
GEO:40.6835998;-73.911137
X-APPLE-STRUCTURED-LOCATION;VALUE=URI;X-ADDRESS=The Tiny Cupboard 1717 Broadway #315 Brooklyn NY 11207 United States;X-APPLE-RADIUS=500;X-TITLE=1717 Broadway #315:geo:-73.911137,40.6835998
END:VEVENT
BEGIN:VEVENT
DTSTART;TZID=America/New_York:20240311T173000
DTEND;TZID=America/New_York:20240311T190000
DTSTAMP:20260424T201546
CREATED:20231218T191524Z
LAST-MODIFIED:20250629T070438Z
UID:10010723-1710178200-1710183600@thecomedybureau.com
SUMMARY:The Tiny Cupboard (in NYC)
DESCRIPTION:Starts at 5:30PM\nShow up\, go up\n$2 to perform\nMixed mic (comedy\, music poetry)\nShow up go up*\nSign-up details and list of hosts available at thetinycupboard.com/open-mics/
URL:https://thecomedybureau.com/show/the-tiny-cupboard-in-nyc-209-2-2-2/2024-03-11/
LOCATION:The Tiny Cupboard\, 1717 Broadway #315\, Brooklyn\, NY\, 11207\, United States
CATEGORIES:New York,New York Open Mics,Open Mic
GEO:40.6835998;-73.911137
X-APPLE-STRUCTURED-LOCATION;VALUE=URI;X-ADDRESS=The Tiny Cupboard 1717 Broadway #315 Brooklyn NY 11207 United States;X-APPLE-RADIUS=500;X-TITLE=1717 Broadway #315:geo:-73.911137,40.6835998
END:VEVENT
BEGIN:VEVENT
DTSTART;TZID=America/Los_Angeles:20240311T180000
DTEND;TZID=America/Los_Angeles:20240311T200000
DTSTAMP:20260424T201546
CREATED:20231218T192456Z
LAST-MODIFIED:20241021T161615Z
UID:10010743-1710180000-1710187200@thecomedybureau.com
SUMMARY:Eastville Comedy Club (in NYC)
DESCRIPTION:Sign-up 5:30PM ET\nStarts 6PM ET\nEnds 7:45PM ET\n5 min.\n1 item min. to perform\nShow up\, go up
URL:https://thecomedybureau.com/show/eastville-comedy-club-in-nyc-51-2-2-2/2024-03-11/
LOCATION:Eastville Comedy Club\, 487 Atlantic Avenue\, Brooklyn\, NY\, 11217\, United States
CATEGORIES:New York,New York Open Mics,Open Mic,Standard
GEO:40.6859214;-73.9816178
X-APPLE-STRUCTURED-LOCATION;VALUE=URI;X-ADDRESS=Eastville Comedy Club 487 Atlantic Avenue Brooklyn NY 11217 United States;X-APPLE-RADIUS=500;X-TITLE=487 Atlantic Avenue:geo:-73.9816178,40.6859214
END:VEVENT
BEGIN:VEVENT
DTSTART;TZID=America/New_York:20240311T190000
DTEND;TZID=America/New_York:20240311T203000
DTSTAMP:20260424T201546
CREATED:20231218T192643Z
LAST-MODIFIED:20241126T043529Z
UID:10010778-1710183600-1710189000@thecomedybureau.com
SUMMARY:The Tiny Cupboard (in NYC)
DESCRIPTION:Starts at 7PM ET\nShow up\, go up\n$2 to perform\nMixed mic (comedy\, music poetry)\nShow up go up*\nSign-up details and list of hosts available at thetinycupboard.com/open-mics/
URL:https://thecomedybureau.com/show/the-tiny-cupboard-in-nyc-245-2-2-2/2024-03-11/
LOCATION:The Tiny Cupboard\, 1717 Broadway #315\, Brooklyn\, NY\, 11207\, United States
CATEGORIES:New York,New York Open Mics,Open Mic
GEO:40.6835998;-73.911137
X-APPLE-STRUCTURED-LOCATION;VALUE=URI;X-ADDRESS=The Tiny Cupboard 1717 Broadway #315 Brooklyn NY 11207 United States;X-APPLE-RADIUS=500;X-TITLE=1717 Broadway #315:geo:-73.911137,40.6835998
END:VEVENT
BEGIN:VEVENT
DTSTART;TZID=America/New_York:20240311T200000
DTEND;TZID=America/New_York:20240311T213000
DTSTAMP:20260424T201546
CREATED:20240226T084221Z
LAST-MODIFIED:20240408T154800Z
UID:10011446-1710187200-1710192600@thecomedybureau.com
SUMMARY:Butterboy (in NYC)
DESCRIPTION:Butterboy is BACK! We’ll be live at Littlefield this summer + offering tickets to watch the live stream! Attendees must requiring proof of vaccination for the live show. The stream will be avail for 12 hours and may not include sets from all guest performers. \nFeaturing stand-up from: \n4/8: Jay Jurden\, Sofia Dobrushin\, Jeff Scheen\, Ben Katzner & Annie Russell! \n4/15: Roy Wood Jr.\, Laurie Kilmartin\, Ali Macofsky\, Zilla Vodnas\, Andrew Durso & Kofi Thomas! \n4/22: Dylan Adler\, Gavin Matts\, Kenice Mobley\, Tyrone Thornhill & Sophia Pelton! \n4/29: Ashton Womack\, Dave Ross\, Kate Sisk\, Amamah Sardar & Justin Covington! \nhosts MAEVE HIGGINS\, JOSH GONDELMAN & DONWILL \nStarts 8PM ET
URL:https://thecomedybureau.com/show/butterboy-in-nyc-2-2-2/2024-03-11/
LOCATION:littlefield\, 635 Sackett Street\, Brooklyn\, NY\, 11217\, United States
CATEGORIES:Comedy Show,New York,New York Shows,Stand Up
GEO:40.6784267;-73.9833102
X-APPLE-STRUCTURED-LOCATION;VALUE=URI;X-ADDRESS=littlefield 635 Sackett Street Brooklyn NY 11217 United States;X-APPLE-RADIUS=500;X-TITLE=635 Sackett Street:geo:-73.9833102,40.6784267
END:VEVENT
BEGIN:VEVENT
DTSTART;TZID=America/New_York:20240311T214500
DTEND;TZID=America/New_York:20240311T233000
DTSTAMP:20260424T201546
CREATED:20240102T035406Z
LAST-MODIFIED:20250629T070902Z
UID:10010833-1710193500-1710199800@thecomedybureau.com
SUMMARY:Eastville Comedy Club (in NYC)
DESCRIPTION:Sign-up 9:15PM ET\nStarts 9:45PM ET\nEnds 11:30PM ET\n5 min.\n1 item min. to perform\nShow up\, go up
URL:https://thecomedybureau.com/show/eastville-comedy-club-in-nyc-51-2-2-3/2024-03-11/
LOCATION:Eastville Comedy Club\, 487 Atlantic Avenue\, Brooklyn\, NY\, 11217\, United States
CATEGORIES:New York,New York Open Mics,Open Mic,Standard
GEO:40.6859214;-73.9816178
X-APPLE-STRUCTURED-LOCATION;VALUE=URI;X-ADDRESS=Eastville Comedy Club 487 Atlantic Avenue Brooklyn NY 11217 United States;X-APPLE-RADIUS=500;X-TITLE=487 Atlantic Avenue:geo:-73.9816178,40.6859214
END:VEVENT
BEGIN:VEVENT
DTSTART;TZID=America/New_York:20240311T220000
DTEND;TZID=America/New_York:20240311T233000
DTSTAMP:20260424T201546
CREATED:20231218T193453Z
LAST-MODIFIED:20251220T024654Z
UID:10010868-1710194400-1710199800@thecomedybureau.com
SUMMARY:The Tiny Cupboard (in NYC)
DESCRIPTION:Starts at 10PM ET\nShow up\, go up\n$2 to perform\nMixed mic (comedy\, music poetry)\nShow up go up*\nSign-up details and list of hosts available at thetinycupboard.com/open-mics/
URL:https://thecomedybureau.com/show/the-tiny-cupboard-in-nyc-247-2-2-2/2024-03-11/
LOCATION:The Tiny Cupboard\, 1717 Broadway #315\, Brooklyn\, NY\, 11207\, United States
CATEGORIES:New York,New York Open Mics,Open Mic
GEO:40.6835998;-73.911137
X-APPLE-STRUCTURED-LOCATION;VALUE=URI;X-ADDRESS=The Tiny Cupboard 1717 Broadway #315 Brooklyn NY 11207 United States;X-APPLE-RADIUS=500;X-TITLE=1717 Broadway #315:geo:-73.911137,40.6835998
END:VEVENT
BEGIN:VEVENT
DTSTART;TZID=America/New_York:20240312T173000
DTEND;TZID=America/New_York:20240312T190000
DTSTAMP:20260424T201546
CREATED:20231218T191524Z
LAST-MODIFIED:20250629T070438Z
UID:10012655-1710264600-1710270000@thecomedybureau.com
SUMMARY:The Tiny Cupboard (in NYC)
DESCRIPTION:Starts at 5:30PM\nShow up\, go up\n$2 to perform\nMixed mic (comedy\, music poetry)\nShow up go up*\nSign-up details and list of hosts available at thetinycupboard.com/open-mics/
URL:https://thecomedybureau.com/show/the-tiny-cupboard-in-nyc-209-2-2-2/2024-03-12/
LOCATION:The Tiny Cupboard\, 1717 Broadway #315\, Brooklyn\, NY\, 11207\, United States
CATEGORIES:New York,New York Open Mics,Open Mic
GEO:40.6835998;-73.911137
X-APPLE-STRUCTURED-LOCATION;VALUE=URI;X-ADDRESS=The Tiny Cupboard 1717 Broadway #315 Brooklyn NY 11207 United States;X-APPLE-RADIUS=500;X-TITLE=1717 Broadway #315:geo:-73.911137,40.6835998
END:VEVENT
BEGIN:VEVENT
DTSTART;TZID=America/Los_Angeles:20240312T180000
DTEND;TZID=America/Los_Angeles:20240312T200000
DTSTAMP:20260424T201546
CREATED:20231218T192456Z
LAST-MODIFIED:20241021T161615Z
UID:10012683-1710266400-1710273600@thecomedybureau.com
SUMMARY:Eastville Comedy Club (in NYC)
DESCRIPTION:Sign-up 5:30PM ET\nStarts 6PM ET\nEnds 7:45PM ET\n5 min.\n1 item min. to perform\nShow up\, go up
URL:https://thecomedybureau.com/show/eastville-comedy-club-in-nyc-51-2-2-2/2024-03-12/
LOCATION:Eastville Comedy Club\, 487 Atlantic Avenue\, Brooklyn\, NY\, 11217\, United States
CATEGORIES:New York,New York Open Mics,Open Mic,Standard
GEO:40.6859214;-73.9816178
X-APPLE-STRUCTURED-LOCATION;VALUE=URI;X-ADDRESS=Eastville Comedy Club 487 Atlantic Avenue Brooklyn NY 11217 United States;X-APPLE-RADIUS=500;X-TITLE=487 Atlantic Avenue:geo:-73.9816178,40.6859214
END:VEVENT
BEGIN:VEVENT
DTSTART;TZID=America/New_York:20240312T190000
DTEND;TZID=America/New_York:20240312T203000
DTSTAMP:20260424T201546
CREATED:20231218T192643Z
LAST-MODIFIED:20241126T043529Z
UID:10012703-1710270000-1710275400@thecomedybureau.com
SUMMARY:The Tiny Cupboard (in NYC)
DESCRIPTION:Starts at 7PM ET\nShow up\, go up\n$2 to perform\nMixed mic (comedy\, music poetry)\nShow up go up*\nSign-up details and list of hosts available at thetinycupboard.com/open-mics/
URL:https://thecomedybureau.com/show/the-tiny-cupboard-in-nyc-245-2-2-2/2024-03-12/
LOCATION:The Tiny Cupboard\, 1717 Broadway #315\, Brooklyn\, NY\, 11207\, United States
CATEGORIES:New York,New York Open Mics,Open Mic
GEO:40.6835998;-73.911137
X-APPLE-STRUCTURED-LOCATION;VALUE=URI;X-ADDRESS=The Tiny Cupboard 1717 Broadway #315 Brooklyn NY 11207 United States;X-APPLE-RADIUS=500;X-TITLE=1717 Broadway #315:geo:-73.911137,40.6835998
END:VEVENT
BEGIN:VEVENT
DTSTART;TZID=America/Los_Angeles:20240312T203000
DTEND;TZID=America/Los_Angeles:20240312T213000
DTSTAMP:20260424T201546
CREATED:20231128T180206Z
LAST-MODIFIED:20260330T080301Z
UID:10012835-1710275400-1710279000@thecomedybureau.com
SUMMARY:Pump Up: The Jam @ Brooklyn Comedy Collective (in NYC)
DESCRIPTION:For improv only\nStarts 8:30PM ET\nAnyone can play\nHosted by William Banks & Chloe Troast \nMust be 21+ to attend
URL:https://thecomedybureau.com/show/pump-up-the-jam-brooklyn-comedy-collective-in-nyc-2-2/2024-03-12/
LOCATION:Brooklyn Comedy Collective\, 167 Graham Avenue\, Brooklyn\, NY\, 11206\, United States
CATEGORIES:Improv Jam,New York,New York Open Mics,Open Mic
GEO:40.7077178;-73.9436219
X-APPLE-STRUCTURED-LOCATION;VALUE=URI;X-ADDRESS=Brooklyn Comedy Collective 167 Graham Avenue Brooklyn NY 11206 United States;X-APPLE-RADIUS=500;X-TITLE=167 Graham Avenue:geo:-73.9436219,40.7077178
END:VEVENT
BEGIN:VEVENT
DTSTART;TZID=America/New_York:20240312T203000
DTEND;TZID=America/New_York:20240312T220000
DTSTAMP:20260424T201546
CREATED:20240106T232221Z
LAST-MODIFIED:20240325T021147Z
UID:10011433-1710275400-1710280800@thecomedybureau.com
SUMMARY:I Made You a Playlist (in NYC)
DESCRIPTION:“I Made You a Playlist” is a free weekly comedy show and dance party hosted by Kelly Bachman (FX\, Hulu)\, every Tuesday\, 7:30PM at The Three Diamond Door in Bushwick\, Brooklyn. The showcase will feature a rotating lineup of New York’s best stand-up comics\, and a dance party with a newly themed ‘playlist’ curated by Kelly every week (throwbacks\, versus nights and more). \nFeaturing for 3/26: \nAndrew Youngblood\nJen Gitness\nMaggie Crane\nConor Janda\nJ Smitty \nProduced by Kelly Bachman\, Jaffer Khan\, & Olivia Amerling \nDoors at 8PM ET/ Show at 8:30PM ET.
URL:https://thecomedybureau.com/show/i-made-you-a-playlist-in-nyc-2-2/2024-03-12/
LOCATION:The Three Diamond Door\, 211 Knickerbocker Avenue\, Brooklyn\, NY\, 11237\, United States
CATEGORIES:Comedy Show,New York,New York Shows,Stand Up
GEO:40.703455;-73.9262229
X-APPLE-STRUCTURED-LOCATION;VALUE=URI;X-ADDRESS=The Three Diamond Door 211 Knickerbocker Avenue Brooklyn NY 11237 United States;X-APPLE-RADIUS=500;X-TITLE=211 Knickerbocker Avenue:geo:-73.9262229,40.703455
END:VEVENT
BEGIN:VEVENT
DTSTART;TZID=America/New_York:20240312T213000
DTEND;TZID=America/New_York:20240312T233000
DTSTAMP:20260424T201546
CREATED:20231128T180646Z
LAST-MODIFIED:20260330T064719Z
UID:10012851-1710279000-1710286200@thecomedybureau.com
SUMMARY:FRIGID Open Mic @ Under St Marks Theater (in NYC)
DESCRIPTION:Starts 9:30PM ET\n7 min.\nMixed mic (all performers welcome)
URL:https://thecomedybureau.com/show/frigid-open-mic-under-st-marks-theater-in-nyc-2-2/2024-03-12/
LOCATION:Under St. Marks Theater\, 94 Saint Marks Place\, New York\, NY\, 10009\, United States
CATEGORIES:New York,New York Open Mics,Open Mic
GEO:40.7272968;-73.9849712
X-APPLE-STRUCTURED-LOCATION;VALUE=URI;X-ADDRESS=Under St. Marks Theater 94 Saint Marks Place New York NY 10009 United States;X-APPLE-RADIUS=500;X-TITLE=94 Saint Marks Place:geo:-73.9849712,40.7272968
END:VEVENT
BEGIN:VEVENT
DTSTART;TZID=America/New_York:20240312T214500
DTEND;TZID=America/New_York:20240312T233000
DTSTAMP:20260424T201546
CREATED:20240102T035406Z
LAST-MODIFIED:20250629T070902Z
UID:10012763-1710279900-1710286200@thecomedybureau.com
SUMMARY:Eastville Comedy Club (in NYC)
DESCRIPTION:Sign-up 9:15PM ET\nStarts 9:45PM ET\nEnds 11:30PM ET\n5 min.\n1 item min. to perform\nShow up\, go up
URL:https://thecomedybureau.com/show/eastville-comedy-club-in-nyc-51-2-2-3/2024-03-12/
LOCATION:Eastville Comedy Club\, 487 Atlantic Avenue\, Brooklyn\, NY\, 11217\, United States
CATEGORIES:New York,New York Open Mics,Open Mic,Standard
GEO:40.6859214;-73.9816178
X-APPLE-STRUCTURED-LOCATION;VALUE=URI;X-ADDRESS=Eastville Comedy Club 487 Atlantic Avenue Brooklyn NY 11217 United States;X-APPLE-RADIUS=500;X-TITLE=487 Atlantic Avenue:geo:-73.9816178,40.6859214
END:VEVENT
BEGIN:VEVENT
DTSTART;TZID=America/New_York:20240312T220000
DTEND;TZID=America/New_York:20240312T233000
DTSTAMP:20260424T201546
CREATED:20231218T193453Z
LAST-MODIFIED:20251220T024654Z
UID:10012779-1710280800-1710286200@thecomedybureau.com
SUMMARY:The Tiny Cupboard (in NYC)
DESCRIPTION:Starts at 10PM ET\nShow up\, go up\n$2 to perform\nMixed mic (comedy\, music poetry)\nShow up go up*\nSign-up details and list of hosts available at thetinycupboard.com/open-mics/
URL:https://thecomedybureau.com/show/the-tiny-cupboard-in-nyc-247-2-2-2/2024-03-12/
LOCATION:The Tiny Cupboard\, 1717 Broadway #315\, Brooklyn\, NY\, 11207\, United States
CATEGORIES:New York,New York Open Mics,Open Mic
GEO:40.6835998;-73.911137
X-APPLE-STRUCTURED-LOCATION;VALUE=URI;X-ADDRESS=The Tiny Cupboard 1717 Broadway #315 Brooklyn NY 11207 United States;X-APPLE-RADIUS=500;X-TITLE=1717 Broadway #315:geo:-73.911137,40.6835998
END:VEVENT
BEGIN:VEVENT
DTSTART;TZID=America/New_York:20240312T230000
DTEND;TZID=America/New_York:20240313T003000
DTSTAMP:20260424T201546
CREATED:20231128T180728Z
LAST-MODIFIED:20240924T021151Z
UID:10012855-1710284400-1710289800@thecomedybureau.com
SUMMARY:Young Ethel's (in NYC)
DESCRIPTION:Starts 11PM ET\n5 min.\nFREE\nSign-up in advance with Val “boderpa” Bodurtha on 1st and 3rd tuesdays and Matt Vita on 2nd and 4th tuesdays
URL:https://thecomedybureau.com/show/young-ethels-in-nyc-2-2/2024-03-12/
LOCATION:Young Ethel’s\, 506 5th Avenue\, Brooklyn\, NY\, 11215\, United States
CATEGORIES:New York,New York Open Mics,Open Mic
GEO:40.6672238;-73.988263
X-APPLE-STRUCTURED-LOCATION;VALUE=URI;X-ADDRESS=Young Ethel’s 506 5th Avenue Brooklyn NY 11215 United States;X-APPLE-RADIUS=500;X-TITLE=506 5th Avenue:geo:-73.988263,40.6672238
END:VEVENT
BEGIN:VEVENT
DTSTART;TZID=America/Los_Angeles:20240312T235900
DTEND;TZID=America/Los_Angeles:20240313T013000
DTSTAMP:20260424T201546
CREATED:20231218T193611Z
LAST-MODIFIED:20251228T080000Z
UID:10012859-1710287940-1710293400@thecomedybureau.com
SUMMARY:McLoughlin's (in NYC)
DESCRIPTION:Starts 11:59PM ET\n5-7 min.\nHosted by Brady Hold\nFREE
URL:https://thecomedybureau.com/show/mcloughlins-in-nyc-30-2-2-2/2024-03-12/
LOCATION:McLoughlin’s\, 3106 Broadway\, Queens\, NY\, 11106\, United States
CATEGORIES:New York,New York Open Mics,Open Mic
GEO:40.7617875;-73.9251638
X-APPLE-STRUCTURED-LOCATION;VALUE=URI;X-ADDRESS=McLoughlin’s 3106 Broadway Queens NY 11106 United States;X-APPLE-RADIUS=500;X-TITLE=3106 Broadway:geo:-73.9251638,40.7617875
END:VEVENT
BEGIN:VEVENT
DTSTART;TZID=America/New_York:20240313T173000
DTEND;TZID=America/New_York:20240313T190000
DTSTAMP:20260424T201546
CREATED:20231218T191524Z
LAST-MODIFIED:20250629T070438Z
UID:10012656-1710351000-1710356400@thecomedybureau.com
SUMMARY:The Tiny Cupboard (in NYC)
DESCRIPTION:Starts at 5:30PM\nShow up\, go up\n$2 to perform\nMixed mic (comedy\, music poetry)\nShow up go up*\nSign-up details and list of hosts available at thetinycupboard.com/open-mics/
URL:https://thecomedybureau.com/show/the-tiny-cupboard-in-nyc-209-2-2-2/2024-03-13/
LOCATION:The Tiny Cupboard\, 1717 Broadway #315\, Brooklyn\, NY\, 11207\, United States
CATEGORIES:New York,New York Open Mics,Open Mic
GEO:40.6835998;-73.911137
X-APPLE-STRUCTURED-LOCATION;VALUE=URI;X-ADDRESS=The Tiny Cupboard 1717 Broadway #315 Brooklyn NY 11207 United States;X-APPLE-RADIUS=500;X-TITLE=1717 Broadway #315:geo:-73.911137,40.6835998
END:VEVENT
BEGIN:VEVENT
DTSTART;TZID=America/New_York:20240313T180000
DTEND;TZID=America/New_York:20240313T193000
DTSTAMP:20260424T201546
CREATED:20220202T182523Z
LAST-MODIFIED:20250130T030250Z
UID:10012972-1710352800-1710358200@thecomedybureau.com
SUMMARY:Q.E.D. Astoria (in NYC)
DESCRIPTION:Sign-up 5:30PM ET\nStarts 6PM ET\nEnds 7:20PM ET\n3-5 min. depending on turnout
URL:https://thecomedybureau.com/show/q-e-d-astoria-in-nyc-76/2024-03-13/
LOCATION:Q.E.D. Astoria\, 27-16 23rd Avenue\, Queens\, NY\, 11105\, United States
CATEGORIES:New York,New York Open Mics,Open Mic
GEO:40.7755628;-73.9148992
X-APPLE-STRUCTURED-LOCATION;VALUE=URI;X-ADDRESS=Q.E.D. Astoria 27-16 23rd Avenue Queens NY 11105 United States;X-APPLE-RADIUS=500;X-TITLE=27-16 23rd Avenue:geo:-73.9148992,40.7755628
END:VEVENT
BEGIN:VEVENT
DTSTART;TZID=America/Los_Angeles:20240313T180000
DTEND;TZID=America/Los_Angeles:20240313T200000
DTSTAMP:20260424T201546
CREATED:20231218T192456Z
LAST-MODIFIED:20241021T161615Z
UID:10012684-1710352800-1710360000@thecomedybureau.com
SUMMARY:Eastville Comedy Club (in NYC)
DESCRIPTION:Sign-up 5:30PM ET\nStarts 6PM ET\nEnds 7:45PM ET\n5 min.\n1 item min. to perform\nShow up\, go up
URL:https://thecomedybureau.com/show/eastville-comedy-club-in-nyc-51-2-2-2/2024-03-13/
LOCATION:Eastville Comedy Club\, 487 Atlantic Avenue\, Brooklyn\, NY\, 11217\, United States
CATEGORIES:New York,New York Open Mics,Open Mic,Standard
GEO:40.6859214;-73.9816178
X-APPLE-STRUCTURED-LOCATION;VALUE=URI;X-ADDRESS=Eastville Comedy Club 487 Atlantic Avenue Brooklyn NY 11217 United States;X-APPLE-RADIUS=500;X-TITLE=487 Atlantic Avenue:geo:-73.9816178,40.6859214
END:VEVENT
BEGIN:VEVENT
DTSTART;TZID=America/New_York:20240313T190000
DTEND;TZID=America/New_York:20240313T203000
DTSTAMP:20260424T201546
CREATED:20231218T192643Z
LAST-MODIFIED:20241126T043529Z
UID:10012704-1710356400-1710361800@thecomedybureau.com
SUMMARY:The Tiny Cupboard (in NYC)
DESCRIPTION:Starts at 7PM ET\nShow up\, go up\n$2 to perform\nMixed mic (comedy\, music poetry)\nShow up go up*\nSign-up details and list of hosts available at thetinycupboard.com/open-mics/
URL:https://thecomedybureau.com/show/the-tiny-cupboard-in-nyc-245-2-2-2/2024-03-13/
LOCATION:The Tiny Cupboard\, 1717 Broadway #315\, Brooklyn\, NY\, 11207\, United States
CATEGORIES:New York,New York Open Mics,Open Mic
GEO:40.6835998;-73.911137
X-APPLE-STRUCTURED-LOCATION;VALUE=URI;X-ADDRESS=The Tiny Cupboard 1717 Broadway #315 Brooklyn NY 11207 United States;X-APPLE-RADIUS=500;X-TITLE=1717 Broadway #315:geo:-73.911137,40.6835998
END:VEVENT
BEGIN:VEVENT
DTSTART;TZID=America/New_York:20240313T193000
DTEND;TZID=America/New_York:20240313T210000
DTSTAMP:20260424T201546
CREATED:20240103T164449Z
LAST-MODIFIED:20241218T175310Z
UID:10011337-1710358200-1710363600@thecomedybureau.com
SUMMARY:We Have Fun (in NYC)
DESCRIPTION:Zach Sims (Comedy Central\, Sirius XM) and Dan Wilbur (How Not To Read\, The Onion) team up for a weekly stand-up show featuring the best comics from NYC and around the country. Lineups include comedians featured on The Late Show\, Conan\, Comedy Central\, and more! \nThe show is in the beautiful backroom of Young Ethel’s in Park Slope. \nFeaturing for 12/18 \nJudah Friedlander (30 Rock\, American Splendor)\nPeter Grosz (NPR’s Wait Wait…)\nChristiana Jackson (Cash Cab)\nJay Nog (MTV)\nJim Tews (FX) \nStarts 7:30PM ET
URL:https://thecomedybureau.com/show/we-have-fun-in-nyc-2-2-2/2024-03-13/
LOCATION:Young Ethel’s\, 506 5th Avenue\, Brooklyn\, NY\, 11215\, United States
CATEGORIES:Comedy Show,New York,New York Shows,Puppets,Stand Up
GEO:40.6672238;-73.988263
X-APPLE-STRUCTURED-LOCATION;VALUE=URI;X-ADDRESS=Young Ethel’s 506 5th Avenue Brooklyn NY 11215 United States;X-APPLE-RADIUS=500;X-TITLE=506 5th Avenue:geo:-73.988263,40.6672238
END:VEVENT
BEGIN:VEVENT
DTSTART;TZID=America/New_York:20240313T200000
DTEND;TZID=America/New_York:20240313T213000
DTSTAMP:20260424T201546
CREATED:20240310T032116Z
LAST-MODIFIED:20240414T235540Z
UID:10009755-1710360000-1710365400@thecomedybureau.com
SUMMARY:The Village Idiot (in NYC)
DESCRIPTION:Featuring stand-up from: Derek Gaines\, Casey Balsham\, Danny Braff\, and Cody Marino \nMusic by Justin Garcia \nPresented by Andrew Ginsberg & Isaac Gartenberg \nDoors 7:30PM ET
URL:https://thecomedybureau.com/show/the-village-idiot-in-nyc-2-2-2/2024-03-13/
LOCATION:Juke Bar\, 196 2nd Avenue\, New York\, NY\, 10003\, United States
CATEGORIES:Comedy Show,New York,New York Shows,Stand Up
GEO:40.7310212;-73.9855281
X-APPLE-STRUCTURED-LOCATION;VALUE=URI;X-ADDRESS=Juke Bar 196 2nd Avenue New York NY 10003 United States;X-APPLE-RADIUS=500;X-TITLE=196 2nd Avenue:geo:-73.9855281,40.7310212
END:VEVENT
BEGIN:VEVENT
DTSTART;TZID=America/New_York:20240313T214500
DTEND;TZID=America/New_York:20240313T233000
DTSTAMP:20260424T201546
CREATED:20240102T035406Z
LAST-MODIFIED:20250629T070902Z
UID:10012764-1710366300-1710372600@thecomedybureau.com
SUMMARY:Eastville Comedy Club (in NYC)
DESCRIPTION:Sign-up 9:15PM ET\nStarts 9:45PM ET\nEnds 11:30PM ET\n5 min.\n1 item min. to perform\nShow up\, go up
URL:https://thecomedybureau.com/show/eastville-comedy-club-in-nyc-51-2-2-3/2024-03-13/
LOCATION:Eastville Comedy Club\, 487 Atlantic Avenue\, Brooklyn\, NY\, 11217\, United States
CATEGORIES:New York,New York Open Mics,Open Mic,Standard
GEO:40.6859214;-73.9816178
X-APPLE-STRUCTURED-LOCATION;VALUE=URI;X-ADDRESS=Eastville Comedy Club 487 Atlantic Avenue Brooklyn NY 11217 United States;X-APPLE-RADIUS=500;X-TITLE=487 Atlantic Avenue:geo:-73.9816178,40.6859214
END:VEVENT
BEGIN:VEVENT
DTSTART;TZID=America/New_York:20240313T220000
DTEND;TZID=America/New_York:20240313T233000
DTSTAMP:20260424T201546
CREATED:20231218T193453Z
LAST-MODIFIED:20251220T024654Z
UID:10012780-1710367200-1710372600@thecomedybureau.com
SUMMARY:The Tiny Cupboard (in NYC)
DESCRIPTION:Starts at 10PM ET\nShow up\, go up\n$2 to perform\nMixed mic (comedy\, music poetry)\nShow up go up*\nSign-up details and list of hosts available at thetinycupboard.com/open-mics/
URL:https://thecomedybureau.com/show/the-tiny-cupboard-in-nyc-247-2-2-2/2024-03-13/
LOCATION:The Tiny Cupboard\, 1717 Broadway #315\, Brooklyn\, NY\, 11207\, United States
CATEGORIES:New York,New York Open Mics,Open Mic
GEO:40.6835998;-73.911137
X-APPLE-STRUCTURED-LOCATION;VALUE=URI;X-ADDRESS=The Tiny Cupboard 1717 Broadway #315 Brooklyn NY 11207 United States;X-APPLE-RADIUS=500;X-TITLE=1717 Broadway #315:geo:-73.911137,40.6835998
END:VEVENT
END:VCALENDAR