BEGIN:VCALENDAR
VERSION:2.0
PRODID:-//The Comedy Bureau - ECPv6.15.18//NONSGML v1.0//EN
CALSCALE:GREGORIAN
METHOD:PUBLISH
X-ORIGINAL-URL:https://thecomedybureau.com
X-WR-CALDESC:Events for The Comedy Bureau
REFRESH-INTERVAL;VALUE=DURATION:PT1H
X-Robots-Tag:noindex
X-PUBLISHED-TTL:PT1H
BEGIN:VTIMEZONE
TZID:America/New_York
BEGIN:DAYLIGHT
TZOFFSETFROM:-0500
TZOFFSETTO:-0400
TZNAME:EDT
DTSTART:20220313T070000
END:DAYLIGHT
BEGIN:STANDARD
TZOFFSETFROM:-0400
TZOFFSETTO:-0500
TZNAME:EST
DTSTART:20221106T060000
END:STANDARD
BEGIN:DAYLIGHT
TZOFFSETFROM:-0500
TZOFFSETTO:-0400
TZNAME:EDT
DTSTART:20230312T070000
END:DAYLIGHT
BEGIN:STANDARD
TZOFFSETFROM:-0400
TZOFFSETTO:-0500
TZNAME:EST
DTSTART:20231105T060000
END:STANDARD
BEGIN:DAYLIGHT
TZOFFSETFROM:-0500
TZOFFSETTO:-0400
TZNAME:EDT
DTSTART:20240310T070000
END:DAYLIGHT
BEGIN:STANDARD
TZOFFSETFROM:-0400
TZOFFSETTO:-0500
TZNAME:EST
DTSTART:20241103T060000
END:STANDARD
END:VTIMEZONE
BEGIN:VTIMEZONE
TZID:America/Los_Angeles
BEGIN:DAYLIGHT
TZOFFSETFROM:-0800
TZOFFSETTO:-0700
TZNAME:PDT
DTSTART:20220313T100000
END:DAYLIGHT
BEGIN:STANDARD
TZOFFSETFROM:-0700
TZOFFSETTO:-0800
TZNAME:PST
DTSTART:20221106T090000
END:STANDARD
BEGIN:DAYLIGHT
TZOFFSETFROM:-0800
TZOFFSETTO:-0700
TZNAME:PDT
DTSTART:20230312T100000
END:DAYLIGHT
BEGIN:STANDARD
TZOFFSETFROM:-0700
TZOFFSETTO:-0800
TZNAME:PST
DTSTART:20231105T090000
END:STANDARD
BEGIN:DAYLIGHT
TZOFFSETFROM:-0800
TZOFFSETTO:-0700
TZNAME:PDT
DTSTART:20240310T100000
END:DAYLIGHT
BEGIN:STANDARD
TZOFFSETFROM:-0700
TZOFFSETTO:-0800
TZNAME:PST
DTSTART:20241103T090000
END:STANDARD
END:VTIMEZONE
BEGIN:VEVENT
DTSTART;TZID=America/New_York:20231221T190000
DTEND;TZID=America/New_York:20231221T203000
DTSTAMP:20260422T150215
CREATED:20231218T192643Z
LAST-MODIFIED:20241126T043529Z
UID:10007483-1703185200-1703190600@thecomedybureau.com
SUMMARY:The Tiny Cupboard (in NYC)
DESCRIPTION:Starts at 7PM ET\nShow up\, go up\n$2 to perform\nMixed mic (comedy\, music poetry)\nShow up go up*\nSign-up details and list of hosts available at thetinycupboard.com/open-mics/
URL:https://thecomedybureau.com/show/the-tiny-cupboard-in-nyc-245-2-2-2/2023-12-21/
LOCATION:The Tiny Cupboard\, 1717 Broadway #315\, Brooklyn\, NY\, 11207\, United States
CATEGORIES:New York,New York Open Mics,Open Mic
GEO:40.6835998;-73.911137
X-APPLE-STRUCTURED-LOCATION;VALUE=URI;X-ADDRESS=The Tiny Cupboard 1717 Broadway #315 Brooklyn NY 11207 United States;X-APPLE-RADIUS=500;X-TITLE=1717 Broadway #315:geo:-73.911137,40.6835998
END:VEVENT
BEGIN:VEVENT
DTSTART;TZID=America/Los_Angeles:20231221T190000
DTEND;TZID=America/Los_Angeles:20231221T210000
DTSTAMP:20260422T150215
CREATED:20231128T175646Z
LAST-MODIFIED:20260330T080003Z
UID:10007547-1703185200-1703192400@thecomedybureau.com
SUMMARY:Comedians on the Loose @ Black Cat LES (in NYC)
DESCRIPTION:Starts 7PM ET\nSign-up in advance at https://www.comediansontheloose.com/open-mics\n5-7 min.\n$5 to perform\nHosted by Sonja Savanovic
URL:https://thecomedybureau.com/show/comedians-on-the-loose-black-cat-les-in-nyc-54-2-2/2023-12-21/
LOCATION:Black Cat LES\, 172 Rivington Street\, New York\, NY\, 10002\, United States
CATEGORIES:New York,New York Open Mics,Open Mic,Standard
GEO:40.7191658;-73.9845007
X-APPLE-STRUCTURED-LOCATION;VALUE=URI;X-ADDRESS=Black Cat LES 172 Rivington Street New York NY 10002 United States;X-APPLE-RADIUS=500;X-TITLE=172 Rivington Street:geo:-73.9845007,40.7191658
END:VEVENT
BEGIN:VEVENT
DTSTART;TZID=America/Los_Angeles:20231221T210000
DTEND;TZID=America/Los_Angeles:20231221T230000
DTSTAMP:20260422T150215
CREATED:20231128T180536Z
LAST-MODIFIED:20260330T075826Z
UID:10007634-1703192400-1703199600@thecomedybureau.com
SUMMARY:Comedians on the Loose @ Black Cat LES (in NYC)
DESCRIPTION:Starts 9PM ET\nSign-up in advance at https://www.comediansontheloose.com/open-mics\n5-7 min.\n$5 to perform\nHosted by Sonja Savanovic
URL:https://thecomedybureau.com/show/comedians-on-the-loose-black-cat-les-in-nyc-59-2-2/2023-12-21/
LOCATION:Black Cat LES\, 172 Rivington Street\, New York\, NY\, 10002\, United States
CATEGORIES:New York,New York Open Mics,Open Mic
GEO:40.7191658;-73.9845007
X-APPLE-STRUCTURED-LOCATION;VALUE=URI;X-ADDRESS=Black Cat LES 172 Rivington Street New York NY 10002 United States;X-APPLE-RADIUS=500;X-TITLE=172 Rivington Street:geo:-73.9845007,40.7191658
END:VEVENT
BEGIN:VEVENT
DTSTART;TZID=America/New_York:20231221T220000
DTEND;TZID=America/New_York:20231221T233000
DTSTAMP:20260422T150215
CREATED:20231218T193453Z
LAST-MODIFIED:20251220T024654Z
UID:10007663-1703196000-1703201400@thecomedybureau.com
SUMMARY:The Tiny Cupboard (in NYC)
DESCRIPTION:Starts at 10PM ET\nShow up\, go up\n$2 to perform\nMixed mic (comedy\, music poetry)\nShow up go up*\nSign-up details and list of hosts available at thetinycupboard.com/open-mics/
URL:https://thecomedybureau.com/show/the-tiny-cupboard-in-nyc-247-2-2-2/2023-12-21/
LOCATION:The Tiny Cupboard\, 1717 Broadway #315\, Brooklyn\, NY\, 11207\, United States
CATEGORIES:New York,New York Open Mics,Open Mic
GEO:40.6835998;-73.911137
X-APPLE-STRUCTURED-LOCATION;VALUE=URI;X-ADDRESS=The Tiny Cupboard 1717 Broadway #315 Brooklyn NY 11207 United States;X-APPLE-RADIUS=500;X-TITLE=1717 Broadway #315:geo:-73.911137,40.6835998
END:VEVENT
BEGIN:VEVENT
DTSTART;TZID=America/New_York:20231222T173000
DTEND;TZID=America/New_York:20231222T190000
DTSTAMP:20260422T150215
CREATED:20231218T191524Z
LAST-MODIFIED:20250629T070438Z
UID:10007371-1703266200-1703271600@thecomedybureau.com
SUMMARY:The Tiny Cupboard (in NYC)
DESCRIPTION:Starts at 5:30PM\nShow up\, go up\n$2 to perform\nMixed mic (comedy\, music poetry)\nShow up go up*\nSign-up details and list of hosts available at thetinycupboard.com/open-mics/
URL:https://thecomedybureau.com/show/the-tiny-cupboard-in-nyc-209-2-2-2/2023-12-22/
LOCATION:The Tiny Cupboard\, 1717 Broadway #315\, Brooklyn\, NY\, 11207\, United States
CATEGORIES:New York,New York Open Mics,Open Mic
GEO:40.6835998;-73.911137
X-APPLE-STRUCTURED-LOCATION;VALUE=URI;X-ADDRESS=The Tiny Cupboard 1717 Broadway #315 Brooklyn NY 11207 United States;X-APPLE-RADIUS=500;X-TITLE=1717 Broadway #315:geo:-73.911137,40.6835998
END:VEVENT
BEGIN:VEVENT
DTSTART;TZID=America/Los_Angeles:20231222T180000
DTEND;TZID=America/Los_Angeles:20231222T200000
DTSTAMP:20260422T150215
CREATED:20231218T192340Z
LAST-MODIFIED:20231218T192420Z
UID:10007422-1703268000-1703275200@thecomedybureau.com
SUMMARY:Grove 34 (in NYC)
DESCRIPTION:Starts 6PM ET\n3 min.\n$5 for 4 min. & a drink\nLottery\nEveryone goes up \n*weekly schedule\, which changes a lot\, posted on IG Stories @grove34studio
URL:https://thecomedybureau.com/show/grove-34-in-nyc-108-2-2-2/2023-12-22/
LOCATION:Grove 34\, 31-83 34th Street\, Queens\, NY\, 11106\, United States
CATEGORIES:New York,New York Open Mics,Open Mic
GEO:40.7610651;-73.9225488
X-APPLE-STRUCTURED-LOCATION;VALUE=URI;X-ADDRESS=Grove 34 31-83 34th Street Queens NY 11106 United States;X-APPLE-RADIUS=500;X-TITLE=31-83 34th Street:geo:-73.9225488,40.7610651
END:VEVENT
BEGIN:VEVENT
DTSTART;TZID=America/New_York:20231222T190000
DTEND;TZID=America/New_York:20231222T203000
DTSTAMP:20260422T150215
CREATED:20231218T192643Z
LAST-MODIFIED:20241126T043529Z
UID:10007484-1703271600-1703277000@thecomedybureau.com
SUMMARY:The Tiny Cupboard (in NYC)
DESCRIPTION:Starts at 7PM ET\nShow up\, go up\n$2 to perform\nMixed mic (comedy\, music poetry)\nShow up go up*\nSign-up details and list of hosts available at thetinycupboard.com/open-mics/
URL:https://thecomedybureau.com/show/the-tiny-cupboard-in-nyc-245-2-2-2/2023-12-22/
LOCATION:The Tiny Cupboard\, 1717 Broadway #315\, Brooklyn\, NY\, 11207\, United States
CATEGORIES:New York,New York Open Mics,Open Mic
GEO:40.6835998;-73.911137
X-APPLE-STRUCTURED-LOCATION;VALUE=URI;X-ADDRESS=The Tiny Cupboard 1717 Broadway #315 Brooklyn NY 11207 United States;X-APPLE-RADIUS=500;X-TITLE=1717 Broadway #315:geo:-73.911137,40.6835998
END:VEVENT
BEGIN:VEVENT
DTSTART;TZID=America/New_York:20231222T220000
DTEND;TZID=America/New_York:20231222T233000
DTSTAMP:20260422T150215
CREATED:20231218T193453Z
LAST-MODIFIED:20251220T024654Z
UID:10007664-1703282400-1703287800@thecomedybureau.com
SUMMARY:The Tiny Cupboard (in NYC)
DESCRIPTION:Starts at 10PM ET\nShow up\, go up\n$2 to perform\nMixed mic (comedy\, music poetry)\nShow up go up*\nSign-up details and list of hosts available at thetinycupboard.com/open-mics/
URL:https://thecomedybureau.com/show/the-tiny-cupboard-in-nyc-247-2-2-2/2023-12-22/
LOCATION:The Tiny Cupboard\, 1717 Broadway #315\, Brooklyn\, NY\, 11207\, United States
CATEGORIES:New York,New York Open Mics,Open Mic
GEO:40.6835998;-73.911137
X-APPLE-STRUCTURED-LOCATION;VALUE=URI;X-ADDRESS=The Tiny Cupboard 1717 Broadway #315 Brooklyn NY 11207 United States;X-APPLE-RADIUS=500;X-TITLE=1717 Broadway #315:geo:-73.911137,40.6835998
END:VEVENT
BEGIN:VEVENT
DTSTART;TZID=America/New_York:20231222T223000
DTEND;TZID=America/New_York:20231223T000000
DTSTAMP:20260422T150215
CREATED:20231116T182420Z
LAST-MODIFIED:20231116T182500Z
UID:10005427-1703284200-1703289600@thecomedybureau.com
SUMMARY:Live at the Barbershop (in NYC)
DESCRIPTION:The show takes place in a real East Village Barbershop (Sometimes On Rooftops) and always featuring killer comics from TV\, special guest drop-ins and amazing crowds. \nFri & Sat. @ 10:30PM ET
URL:https://thecomedybureau.com/show/live-at-the-barbershop-in-nyc-2-2/2023-12-22/
LOCATION:Original Barbershop\, 174 East 2nd Street\, New York\, NY\, 10009\, United States
CATEGORIES:Comedy Show,New York,New York Shows,Stand Up
GEO:40.7226824;-73.9845869
X-APPLE-STRUCTURED-LOCATION;VALUE=URI;X-ADDRESS=Original Barbershop 174 East 2nd Street New York NY 10009 United States;X-APPLE-RADIUS=500;X-TITLE=174 East 2nd Street:geo:-73.9845869,40.7226824
END:VEVENT
BEGIN:VEVENT
DTSTART;TZID=America/New_York:20231223T173000
DTEND;TZID=America/New_York:20231223T190000
DTSTAMP:20260422T150215
CREATED:20231218T191524Z
LAST-MODIFIED:20250629T070438Z
UID:10007372-1703352600-1703358000@thecomedybureau.com
SUMMARY:The Tiny Cupboard (in NYC)
DESCRIPTION:Starts at 5:30PM\nShow up\, go up\n$2 to perform\nMixed mic (comedy\, music poetry)\nShow up go up*\nSign-up details and list of hosts available at thetinycupboard.com/open-mics/
URL:https://thecomedybureau.com/show/the-tiny-cupboard-in-nyc-209-2-2-2/2023-12-23/
LOCATION:The Tiny Cupboard\, 1717 Broadway #315\, Brooklyn\, NY\, 11207\, United States
CATEGORIES:New York,New York Open Mics,Open Mic
GEO:40.6835998;-73.911137
X-APPLE-STRUCTURED-LOCATION;VALUE=URI;X-ADDRESS=The Tiny Cupboard 1717 Broadway #315 Brooklyn NY 11207 United States;X-APPLE-RADIUS=500;X-TITLE=1717 Broadway #315:geo:-73.911137,40.6835998
END:VEVENT
BEGIN:VEVENT
DTSTART;TZID=America/Los_Angeles:20231223T180000
DTEND;TZID=America/Los_Angeles:20231223T200000
DTSTAMP:20260422T150215
CREATED:20231218T192340Z
LAST-MODIFIED:20231218T192420Z
UID:10007423-1703354400-1703361600@thecomedybureau.com
SUMMARY:Grove 34 (in NYC)
DESCRIPTION:Starts 6PM ET\n3 min.\n$5 for 4 min. & a drink\nLottery\nEveryone goes up \n*weekly schedule\, which changes a lot\, posted on IG Stories @grove34studio
URL:https://thecomedybureau.com/show/grove-34-in-nyc-108-2-2-2/2023-12-23/
LOCATION:Grove 34\, 31-83 34th Street\, Queens\, NY\, 11106\, United States
CATEGORIES:New York,New York Open Mics,Open Mic
GEO:40.7610651;-73.9225488
X-APPLE-STRUCTURED-LOCATION;VALUE=URI;X-ADDRESS=Grove 34 31-83 34th Street Queens NY 11106 United States;X-APPLE-RADIUS=500;X-TITLE=31-83 34th Street:geo:-73.9225488,40.7610651
END:VEVENT
BEGIN:VEVENT
DTSTART;TZID=America/New_York:20231223T190000
DTEND;TZID=America/New_York:20231223T203000
DTSTAMP:20260422T150215
CREATED:20231218T192643Z
LAST-MODIFIED:20241126T043529Z
UID:10007485-1703358000-1703363400@thecomedybureau.com
SUMMARY:The Tiny Cupboard (in NYC)
DESCRIPTION:Starts at 7PM ET\nShow up\, go up\n$2 to perform\nMixed mic (comedy\, music poetry)\nShow up go up*\nSign-up details and list of hosts available at thetinycupboard.com/open-mics/
URL:https://thecomedybureau.com/show/the-tiny-cupboard-in-nyc-245-2-2-2/2023-12-23/
LOCATION:The Tiny Cupboard\, 1717 Broadway #315\, Brooklyn\, NY\, 11207\, United States
CATEGORIES:New York,New York Open Mics,Open Mic
GEO:40.6835998;-73.911137
X-APPLE-STRUCTURED-LOCATION;VALUE=URI;X-ADDRESS=The Tiny Cupboard 1717 Broadway #315 Brooklyn NY 11207 United States;X-APPLE-RADIUS=500;X-TITLE=1717 Broadway #315:geo:-73.911137,40.6835998
END:VEVENT
BEGIN:VEVENT
DTSTART;TZID=America/Los_Angeles:20231223T190000
DTEND;TZID=America/Los_Angeles:20231223T210000
DTSTAMP:20260422T150215
CREATED:20231128T175646Z
LAST-MODIFIED:20260330T080003Z
UID:10007548-1703358000-1703365200@thecomedybureau.com
SUMMARY:Comedians on the Loose @ Black Cat LES (in NYC)
DESCRIPTION:Starts 7PM ET\nSign-up in advance at https://www.comediansontheloose.com/open-mics\n5-7 min.\n$5 to perform\nHosted by Sonja Savanovic
URL:https://thecomedybureau.com/show/comedians-on-the-loose-black-cat-les-in-nyc-54-2-2/2023-12-23/
LOCATION:Black Cat LES\, 172 Rivington Street\, New York\, NY\, 10002\, United States
CATEGORIES:New York,New York Open Mics,Open Mic,Standard
GEO:40.7191658;-73.9845007
X-APPLE-STRUCTURED-LOCATION;VALUE=URI;X-ADDRESS=Black Cat LES 172 Rivington Street New York NY 10002 United States;X-APPLE-RADIUS=500;X-TITLE=172 Rivington Street:geo:-73.9845007,40.7191658
END:VEVENT
BEGIN:VEVENT
DTSTART;TZID=America/Los_Angeles:20231223T210000
DTEND;TZID=America/Los_Angeles:20231223T230000
DTSTAMP:20260422T150215
CREATED:20231128T180536Z
LAST-MODIFIED:20260330T075826Z
UID:10007635-1703365200-1703372400@thecomedybureau.com
SUMMARY:Comedians on the Loose @ Black Cat LES (in NYC)
DESCRIPTION:Starts 9PM ET\nSign-up in advance at https://www.comediansontheloose.com/open-mics\n5-7 min.\n$5 to perform\nHosted by Sonja Savanovic
URL:https://thecomedybureau.com/show/comedians-on-the-loose-black-cat-les-in-nyc-59-2-2/2023-12-23/
LOCATION:Black Cat LES\, 172 Rivington Street\, New York\, NY\, 10002\, United States
CATEGORIES:New York,New York Open Mics,Open Mic
GEO:40.7191658;-73.9845007
X-APPLE-STRUCTURED-LOCATION;VALUE=URI;X-ADDRESS=Black Cat LES 172 Rivington Street New York NY 10002 United States;X-APPLE-RADIUS=500;X-TITLE=172 Rivington Street:geo:-73.9845007,40.7191658
END:VEVENT
BEGIN:VEVENT
DTSTART;TZID=America/New_York:20231223T220000
DTEND;TZID=America/New_York:20231223T233000
DTSTAMP:20260422T150215
CREATED:20231218T193453Z
LAST-MODIFIED:20251220T024654Z
UID:10007665-1703368800-1703374200@thecomedybureau.com
SUMMARY:The Tiny Cupboard (in NYC)
DESCRIPTION:Starts at 10PM ET\nShow up\, go up\n$2 to perform\nMixed mic (comedy\, music poetry)\nShow up go up*\nSign-up details and list of hosts available at thetinycupboard.com/open-mics/
URL:https://thecomedybureau.com/show/the-tiny-cupboard-in-nyc-247-2-2-2/2023-12-23/
LOCATION:The Tiny Cupboard\, 1717 Broadway #315\, Brooklyn\, NY\, 11207\, United States
CATEGORIES:New York,New York Open Mics,Open Mic
GEO:40.6835998;-73.911137
X-APPLE-STRUCTURED-LOCATION;VALUE=URI;X-ADDRESS=The Tiny Cupboard 1717 Broadway #315 Brooklyn NY 11207 United States;X-APPLE-RADIUS=500;X-TITLE=1717 Broadway #315:geo:-73.911137,40.6835998
END:VEVENT
BEGIN:VEVENT
DTSTART;TZID=America/New_York:20231224T173000
DTEND;TZID=America/New_York:20231224T190000
DTSTAMP:20260422T150215
CREATED:20231218T191524Z
LAST-MODIFIED:20250629T070438Z
UID:10014180-1703439000-1703444400@thecomedybureau.com
SUMMARY:The Tiny Cupboard (in NYC)
DESCRIPTION:Starts at 5:30PM\nShow up\, go up\n$2 to perform\nMixed mic (comedy\, music poetry)\nShow up go up*\nSign-up details and list of hosts available at thetinycupboard.com/open-mics/
URL:https://thecomedybureau.com/show/the-tiny-cupboard-in-nyc-209-2-2-2/2023-12-24/
LOCATION:The Tiny Cupboard\, 1717 Broadway #315\, Brooklyn\, NY\, 11207\, United States
CATEGORIES:New York,New York Open Mics,Open Mic
GEO:40.6835998;-73.911137
X-APPLE-STRUCTURED-LOCATION;VALUE=URI;X-ADDRESS=The Tiny Cupboard 1717 Broadway #315 Brooklyn NY 11207 United States;X-APPLE-RADIUS=500;X-TITLE=1717 Broadway #315:geo:-73.911137,40.6835998
END:VEVENT
BEGIN:VEVENT
DTSTART;TZID=America/New_York:20231224T190000
DTEND;TZID=America/New_York:20231224T203000
DTSTAMP:20260422T150215
CREATED:20231218T192643Z
LAST-MODIFIED:20241126T043529Z
UID:10012699-1703444400-1703449800@thecomedybureau.com
SUMMARY:The Tiny Cupboard (in NYC)
DESCRIPTION:Starts at 7PM ET\nShow up\, go up\n$2 to perform\nMixed mic (comedy\, music poetry)\nShow up go up*\nSign-up details and list of hosts available at thetinycupboard.com/open-mics/
URL:https://thecomedybureau.com/show/the-tiny-cupboard-in-nyc-245-2-2-2/2023-12-24/
LOCATION:The Tiny Cupboard\, 1717 Broadway #315\, Brooklyn\, NY\, 11207\, United States
CATEGORIES:New York,New York Open Mics,Open Mic
GEO:40.6835998;-73.911137
X-APPLE-STRUCTURED-LOCATION;VALUE=URI;X-ADDRESS=The Tiny Cupboard 1717 Broadway #315 Brooklyn NY 11207 United States;X-APPLE-RADIUS=500;X-TITLE=1717 Broadway #315:geo:-73.911137,40.6835998
END:VEVENT
BEGIN:VEVENT
DTSTART;TZID=America/New_York:20231224T220000
DTEND;TZID=America/New_York:20231224T233000
DTSTAMP:20260422T150215
CREATED:20231218T193453Z
LAST-MODIFIED:20251220T024654Z
UID:10019176-1703455200-1703460600@thecomedybureau.com
SUMMARY:The Tiny Cupboard (in NYC)
DESCRIPTION:Starts at 10PM ET\nShow up\, go up\n$2 to perform\nMixed mic (comedy\, music poetry)\nShow up go up*\nSign-up details and list of hosts available at thetinycupboard.com/open-mics/
URL:https://thecomedybureau.com/show/the-tiny-cupboard-in-nyc-247-2-2-2/2023-12-24/
LOCATION:The Tiny Cupboard\, 1717 Broadway #315\, Brooklyn\, NY\, 11207\, United States
CATEGORIES:New York,New York Open Mics,Open Mic
GEO:40.6835998;-73.911137
X-APPLE-STRUCTURED-LOCATION;VALUE=URI;X-ADDRESS=The Tiny Cupboard 1717 Broadway #315 Brooklyn NY 11207 United States;X-APPLE-RADIUS=500;X-TITLE=1717 Broadway #315:geo:-73.911137,40.6835998
END:VEVENT
BEGIN:VEVENT
DTSTART;TZID=America/New_York:20231225T173000
DTEND;TZID=America/New_York:20231225T190000
DTSTAMP:20260422T150215
CREATED:20231218T191524Z
LAST-MODIFIED:20250629T070438Z
UID:10014181-1703525400-1703530800@thecomedybureau.com
SUMMARY:The Tiny Cupboard (in NYC)
DESCRIPTION:Starts at 5:30PM\nShow up\, go up\n$2 to perform\nMixed mic (comedy\, music poetry)\nShow up go up*\nSign-up details and list of hosts available at thetinycupboard.com/open-mics/
URL:https://thecomedybureau.com/show/the-tiny-cupboard-in-nyc-209-2-2-2/2023-12-25/
LOCATION:The Tiny Cupboard\, 1717 Broadway #315\, Brooklyn\, NY\, 11207\, United States
CATEGORIES:New York,New York Open Mics,Open Mic
GEO:40.6835998;-73.911137
X-APPLE-STRUCTURED-LOCATION;VALUE=URI;X-ADDRESS=The Tiny Cupboard 1717 Broadway #315 Brooklyn NY 11207 United States;X-APPLE-RADIUS=500;X-TITLE=1717 Broadway #315:geo:-73.911137,40.6835998
END:VEVENT
BEGIN:VEVENT
DTSTART;TZID=America/Los_Angeles:20231225T180000
DTEND;TZID=America/Los_Angeles:20231225T200000
DTSTAMP:20260422T150215
CREATED:20231218T192456Z
LAST-MODIFIED:20241021T161615Z
UID:10008799-1703527200-1703534400@thecomedybureau.com
SUMMARY:Eastville Comedy Club (in NYC)
DESCRIPTION:Sign-up 5:30PM ET\nStarts 6PM ET\nEnds 7:45PM ET\n5 min.\n1 item min. to perform\nShow up\, go up
URL:https://thecomedybureau.com/show/eastville-comedy-club-in-nyc-51-2-2-2/2023-12-25/
LOCATION:Eastville Comedy Club\, 487 Atlantic Avenue\, Brooklyn\, NY\, 11217\, United States
CATEGORIES:New York,New York Open Mics,Open Mic,Standard
GEO:40.6859214;-73.9816178
X-APPLE-STRUCTURED-LOCATION;VALUE=URI;X-ADDRESS=Eastville Comedy Club 487 Atlantic Avenue Brooklyn NY 11217 United States;X-APPLE-RADIUS=500;X-TITLE=487 Atlantic Avenue:geo:-73.9816178,40.6859214
END:VEVENT
BEGIN:VEVENT
DTSTART;TZID=America/New_York:20231225T190000
DTEND;TZID=America/New_York:20231225T203000
DTSTAMP:20260422T150215
CREATED:20231218T192643Z
LAST-MODIFIED:20241126T043529Z
UID:10012700-1703530800-1703536200@thecomedybureau.com
SUMMARY:The Tiny Cupboard (in NYC)
DESCRIPTION:Starts at 7PM ET\nShow up\, go up\n$2 to perform\nMixed mic (comedy\, music poetry)\nShow up go up*\nSign-up details and list of hosts available at thetinycupboard.com/open-mics/
URL:https://thecomedybureau.com/show/the-tiny-cupboard-in-nyc-245-2-2-2/2023-12-25/
LOCATION:The Tiny Cupboard\, 1717 Broadway #315\, Brooklyn\, NY\, 11207\, United States
CATEGORIES:New York,New York Open Mics,Open Mic
GEO:40.6835998;-73.911137
X-APPLE-STRUCTURED-LOCATION;VALUE=URI;X-ADDRESS=The Tiny Cupboard 1717 Broadway #315 Brooklyn NY 11207 United States;X-APPLE-RADIUS=500;X-TITLE=1717 Broadway #315:geo:-73.911137,40.6835998
END:VEVENT
BEGIN:VEVENT
DTSTART;TZID=America/New_York:20231225T220000
DTEND;TZID=America/New_York:20231225T233000
DTSTAMP:20260422T150215
CREATED:20231218T193453Z
LAST-MODIFIED:20251220T024654Z
UID:10019177-1703541600-1703547000@thecomedybureau.com
SUMMARY:The Tiny Cupboard (in NYC)
DESCRIPTION:Starts at 10PM ET\nShow up\, go up\n$2 to perform\nMixed mic (comedy\, music poetry)\nShow up go up*\nSign-up details and list of hosts available at thetinycupboard.com/open-mics/
URL:https://thecomedybureau.com/show/the-tiny-cupboard-in-nyc-247-2-2-2/2023-12-25/
LOCATION:The Tiny Cupboard\, 1717 Broadway #315\, Brooklyn\, NY\, 11207\, United States
CATEGORIES:New York,New York Open Mics,Open Mic
GEO:40.6835998;-73.911137
X-APPLE-STRUCTURED-LOCATION;VALUE=URI;X-ADDRESS=The Tiny Cupboard 1717 Broadway #315 Brooklyn NY 11207 United States;X-APPLE-RADIUS=500;X-TITLE=1717 Broadway #315:geo:-73.911137,40.6835998
END:VEVENT
BEGIN:VEVENT
DTSTART;TZID=America/New_York:20231226T173000
DTEND;TZID=America/New_York:20231226T190000
DTSTAMP:20260422T150215
CREATED:20231218T191524Z
LAST-MODIFIED:20250629T070438Z
UID:10007373-1703611800-1703617200@thecomedybureau.com
SUMMARY:The Tiny Cupboard (in NYC)
DESCRIPTION:Starts at 5:30PM\nShow up\, go up\n$2 to perform\nMixed mic (comedy\, music poetry)\nShow up go up*\nSign-up details and list of hosts available at thetinycupboard.com/open-mics/
URL:https://thecomedybureau.com/show/the-tiny-cupboard-in-nyc-209-2-2-2/2023-12-26/
LOCATION:The Tiny Cupboard\, 1717 Broadway #315\, Brooklyn\, NY\, 11207\, United States
CATEGORIES:New York,New York Open Mics,Open Mic
GEO:40.6835998;-73.911137
X-APPLE-STRUCTURED-LOCATION;VALUE=URI;X-ADDRESS=The Tiny Cupboard 1717 Broadway #315 Brooklyn NY 11207 United States;X-APPLE-RADIUS=500;X-TITLE=1717 Broadway #315:geo:-73.911137,40.6835998
END:VEVENT
BEGIN:VEVENT
DTSTART;TZID=America/Los_Angeles:20231226T180000
DTEND;TZID=America/Los_Angeles:20231226T200000
DTSTAMP:20260422T150215
CREATED:20231218T192456Z
LAST-MODIFIED:20241021T161615Z
UID:10007468-1703613600-1703620800@thecomedybureau.com
SUMMARY:Eastville Comedy Club (in NYC)
DESCRIPTION:Sign-up 5:30PM ET\nStarts 6PM ET\nEnds 7:45PM ET\n5 min.\n1 item min. to perform\nShow up\, go up
URL:https://thecomedybureau.com/show/eastville-comedy-club-in-nyc-51-2-2-2/2023-12-26/
LOCATION:Eastville Comedy Club\, 487 Atlantic Avenue\, Brooklyn\, NY\, 11217\, United States
CATEGORIES:New York,New York Open Mics,Open Mic,Standard
GEO:40.6859214;-73.9816178
X-APPLE-STRUCTURED-LOCATION;VALUE=URI;X-ADDRESS=Eastville Comedy Club 487 Atlantic Avenue Brooklyn NY 11217 United States;X-APPLE-RADIUS=500;X-TITLE=487 Atlantic Avenue:geo:-73.9816178,40.6859214
END:VEVENT
BEGIN:VEVENT
DTSTART;TZID=America/Los_Angeles:20231226T180000
DTEND;TZID=America/Los_Angeles:20231226T200000
DTSTAMP:20260422T150215
CREATED:20231218T192340Z
LAST-MODIFIED:20231218T192420Z
UID:10007426-1703613600-1703620800@thecomedybureau.com
SUMMARY:Grove 34 (in NYC)
DESCRIPTION:Starts 6PM ET\n3 min.\n$5 for 4 min. & a drink\nLottery\nEveryone goes up \n*weekly schedule\, which changes a lot\, posted on IG Stories @grove34studio
URL:https://thecomedybureau.com/show/grove-34-in-nyc-108-2-2-2/2023-12-26/
LOCATION:Grove 34\, 31-83 34th Street\, Queens\, NY\, 11106\, United States
CATEGORIES:New York,New York Open Mics,Open Mic
GEO:40.7610651;-73.9225488
X-APPLE-STRUCTURED-LOCATION;VALUE=URI;X-ADDRESS=Grove 34 31-83 34th Street Queens NY 11106 United States;X-APPLE-RADIUS=500;X-TITLE=31-83 34th Street:geo:-73.9225488,40.7610651
END:VEVENT
BEGIN:VEVENT
DTSTART;TZID=America/New_York:20231226T190000
DTEND;TZID=America/New_York:20231226T203000
DTSTAMP:20260422T150215
CREATED:20231218T192643Z
LAST-MODIFIED:20241126T043529Z
UID:10007486-1703617200-1703622600@thecomedybureau.com
SUMMARY:The Tiny Cupboard (in NYC)
DESCRIPTION:Starts at 7PM ET\nShow up\, go up\n$2 to perform\nMixed mic (comedy\, music poetry)\nShow up go up*\nSign-up details and list of hosts available at thetinycupboard.com/open-mics/
URL:https://thecomedybureau.com/show/the-tiny-cupboard-in-nyc-245-2-2-2/2023-12-26/
LOCATION:The Tiny Cupboard\, 1717 Broadway #315\, Brooklyn\, NY\, 11207\, United States
CATEGORIES:New York,New York Open Mics,Open Mic
GEO:40.6835998;-73.911137
X-APPLE-STRUCTURED-LOCATION;VALUE=URI;X-ADDRESS=The Tiny Cupboard 1717 Broadway #315 Brooklyn NY 11207 United States;X-APPLE-RADIUS=500;X-TITLE=1717 Broadway #315:geo:-73.911137,40.6835998
END:VEVENT
BEGIN:VEVENT
DTSTART;TZID=America/Los_Angeles:20231226T203000
DTEND;TZID=America/Los_Angeles:20231226T213000
DTSTAMP:20260422T150215
CREATED:20231128T180206Z
LAST-MODIFIED:20260330T080301Z
UID:10007582-1703622600-1703626200@thecomedybureau.com
SUMMARY:Pump Up: The Jam @ Brooklyn Comedy Collective (in NYC)
DESCRIPTION:For improv only\nStarts 8:30PM ET\nAnyone can play\nHosted by William Banks & Chloe Troast \nMust be 21+ to attend
URL:https://thecomedybureau.com/show/pump-up-the-jam-brooklyn-comedy-collective-in-nyc-2-2/2023-12-26/
LOCATION:Brooklyn Comedy Collective\, 167 Graham Avenue\, Brooklyn\, NY\, 11206\, United States
CATEGORIES:Improv Jam,New York,New York Open Mics,Open Mic
GEO:40.7077178;-73.9436219
X-APPLE-STRUCTURED-LOCATION;VALUE=URI;X-ADDRESS=Brooklyn Comedy Collective 167 Graham Avenue Brooklyn NY 11206 United States;X-APPLE-RADIUS=500;X-TITLE=167 Graham Avenue:geo:-73.9436219,40.7077178
END:VEVENT
BEGIN:VEVENT
DTSTART;TZID=America/New_York:20231226T213000
DTEND;TZID=America/New_York:20231226T233000
DTSTAMP:20260422T150215
CREATED:20231128T180646Z
LAST-MODIFIED:20260330T064719Z
UID:10007655-1703626200-1703633400@thecomedybureau.com
SUMMARY:FRIGID Open Mic @ Under St Marks Theater (in NYC)
DESCRIPTION:Starts 9:30PM ET\n7 min.\nMixed mic (all performers welcome)
URL:https://thecomedybureau.com/show/frigid-open-mic-under-st-marks-theater-in-nyc-2-2/2023-12-26/
LOCATION:Under St. Marks Theater\, 94 Saint Marks Place\, New York\, NY\, 10009\, United States
CATEGORIES:New York,New York Open Mics,Open Mic
GEO:40.7272968;-73.9849712
X-APPLE-STRUCTURED-LOCATION;VALUE=URI;X-ADDRESS=Under St. Marks Theater 94 Saint Marks Place New York NY 10009 United States;X-APPLE-RADIUS=500;X-TITLE=94 Saint Marks Place:geo:-73.9849712,40.7272968
END:VEVENT
BEGIN:VEVENT
DTSTART;TZID=America/New_York:20231226T220000
DTEND;TZID=America/New_York:20231226T233000
DTSTAMP:20260422T150215
CREATED:20231218T193453Z
LAST-MODIFIED:20251220T024654Z
UID:10007666-1703628000-1703633400@thecomedybureau.com
SUMMARY:The Tiny Cupboard (in NYC)
DESCRIPTION:Starts at 10PM ET\nShow up\, go up\n$2 to perform\nMixed mic (comedy\, music poetry)\nShow up go up*\nSign-up details and list of hosts available at thetinycupboard.com/open-mics/
URL:https://thecomedybureau.com/show/the-tiny-cupboard-in-nyc-247-2-2-2/2023-12-26/
LOCATION:The Tiny Cupboard\, 1717 Broadway #315\, Brooklyn\, NY\, 11207\, United States
CATEGORIES:New York,New York Open Mics,Open Mic
GEO:40.6835998;-73.911137
X-APPLE-STRUCTURED-LOCATION;VALUE=URI;X-ADDRESS=The Tiny Cupboard 1717 Broadway #315 Brooklyn NY 11207 United States;X-APPLE-RADIUS=500;X-TITLE=1717 Broadway #315:geo:-73.911137,40.6835998
END:VEVENT
BEGIN:VEVENT
DTSTART;TZID=America/New_York:20231226T230000
DTEND;TZID=America/New_York:20231227T003000
DTSTAMP:20260422T150215
CREATED:20231128T180728Z
LAST-MODIFIED:20240924T021151Z
UID:10007707-1703631600-1703637000@thecomedybureau.com
SUMMARY:Young Ethel's (in NYC)
DESCRIPTION:Starts 11PM ET\n5 min.\nFREE\nSign-up in advance with Val “boderpa” Bodurtha on 1st and 3rd tuesdays and Matt Vita on 2nd and 4th tuesdays
URL:https://thecomedybureau.com/show/young-ethels-in-nyc-2-2/2023-12-26/
LOCATION:Young Ethel’s\, 506 5th Avenue\, Brooklyn\, NY\, 11215\, United States
CATEGORIES:New York,New York Open Mics,Open Mic
GEO:40.6672238;-73.988263
X-APPLE-STRUCTURED-LOCATION;VALUE=URI;X-ADDRESS=Young Ethel’s 506 5th Avenue Brooklyn NY 11215 United States;X-APPLE-RADIUS=500;X-TITLE=506 5th Avenue:geo:-73.988263,40.6672238
END:VEVENT
END:VCALENDAR