BEGIN:VCALENDAR
VERSION:2.0
PRODID:-//The Comedy Bureau - ECPv6.15.18//NONSGML v1.0//EN
CALSCALE:GREGORIAN
METHOD:PUBLISH
X-WR-CALNAME:The Comedy Bureau
X-ORIGINAL-URL:https://thecomedybureau.com
X-WR-CALDESC:Events for The Comedy Bureau
REFRESH-INTERVAL;VALUE=DURATION:PT1H
X-Robots-Tag:noindex
X-PUBLISHED-TTL:PT1H
BEGIN:VTIMEZONE
TZID:America/Los_Angeles
BEGIN:DAYLIGHT
TZOFFSETFROM:-0800
TZOFFSETTO:-0700
TZNAME:PDT
DTSTART:20220313T100000
END:DAYLIGHT
BEGIN:STANDARD
TZOFFSETFROM:-0700
TZOFFSETTO:-0800
TZNAME:PST
DTSTART:20221106T090000
END:STANDARD
BEGIN:DAYLIGHT
TZOFFSETFROM:-0800
TZOFFSETTO:-0700
TZNAME:PDT
DTSTART:20230312T100000
END:DAYLIGHT
BEGIN:STANDARD
TZOFFSETFROM:-0700
TZOFFSETTO:-0800
TZNAME:PST
DTSTART:20231105T090000
END:STANDARD
BEGIN:DAYLIGHT
TZOFFSETFROM:-0800
TZOFFSETTO:-0700
TZNAME:PDT
DTSTART:20240310T100000
END:DAYLIGHT
BEGIN:STANDARD
TZOFFSETFROM:-0700
TZOFFSETTO:-0800
TZNAME:PST
DTSTART:20241103T090000
END:STANDARD
END:VTIMEZONE
BEGIN:VTIMEZONE
TZID:America/New_York
BEGIN:DAYLIGHT
TZOFFSETFROM:-0500
TZOFFSETTO:-0400
TZNAME:EDT
DTSTART:20220313T070000
END:DAYLIGHT
BEGIN:STANDARD
TZOFFSETFROM:-0400
TZOFFSETTO:-0500
TZNAME:EST
DTSTART:20221106T060000
END:STANDARD
BEGIN:DAYLIGHT
TZOFFSETFROM:-0500
TZOFFSETTO:-0400
TZNAME:EDT
DTSTART:20230312T070000
END:DAYLIGHT
BEGIN:STANDARD
TZOFFSETFROM:-0400
TZOFFSETTO:-0500
TZNAME:EST
DTSTART:20231105T060000
END:STANDARD
BEGIN:DAYLIGHT
TZOFFSETFROM:-0500
TZOFFSETTO:-0400
TZNAME:EDT
DTSTART:20240310T070000
END:DAYLIGHT
BEGIN:STANDARD
TZOFFSETFROM:-0400
TZOFFSETTO:-0500
TZNAME:EST
DTSTART:20241103T060000
END:STANDARD
END:VTIMEZONE
BEGIN:VEVENT
DTSTART;TZID=America/Los_Angeles:20231216T210000
DTEND;TZID=America/Los_Angeles:20231216T230000
DTSTAMP:20260421T233615
CREATED:20231128T180536Z
LAST-MODIFIED:20260330T075826Z
UID:10006307-1702760400-1702767600@thecomedybureau.com
SUMMARY:Comedians on the Loose @ Black Cat LES (in NYC)
DESCRIPTION:Starts 9PM ET\nSign-up in advance at https://www.comediansontheloose.com/open-mics\n5-7 min.\n$5 to perform\nHosted by Sonja Savanovic
URL:https://thecomedybureau.com/show/comedians-on-the-loose-black-cat-les-in-nyc-59-2-2/2023-12-16/
LOCATION:Black Cat LES\, 172 Rivington Street\, New York\, NY\, 10002\, United States
CATEGORIES:New York,New York Open Mics,Open Mic
GEO:40.7191658;-73.9845007
X-APPLE-STRUCTURED-LOCATION;VALUE=URI;X-ADDRESS=Black Cat LES 172 Rivington Street New York NY 10002 United States;X-APPLE-RADIUS=500;X-TITLE=172 Rivington Street:geo:-73.9845007,40.7191658
END:VEVENT
BEGIN:VEVENT
DTSTART;TZID=America/New_York:20231216T223000
DTEND;TZID=America/New_York:20231217T000000
DTSTAMP:20260421T233615
CREATED:20231116T182420Z
LAST-MODIFIED:20231116T182500Z
UID:10005426-1702765800-1702771200@thecomedybureau.com
SUMMARY:Live at the Barbershop (in NYC)
DESCRIPTION:The show takes place in a real East Village Barbershop (Sometimes On Rooftops) and always featuring killer comics from TV\, special guest drop-ins and amazing crowds. \nFri & Sat. @ 10:30PM ET
URL:https://thecomedybureau.com/show/live-at-the-barbershop-in-nyc-2-2/2023-12-16/
LOCATION:Original Barbershop\, 174 East 2nd Street\, New York\, NY\, 10009\, United States
CATEGORIES:Comedy Show,New York,New York Shows,Stand Up
GEO:40.7226824;-73.9845869
X-APPLE-STRUCTURED-LOCATION;VALUE=URI;X-ADDRESS=Original Barbershop 174 East 2nd Street New York NY 10009 United States;X-APPLE-RADIUS=500;X-TITLE=174 East 2nd Street:geo:-73.9845869,40.7226824
END:VEVENT
BEGIN:VEVENT
DTSTART;TZID=America/New_York:20231216T235900
DTEND;TZID=America/New_York:20231217T020000
DTSTAMP:20260421T233615
CREATED:20231129T170644Z
LAST-MODIFIED:20231129T170648Z
UID:10006466-1702771140-1702778400@thecomedybureau.com
SUMMARY:BKLYN Comedy Club (in NYC)
DESCRIPTION:STARTS 12:30AM ET\n3-4 min.\nHosted by Andy Malafarina
URL:https://thecomedybureau.com/show/bklyn-comedy-club-in-nyc-2-2-2/2023-12-16/
LOCATION:Old Man Hustle\, 308 Bedford Avenue\, Brooklyn\, NY\, 11249\, United States
CATEGORIES:New York,New York Open Mics,Open Mic
GEO:40.7138616;-73.9619047
X-APPLE-STRUCTURED-LOCATION;VALUE=URI;X-ADDRESS=Old Man Hustle 308 Bedford Avenue Brooklyn NY 11249 United States;X-APPLE-RADIUS=500;X-TITLE=308 Bedford Avenue:geo:-73.9619047,40.7138616
END:VEVENT
BEGIN:VEVENT
DTSTART;TZID=America/Los_Angeles:20231217T143000
DTEND;TZID=America/Los_Angeles:20231217T160000
DTSTAMP:20260421T233615
CREATED:20231129T170743Z
LAST-MODIFIED:20231129T170749Z
UID:10006471-1702823400-1702828800@thecomedybureau.com
SUMMARY:The Comedy Shop (in NYC)
DESCRIPTION:Starts 2:30PM ET\n5 min.\n1 item min. to perform
URL:https://thecomedybureau.com/show/the-comedy-shop-in-nyc-130-2-2/2023-12-17/
LOCATION:the comedy shop\, 167 Bleecker Street\, New York\, NY\, 10012\, United States
CATEGORIES:New York,New York Open Mics,Open Mic
GEO:40.7288609;-74.0001048
X-APPLE-STRUCTURED-LOCATION;VALUE=URI;X-ADDRESS=the comedy shop 167 Bleecker Street New York NY 10012 United States;X-APPLE-RADIUS=500;X-TITLE=167 Bleecker Street:geo:-74.0001048,40.7288609
END:VEVENT
BEGIN:VEVENT
DTSTART;TZID=America/New_York:20231217T160000
DTEND;TZID=America/New_York:20231217T173000
DTSTAMP:20260421T233615
CREATED:20231128T232758Z
LAST-MODIFIED:20231128T232802Z
UID:10006356-1702828800-1702834200@thecomedybureau.com
SUMMARY:Greenwich Village Comedy Club (in NYC)
DESCRIPTION:Starts 4PM ET & 5PM ET\nSign-up at 3:50PM ET & 4:50PM ET\nFirst come\, first served\n5 min.\n$5 to perform\nHosted by Alex Kennedy
URL:https://thecomedybureau.com/show/greenwich-village-comedy-club-in-nyc-6-2-2/2023-12-17/
LOCATION:Greenwich Village Comedy Club\, 99 MacDougal Street\, New York\, NY\, 10012\, United States
CATEGORIES:New York,New York Open Mics,Open Mic
GEO:40.7296283;-74.0010291
X-APPLE-STRUCTURED-LOCATION;VALUE=URI;X-ADDRESS=Greenwich Village Comedy Club 99 MacDougal Street New York NY 10012 United States;X-APPLE-RADIUS=500;X-TITLE=99 MacDougal Street:geo:-74.0010291,40.7296283
END:VEVENT
BEGIN:VEVENT
DTSTART;TZID=America/Los_Angeles:20231217T190000
DTEND;TZID=America/Los_Angeles:20231217T210000
DTSTAMP:20260421T233615
CREATED:20231129T171046Z
LAST-MODIFIED:20231129T171053Z
UID:10006479-1702839600-1702846800@thecomedybureau.com
SUMMARY:Punching Bag @ O'Keefe's (in NYC)
DESCRIPTION:Starts 7PM ET\n5 min.\nLottery\nHosted by Erik Marino
URL:https://thecomedybureau.com/show/punching-bag-okeefes-in-nyc-25-2-2/2023-12-17/
LOCATION:O’Keefe’s Bar & Grill\, 62 Court Street\, Brooklyn\, NY\, 11201\, United States
CATEGORIES:New York,New York Open Mics,Open Mic
GEO:40.6920292;-73.9914025
X-APPLE-STRUCTURED-LOCATION;VALUE=URI;X-ADDRESS=O’Keefe’s Bar & Grill 62 Court Street Brooklyn NY 11201 United States;X-APPLE-RADIUS=500;X-TITLE=62 Court Street:geo:-73.9914025,40.6920292
END:VEVENT
BEGIN:VEVENT
DTSTART;TZID=America/New_York:20231217T200000
DTEND;TZID=America/New_York:20231217T223000
DTSTAMP:20260421T233615
CREATED:20231126T180504Z
LAST-MODIFIED:20231210T012209Z
UID:10006582-1702843200-1702852200@thecomedybureau.com
SUMMARY:Comedy Secret Show (in NYC)
DESCRIPTION:Comedy secret show is dedicated to bringing in a meticulously curated fray of comedians that fall in line of the great comedians of yesterday and today! The catch is you won’t know who they are until you get there! Yea that’s right\, you won’t know the Comedians\, Host or the Producers until you get there! Go read the clues below and see if you can figure out who the comedians are for this week! Credits of comedians who’ve been on the show before INSECURE\,JOE PERA TALKS WITH YOU\,WILD “N OUT\,SATURDAY NIGHT LIVE\,FLATBUSH MISDEMEANORS\,THAT DAMN MICHAEL CHE SHOW\,PAUSE WITH SAM JAY\, and their own NETFLIX SPECIALS\,HBO SPECIALS\,HBO MAX SPECIALS\, AND MORE. \nDoors 8PM ET
URL:https://thecomedybureau.com/show/comedy-secret-show-in-nyc-2/2023-12-17/
LOCATION:uck Billy\, 605 Manhattan Avenue\, Brooklyn\, NY\, 11222\, United States
CATEGORIES:Comedy Show,New York,New York Shows,Stand Up
GEO:40.7232481;-73.9507922
X-APPLE-STRUCTURED-LOCATION;VALUE=URI;X-ADDRESS=uck Billy 605 Manhattan Avenue Brooklyn NY 11222 United States;X-APPLE-RADIUS=500;X-TITLE=605 Manhattan Avenue:geo:-73.9507922,40.7232481
END:VEVENT
BEGIN:VEVENT
DTSTART;TZID=America/Los_Angeles:20231218T160000
DTEND;TZID=America/Los_Angeles:20231218T180000
DTSTAMP:20260421T233615
CREATED:20231128T162020Z
LAST-MODIFIED:20231128T162025Z
UID:10006126-1702915200-1702922400@thecomedybureau.com
SUMMARY:The Comedy Shop (in NYC)
DESCRIPTION:Starts 4PM ET\n5 min.\n1 item min. to perform
URL:https://thecomedybureau.com/show/the-comedy-shop-in-nyc-126-2-2/2023-12-18/
LOCATION:the comedy shop\, 167 Bleecker Street\, New York\, NY\, 10012\, United States
CATEGORIES:New York,New York Open Mics,Open Mic
GEO:40.7288609;-74.0001048
X-APPLE-STRUCTURED-LOCATION;VALUE=URI;X-ADDRESS=the comedy shop 167 Bleecker Street New York NY 10012 United States;X-APPLE-RADIUS=500;X-TITLE=167 Bleecker Street:geo:-74.0001048,40.7288609
END:VEVENT
BEGIN:VEVENT
DTSTART;TZID=America/Los_Angeles:20231218T170000
DTEND;TZID=America/Los_Angeles:20231218T183000
DTSTAMP:20260421T233615
CREATED:20231128T170313Z
LAST-MODIFIED:20231128T170317Z
UID:10006130-1702918800-1702924200@thecomedybureau.com
SUMMARY:Mondays with Messitte @ Broadway Comedy Club (in NYC)
DESCRIPTION:Sign-up 4:45PM ET\nStarts 5PM ET\nEnds 6:30PM ET\n$5 to perform\nHosted by Janice Messitte
URL:https://thecomedybureau.com/show/mondays-with-messitte-broadway-comedy-club-in-nyc-26-2-2/2023-12-18/
LOCATION:Broadway Comedy Club\, 318 West 53rd Street\, New York\, NY\, 10019\, United States
CATEGORIES:New York,New York Open Mics,Open Mic
GEO:40.7643832;-73.98562
X-APPLE-STRUCTURED-LOCATION;VALUE=URI;X-ADDRESS=Broadway Comedy Club 318 West 53rd Street New York NY 10019 United States;X-APPLE-RADIUS=500;X-TITLE=318 West 53rd Street:geo:-73.98562,40.7643832
END:VEVENT
BEGIN:VEVENT
DTSTART;TZID=America/Los_Angeles:20231218T170000
DTEND;TZID=America/Los_Angeles:20231218T190000
DTSTAMP:20260421T233615
CREATED:20231128T170625Z
LAST-MODIFIED:20231128T170630Z
UID:10006134-1702918800-1702926000@thecomedybureau.com
SUMMARY:West Side Comedy Club (in NYC)
DESCRIPTION:Sign-up in advance here: westsidecomedyclub.com/open-mics-calendar\nStarts 5PM ET\n5 min.\n$5 to perform\nHosted by Sam Haddis
URL:https://thecomedybureau.com/show/west-side-comedy-club-in-nyc-26-2-2/2023-12-18/
LOCATION:West Side Comedy Club\, 201 West 75th Street\, New York\, NY\, 10023\, United States
CATEGORIES:New York,New York Open Mics,Open Mic
GEO:40.7809446;-73.980372
X-APPLE-STRUCTURED-LOCATION;VALUE=URI;X-ADDRESS=West Side Comedy Club 201 West 75th Street New York NY 10023 United States;X-APPLE-RADIUS=500;X-TITLE=201 West 75th Street:geo:-73.980372,40.7809446
END:VEVENT
BEGIN:VEVENT
DTSTART;TZID=America/New_York:20231218T173000
DTEND;TZID=America/New_York:20231218T190000
DTSTAMP:20260421T233615
CREATED:20231218T191524Z
LAST-MODIFIED:20250629T070438Z
UID:10006154-1702920600-1702926000@thecomedybureau.com
SUMMARY:The Tiny Cupboard (in NYC)
DESCRIPTION:Starts at 5:30PM\nShow up\, go up\n$2 to perform\nMixed mic (comedy\, music poetry)\nShow up go up*\nSign-up details and list of hosts available at thetinycupboard.com/open-mics/
URL:https://thecomedybureau.com/show/the-tiny-cupboard-in-nyc-209-2-2-2/2023-12-18/
LOCATION:The Tiny Cupboard\, 1717 Broadway #315\, Brooklyn\, NY\, 11207\, United States
CATEGORIES:New York,New York Open Mics,Open Mic
GEO:40.6835998;-73.911137
X-APPLE-STRUCTURED-LOCATION;VALUE=URI;X-ADDRESS=The Tiny Cupboard 1717 Broadway #315 Brooklyn NY 11207 United States;X-APPLE-RADIUS=500;X-TITLE=1717 Broadway #315:geo:-73.911137,40.6835998
END:VEVENT
BEGIN:VEVENT
DTSTART;TZID=America/New_York:20231218T173000
DTEND;TZID=America/New_York:20231218T190000
DTSTAMP:20260421T233615
CREATED:20231128T170927Z
LAST-MODIFIED:20231128T170934Z
UID:10006156-1702920600-1702926000@thecomedybureau.com
SUMMARY:Phoenix Bar (in NYC)
DESCRIPTION:Starts 6PM ET\nSign-up advanced here.\nFirst come\, first served\n$2 + 1 drink\n5-7 min.
URL:https://thecomedybureau.com/show/phoenix-bar-in-nyc-4-2/2023-12-18/
LOCATION:Phoenix Bar\, 447 East 13th Street\, New York\, NY\, 10009\, United States
CATEGORIES:New York,New York Open Mics,Open Mic
GEO:40.7299146;-73.9810746
X-APPLE-STRUCTURED-LOCATION;VALUE=URI;X-ADDRESS=Phoenix Bar 447 East 13th Street New York NY 10009 United States;X-APPLE-RADIUS=500;X-TITLE=447 East 13th Street:geo:-73.9810746,40.7299146
END:VEVENT
BEGIN:VEVENT
DTSTART;TZID=America/New_York:20231218T180000
DTEND;TZID=America/New_York:20231218T193000
DTSTAMP:20260421T233615
CREATED:20231128T171450Z
LAST-MODIFIED:20231128T171500Z
UID:10006160-1702922400-1702927800@thecomedybureau.com
SUMMARY:Comedy Shop (in NYC)
DESCRIPTION:Starts 6PM ET\n5 min.\n1 item min. to perform
URL:https://thecomedybureau.com/show/comedy-shop-in-nyc-2-2/2023-12-18/
LOCATION:the comedy shop\, 167 Bleecker Street\, New York\, NY\, 10012\, United States
CATEGORIES:New York,New York Open Mics,Open Mic
GEO:40.7288609;-74.0001048
X-APPLE-STRUCTURED-LOCATION;VALUE=URI;X-ADDRESS=the comedy shop 167 Bleecker Street New York NY 10012 United States;X-APPLE-RADIUS=500;X-TITLE=167 Bleecker Street:geo:-74.0001048,40.7288609
END:VEVENT
BEGIN:VEVENT
DTSTART;TZID=America/New_York:20231218T180000
DTEND;TZID=America/New_York:20231218T193000
DTSTAMP:20260421T233615
CREATED:20231128T171201Z
LAST-MODIFIED:20231128T171227Z
UID:10006158-1702922400-1702927800@thecomedybureau.com
SUMMARY:Harlem Nights Bar (in NYC)
DESCRIPTION:Sign-up 5:30PM ET\nStarts 6PM ET\n5 min.\n12-14 spots only\nHosted by Rashad Bashir
URL:https://thecomedybureau.com/show/harlem-nights-bar-in-nyc-2-2/2023-12-18/
LOCATION:Harlem Nights Bar\, 2361 Adam Clayton Powell Jr. Boulevard\, New York\, NY\, 10030\, United States
CATEGORIES:New York,New York Open Mics,Open Mic
GEO:40.8172179;-73.9419809
X-APPLE-STRUCTURED-LOCATION;VALUE=URI;X-ADDRESS=Harlem Nights Bar 2361 Adam Clayton Powell Jr. Boulevard New York NY 10030 United States;X-APPLE-RADIUS=500;X-TITLE=2361 Adam Clayton Powell Jr. Boulevard:geo:-73.9419809,40.8172179
END:VEVENT
BEGIN:VEVENT
DTSTART;TZID=America/Los_Angeles:20231218T180000
DTEND;TZID=America/Los_Angeles:20231218T200000
DTSTAMP:20260421T233615
CREATED:20231218T192340Z
LAST-MODIFIED:20231218T192420Z
UID:10006174-1702922400-1702929600@thecomedybureau.com
SUMMARY:Grove 34 (in NYC)
DESCRIPTION:Starts 6PM ET\n3 min.\n$5 for 4 min. & a drink\nLottery\nEveryone goes up \n*weekly schedule\, which changes a lot\, posted on IG Stories @grove34studio
URL:https://thecomedybureau.com/show/grove-34-in-nyc-108-2-2-2/2023-12-18/
LOCATION:Grove 34\, 31-83 34th Street\, Queens\, NY\, 11106\, United States
CATEGORIES:New York,New York Open Mics,Open Mic
GEO:40.7610651;-73.9225488
X-APPLE-STRUCTURED-LOCATION;VALUE=URI;X-ADDRESS=Grove 34 31-83 34th Street Queens NY 11106 United States;X-APPLE-RADIUS=500;X-TITLE=31-83 34th Street:geo:-73.9225488,40.7610651
END:VEVENT
BEGIN:VEVENT
DTSTART;TZID=America/Los_Angeles:20231218T190000
DTEND;TZID=America/Los_Angeles:20231218T200000
DTSTAMP:20260421T233615
CREATED:20231128T171636Z
LAST-MODIFIED:20231128T171642Z
UID:10006182-1702926000-1702929600@thecomedybureau.com
SUMMARY:Bromitas Spanglish Open Mic @ Producers Club (in NYC)
DESCRIPTION:Starts 7PM ET\nBilingual open mic\n5 min.\n$5 to perform\nDM @bromitasnyc to confirm your spot\nVenmo or cashapp @bromitasnyc\nHosted by Marco V and Kevin Escobar
URL:https://thecomedybureau.com/show/bromitas-spanglish-open-mic-producers-club-in-nyc-40-2-2/2023-12-18/
LOCATION:Producers Club Theaters\, 358 West 44th Street\, New York\, NY\, 10036\, United States
CATEGORIES:New York,New York Open Mics,Open Mic
GEO:40.759426;-73.9913779
X-APPLE-STRUCTURED-LOCATION;VALUE=URI;X-ADDRESS=Producers Club Theaters 358 West 44th Street New York NY 10036 United States;X-APPLE-RADIUS=500;X-TITLE=358 West 44th Street:geo:-73.9913779,40.759426
END:VEVENT
BEGIN:VEVENT
DTSTART;TZID=America/New_York:20231218T190000
DTEND;TZID=America/New_York:20231218T203000
DTSTAMP:20260421T233615
CREATED:20231218T192643Z
LAST-MODIFIED:20241126T043529Z
UID:10006204-1702926000-1702931400@thecomedybureau.com
SUMMARY:The Tiny Cupboard (in NYC)
DESCRIPTION:Starts at 7PM ET\nShow up\, go up\n$2 to perform\nMixed mic (comedy\, music poetry)\nShow up go up*\nSign-up details and list of hosts available at thetinycupboard.com/open-mics/
URL:https://thecomedybureau.com/show/the-tiny-cupboard-in-nyc-245-2-2-2/2023-12-18/
LOCATION:The Tiny Cupboard\, 1717 Broadway #315\, Brooklyn\, NY\, 11207\, United States
CATEGORIES:New York,New York Open Mics,Open Mic
GEO:40.6835998;-73.911137
X-APPLE-STRUCTURED-LOCATION;VALUE=URI;X-ADDRESS=The Tiny Cupboard 1717 Broadway #315 Brooklyn NY 11207 United States;X-APPLE-RADIUS=500;X-TITLE=1717 Broadway #315:geo:-73.911137,40.6835998
END:VEVENT
BEGIN:VEVENT
DTSTART;TZID=America/New_York:20231218T190000
DTEND;TZID=America/New_York:20231218T203000
DTSTAMP:20260421T233615
CREATED:20231128T171804Z
LAST-MODIFIED:20231128T171824Z
UID:10006184-1702926000-1702931400@thecomedybureau.com
SUMMARY:West Side Comedy Club (in NYC)
DESCRIPTION:Starts 7PM ET\n5 min.\n15 spots only\n$5 to perform\nSign-up in advance here\nHosted by Sanket Alekar
URL:https://thecomedybureau.com/show/west-side-comedy-club-in-nyc-22-2-2/2023-12-18/
LOCATION:West Side Comedy Club\, 201 West 75th Street\, New York\, NY\, 10023\, United States
CATEGORIES:New York,New York Open Mics,Open Mic
GEO:40.7809446;-73.980372
X-APPLE-STRUCTURED-LOCATION;VALUE=URI;X-ADDRESS=West Side Comedy Club 201 West 75th Street New York NY 10023 United States;X-APPLE-RADIUS=500;X-TITLE=201 West 75th Street:geo:-73.980372,40.7809446
END:VEVENT
BEGIN:VEVENT
DTSTART;TZID=America/New_York:20231218T203000
DTEND;TZID=America/New_York:20231218T220000
DTSTAMP:20260421T233615
CREATED:20231218T193250Z
LAST-MODIFIED:20260329T182909Z
UID:10006234-1702931400-1702936800@thecomedybureau.com
SUMMARY:The Tiny Cupboard (in NYC)
DESCRIPTION:Starts at 8:30PM ET\nShow up\, go up\n$2 to perform\nMixed mic (comedy\, music poetry)\nShow up go up*\nSign-up details and list of hosts available at thetinycupboard.com/open-mics/
URL:https://thecomedybureau.com/show/the-tiny-cupboard-in-nyc-246-2-2-2/
LOCATION:The Tiny Cupboard\, 1717 Broadway #315\, Brooklyn\, NY\, 11207\, United States
CATEGORIES:New York,New York Open Mics,Open Mic
GEO:40.6835998;-73.911137
X-APPLE-STRUCTURED-LOCATION;VALUE=URI;X-ADDRESS=The Tiny Cupboard 1717 Broadway #315 Brooklyn NY 11207 United States;X-APPLE-RADIUS=500;X-TITLE=1717 Broadway #315:geo:-73.911137,40.6835998
END:VEVENT
BEGIN:VEVENT
DTSTART;TZID=America/New_York:20231218T213000
DTEND;TZID=America/New_York:20231218T230000
DTSTAMP:20260421T233615
CREATED:20220201T164923Z
LAST-MODIFIED:20231011T100433Z
UID:10003061-1702935000-1702940400@thecomedybureau.com
SUMMARY:Good Girls Gone Sad (in NYC)
DESCRIPTION:Are you there God? It’s us! Syd King and Becca Stephenson. The acclaimed Good Girls Gone Sad podcast is now LIVE! Do you have shame\, of body and mind? Did the Care and Keeping of You alter the course of your life? Do you remember the first time you cursed? Join us and our amazing lineup as we unpack our childhood drama through stand up\, games\, and live entries into the Good Girl Girl Glossary! See you there 🙂 \nStarts 9:30PM ET
URL:https://thecomedybureau.com/show/good-girls-gone-sad-comedy-hour-in-nyc/
LOCATION:Caveat\, 21 A Clinton Street\, New York\, NY\, 10002\, United States
CATEGORIES:Comedy Show,New York,New York Shows,Stand Up,Variety
GEO:40.7206573;-73.9843658
X-APPLE-STRUCTURED-LOCATION;VALUE=URI;X-ADDRESS=Caveat 21 A Clinton Street New York NY 10002 United States;X-APPLE-RADIUS=500;X-TITLE=21 A Clinton Street:geo:-73.9843658,40.7206573
END:VEVENT
BEGIN:VEVENT
DTSTART;TZID=America/New_York:20231218T220000
DTEND;TZID=America/New_York:20231218T233000
DTSTAMP:20260421T233615
CREATED:20231218T193453Z
LAST-MODIFIED:20251220T024654Z
UID:10006258-1702936800-1702942200@thecomedybureau.com
SUMMARY:The Tiny Cupboard (in NYC)
DESCRIPTION:Starts at 10PM ET\nShow up\, go up\n$2 to perform\nMixed mic (comedy\, music poetry)\nShow up go up*\nSign-up details and list of hosts available at thetinycupboard.com/open-mics/
URL:https://thecomedybureau.com/show/the-tiny-cupboard-in-nyc-247-2-2-2/2023-12-18/
LOCATION:The Tiny Cupboard\, 1717 Broadway #315\, Brooklyn\, NY\, 11207\, United States
CATEGORIES:New York,New York Open Mics,Open Mic
GEO:40.6835998;-73.911137
X-APPLE-STRUCTURED-LOCATION;VALUE=URI;X-ADDRESS=The Tiny Cupboard 1717 Broadway #315 Brooklyn NY 11207 United States;X-APPLE-RADIUS=500;X-TITLE=1717 Broadway #315:geo:-73.911137,40.6835998
END:VEVENT
BEGIN:VEVENT
DTSTART;TZID=America/New_York:20231218T223000
DTEND;TZID=America/New_York:20231219T000000
DTSTAMP:20260421T233615
CREATED:20231128T173525Z
LAST-MODIFIED:20231128T173530Z
UID:10006260-1702938600-1702944000@thecomedybureau.com
SUMMARY:Oh Wow @ Young Ethel's (in NYC)
DESCRIPTION:Sign-up 10PM ET\nStarts 10:30PM ET\n5 min.\nFREE
URL:https://thecomedybureau.com/show/oh-wow-young-ethels-in-nyc-2-2/2023-12-18/
LOCATION:Young Ethel’s\, 506 5th Avenue\, Brooklyn\, NY\, 11215\, United States
CATEGORIES:New York,New York Open Mics,Open Mic
GEO:40.6672238;-73.988263
X-APPLE-STRUCTURED-LOCATION;VALUE=URI;X-ADDRESS=Young Ethel’s 506 5th Avenue Brooklyn NY 11215 United States;X-APPLE-RADIUS=500;X-TITLE=506 5th Avenue:geo:-73.988263,40.6672238
END:VEVENT
BEGIN:VEVENT
DTSTART;TZID=America/New_York:20231219T150000
DTEND;TZID=America/New_York:20231219T170000
DTSTAMP:20260421T233615
CREATED:20231218T191052Z
LAST-MODIFIED:20231218T191102Z
UID:10006266-1702998000-1703005200@thecomedybureau.com
SUMMARY:West Side Comedy Club (in NYC)
DESCRIPTION:Starts 3PM ET\nSign up in advance here\n5 min.\n$5 to perform\n15 spots only
URL:https://thecomedybureau.com/show/west-side-comedy-club-in-nyc-29-2-2-2/2023-12-19/
LOCATION:West Side Comedy Club\, 201 West 75th Street\, New York\, NY\, 10023\, United States
CATEGORIES:New York,New York Open Mics,Open Mic
GEO:40.7809446;-73.980372
X-APPLE-STRUCTURED-LOCATION;VALUE=URI;X-ADDRESS=West Side Comedy Club 201 West 75th Street New York NY 10023 United States;X-APPLE-RADIUS=500;X-TITLE=201 West 75th Street:geo:-73.980372,40.7809446
END:VEVENT
BEGIN:VEVENT
DTSTART;TZID=America/New_York:20231219T173000
DTEND;TZID=America/New_York:20231219T190000
DTSTAMP:20260421T233615
CREATED:20231218T191524Z
LAST-MODIFIED:20250629T070438Z
UID:10007368-1703007000-1703012400@thecomedybureau.com
SUMMARY:The Tiny Cupboard (in NYC)
DESCRIPTION:Starts at 5:30PM\nShow up\, go up\n$2 to perform\nMixed mic (comedy\, music poetry)\nShow up go up*\nSign-up details and list of hosts available at thetinycupboard.com/open-mics/
URL:https://thecomedybureau.com/show/the-tiny-cupboard-in-nyc-209-2-2-2/2023-12-19/
LOCATION:The Tiny Cupboard\, 1717 Broadway #315\, Brooklyn\, NY\, 11207\, United States
CATEGORIES:New York,New York Open Mics,Open Mic
GEO:40.6835998;-73.911137
X-APPLE-STRUCTURED-LOCATION;VALUE=URI;X-ADDRESS=The Tiny Cupboard 1717 Broadway #315 Brooklyn NY 11207 United States;X-APPLE-RADIUS=500;X-TITLE=1717 Broadway #315:geo:-73.911137,40.6835998
END:VEVENT
BEGIN:VEVENT
DTSTART;TZID=America/Los_Angeles:20231219T180000
DTEND;TZID=America/Los_Angeles:20231219T200000
DTSTAMP:20260421T233615
CREATED:20231218T192456Z
LAST-MODIFIED:20241021T161615Z
UID:10006277-1703008800-1703016000@thecomedybureau.com
SUMMARY:Eastville Comedy Club (in NYC)
DESCRIPTION:Sign-up 5:30PM ET\nStarts 6PM ET\nEnds 7:45PM ET\n5 min.\n1 item min. to perform\nShow up\, go up
URL:https://thecomedybureau.com/show/eastville-comedy-club-in-nyc-51-2-2-2/2023-12-19/
LOCATION:Eastville Comedy Club\, 487 Atlantic Avenue\, Brooklyn\, NY\, 11217\, United States
CATEGORIES:New York,New York Open Mics,Open Mic,Standard
GEO:40.6859214;-73.9816178
X-APPLE-STRUCTURED-LOCATION;VALUE=URI;X-ADDRESS=Eastville Comedy Club 487 Atlantic Avenue Brooklyn NY 11217 United States;X-APPLE-RADIUS=500;X-TITLE=487 Atlantic Avenue:geo:-73.9816178,40.6859214
END:VEVENT
BEGIN:VEVENT
DTSTART;TZID=America/Los_Angeles:20231219T180000
DTEND;TZID=America/Los_Angeles:20231219T200000
DTSTAMP:20260421T233615
CREATED:20231218T192340Z
LAST-MODIFIED:20231218T192420Z
UID:10007419-1703008800-1703016000@thecomedybureau.com
SUMMARY:Grove 34 (in NYC)
DESCRIPTION:Starts 6PM ET\n3 min.\n$5 for 4 min. & a drink\nLottery\nEveryone goes up \n*weekly schedule\, which changes a lot\, posted on IG Stories @grove34studio
URL:https://thecomedybureau.com/show/grove-34-in-nyc-108-2-2-2/2023-12-19/
LOCATION:Grove 34\, 31-83 34th Street\, Queens\, NY\, 11106\, United States
CATEGORIES:New York,New York Open Mics,Open Mic
GEO:40.7610651;-73.9225488
X-APPLE-STRUCTURED-LOCATION;VALUE=URI;X-ADDRESS=Grove 34 31-83 34th Street Queens NY 11106 United States;X-APPLE-RADIUS=500;X-TITLE=31-83 34th Street:geo:-73.9225488,40.7610651
END:VEVENT
BEGIN:VEVENT
DTSTART;TZID=America/New_York:20231219T190000
DTEND;TZID=America/New_York:20231219T203000
DTSTAMP:20260421T233615
CREATED:20231218T192643Z
LAST-MODIFIED:20241126T043529Z
UID:10007481-1703012400-1703017800@thecomedybureau.com
SUMMARY:The Tiny Cupboard (in NYC)
DESCRIPTION:Starts at 7PM ET\nShow up\, go up\n$2 to perform\nMixed mic (comedy\, music poetry)\nShow up go up*\nSign-up details and list of hosts available at thetinycupboard.com/open-mics/
URL:https://thecomedybureau.com/show/the-tiny-cupboard-in-nyc-245-2-2-2/2023-12-19/
LOCATION:The Tiny Cupboard\, 1717 Broadway #315\, Brooklyn\, NY\, 11207\, United States
CATEGORIES:New York,New York Open Mics,Open Mic
GEO:40.6835998;-73.911137
X-APPLE-STRUCTURED-LOCATION;VALUE=URI;X-ADDRESS=The Tiny Cupboard 1717 Broadway #315 Brooklyn NY 11207 United States;X-APPLE-RADIUS=500;X-TITLE=1717 Broadway #315:geo:-73.911137,40.6835998
END:VEVENT
BEGIN:VEVENT
DTSTART;TZID=America/Los_Angeles:20231219T203000
DTEND;TZID=America/Los_Angeles:20231219T213000
DTSTAMP:20260421T233615
CREATED:20231128T180206Z
LAST-MODIFIED:20260330T080301Z
UID:10007581-1703017800-1703021400@thecomedybureau.com
SUMMARY:Pump Up: The Jam @ Brooklyn Comedy Collective (in NYC)
DESCRIPTION:For improv only\nStarts 8:30PM ET\nAnyone can play\nHosted by William Banks & Chloe Troast \nMust be 21+ to attend
URL:https://thecomedybureau.com/show/pump-up-the-jam-brooklyn-comedy-collective-in-nyc-2-2/2023-12-19/
LOCATION:Brooklyn Comedy Collective\, 167 Graham Avenue\, Brooklyn\, NY\, 11206\, United States
CATEGORIES:Improv Jam,New York,New York Open Mics,Open Mic
GEO:40.7077178;-73.9436219
X-APPLE-STRUCTURED-LOCATION;VALUE=URI;X-ADDRESS=Brooklyn Comedy Collective 167 Graham Avenue Brooklyn NY 11206 United States;X-APPLE-RADIUS=500;X-TITLE=167 Graham Avenue:geo:-73.9436219,40.7077178
END:VEVENT
BEGIN:VEVENT
DTSTART;TZID=America/New_York:20231219T213000
DTEND;TZID=America/New_York:20231219T233000
DTSTAMP:20260421T233615
CREATED:20231128T180646Z
LAST-MODIFIED:20260330T064719Z
UID:10007654-1703021400-1703028600@thecomedybureau.com
SUMMARY:FRIGID Open Mic @ Under St Marks Theater (in NYC)
DESCRIPTION:Starts 9:30PM ET\n7 min.\nMixed mic (all performers welcome)
URL:https://thecomedybureau.com/show/frigid-open-mic-under-st-marks-theater-in-nyc-2-2/2023-12-19/
LOCATION:Under St. Marks Theater\, 94 Saint Marks Place\, New York\, NY\, 10009\, United States
CATEGORIES:New York,New York Open Mics,Open Mic
GEO:40.7272968;-73.9849712
X-APPLE-STRUCTURED-LOCATION;VALUE=URI;X-ADDRESS=Under St. Marks Theater 94 Saint Marks Place New York NY 10009 United States;X-APPLE-RADIUS=500;X-TITLE=94 Saint Marks Place:geo:-73.9849712,40.7272968
END:VEVENT
BEGIN:VEVENT
DTSTART;TZID=America/New_York:20231219T220000
DTEND;TZID=America/New_York:20231219T233000
DTSTAMP:20260421T233615
CREATED:20231218T193453Z
LAST-MODIFIED:20251220T024654Z
UID:10007661-1703023200-1703028600@thecomedybureau.com
SUMMARY:The Tiny Cupboard (in NYC)
DESCRIPTION:Starts at 10PM ET\nShow up\, go up\n$2 to perform\nMixed mic (comedy\, music poetry)\nShow up go up*\nSign-up details and list of hosts available at thetinycupboard.com/open-mics/
URL:https://thecomedybureau.com/show/the-tiny-cupboard-in-nyc-247-2-2-2/2023-12-19/
LOCATION:The Tiny Cupboard\, 1717 Broadway #315\, Brooklyn\, NY\, 11207\, United States
CATEGORIES:New York,New York Open Mics,Open Mic
GEO:40.6835998;-73.911137
X-APPLE-STRUCTURED-LOCATION;VALUE=URI;X-ADDRESS=The Tiny Cupboard 1717 Broadway #315 Brooklyn NY 11207 United States;X-APPLE-RADIUS=500;X-TITLE=1717 Broadway #315:geo:-73.911137,40.6835998
END:VEVENT
END:VCALENDAR