BEGIN:VCALENDAR
VERSION:2.0
PRODID:-//The Comedy Bureau - ECPv6.15.18//NONSGML v1.0//EN
CALSCALE:GREGORIAN
METHOD:PUBLISH
X-ORIGINAL-URL:https://thecomedybureau.com
X-WR-CALDESC:Events for The Comedy Bureau
REFRESH-INTERVAL;VALUE=DURATION:PT1H
X-Robots-Tag:noindex
X-PUBLISHED-TTL:PT1H
BEGIN:VTIMEZONE
TZID:America/New_York
BEGIN:DAYLIGHT
TZOFFSETFROM:-0500
TZOFFSETTO:-0400
TZNAME:EDT
DTSTART:20230312T070000
END:DAYLIGHT
BEGIN:STANDARD
TZOFFSETFROM:-0400
TZOFFSETTO:-0500
TZNAME:EST
DTSTART:20231105T060000
END:STANDARD
BEGIN:DAYLIGHT
TZOFFSETFROM:-0500
TZOFFSETTO:-0400
TZNAME:EDT
DTSTART:20240310T070000
END:DAYLIGHT
BEGIN:STANDARD
TZOFFSETFROM:-0400
TZOFFSETTO:-0500
TZNAME:EST
DTSTART:20241103T060000
END:STANDARD
BEGIN:DAYLIGHT
TZOFFSETFROM:-0500
TZOFFSETTO:-0400
TZNAME:EDT
DTSTART:20250309T070000
END:DAYLIGHT
BEGIN:STANDARD
TZOFFSETFROM:-0400
TZOFFSETTO:-0500
TZNAME:EST
DTSTART:20251102T060000
END:STANDARD
END:VTIMEZONE
BEGIN:VTIMEZONE
TZID:America/Los_Angeles
BEGIN:DAYLIGHT
TZOFFSETFROM:-0800
TZOFFSETTO:-0700
TZNAME:PDT
DTSTART:20230312T100000
END:DAYLIGHT
BEGIN:STANDARD
TZOFFSETFROM:-0700
TZOFFSETTO:-0800
TZNAME:PST
DTSTART:20231105T090000
END:STANDARD
BEGIN:DAYLIGHT
TZOFFSETFROM:-0800
TZOFFSETTO:-0700
TZNAME:PDT
DTSTART:20240310T100000
END:DAYLIGHT
BEGIN:STANDARD
TZOFFSETFROM:-0700
TZOFFSETTO:-0800
TZNAME:PST
DTSTART:20241103T090000
END:STANDARD
BEGIN:DAYLIGHT
TZOFFSETFROM:-0800
TZOFFSETTO:-0700
TZNAME:PDT
DTSTART:20250309T100000
END:DAYLIGHT
BEGIN:STANDARD
TZOFFSETFROM:-0700
TZOFFSETTO:-0800
TZNAME:PST
DTSTART:20251102T090000
END:STANDARD
END:VTIMEZONE
BEGIN:VEVENT
DTSTART;TZID=America/New_York:20240521T173000
DTEND;TZID=America/New_York:20240521T190000
DTSTAMP:20260425T184358
CREATED:20231218T191524Z
LAST-MODIFIED:20250629T070438Z
UID:10016332-1716312600-1716318000@thecomedybureau.com
SUMMARY:The Tiny Cupboard (in NYC)
DESCRIPTION:Starts at 5:30PM\nShow up\, go up\n$2 to perform\nMixed mic (comedy\, music poetry)\nShow up go up*\nSign-up details and list of hosts available at thetinycupboard.com/open-mics/
URL:https://thecomedybureau.com/show/the-tiny-cupboard-in-nyc-209-2-2-2/2024-05-21/
LOCATION:The Tiny Cupboard\, 1717 Broadway #315\, Brooklyn\, NY\, 11207\, United States
CATEGORIES:New York,New York Open Mics,Open Mic
GEO:40.6835998;-73.911137
X-APPLE-STRUCTURED-LOCATION;VALUE=URI;X-ADDRESS=The Tiny Cupboard 1717 Broadway #315 Brooklyn NY 11207 United States;X-APPLE-RADIUS=500;X-TITLE=1717 Broadway #315:geo:-73.911137,40.6835998
END:VEVENT
BEGIN:VEVENT
DTSTART;TZID=America/Los_Angeles:20240521T180000
DTEND;TZID=America/Los_Angeles:20240521T200000
DTSTAMP:20260425T184358
CREATED:20231218T192456Z
LAST-MODIFIED:20241021T161615Z
UID:10016369-1716314400-1716321600@thecomedybureau.com
SUMMARY:Eastville Comedy Club (in NYC)
DESCRIPTION:Sign-up 5:30PM ET\nStarts 6PM ET\nEnds 7:45PM ET\n5 min.\n1 item min. to perform\nShow up\, go up
URL:https://thecomedybureau.com/show/eastville-comedy-club-in-nyc-51-2-2-2/2024-05-21/
LOCATION:Eastville Comedy Club\, 487 Atlantic Avenue\, Brooklyn\, NY\, 11217\, United States
CATEGORIES:New York,New York Open Mics,Open Mic,Standard
GEO:40.6859214;-73.9816178
X-APPLE-STRUCTURED-LOCATION;VALUE=URI;X-ADDRESS=Eastville Comedy Club 487 Atlantic Avenue Brooklyn NY 11217 United States;X-APPLE-RADIUS=500;X-TITLE=487 Atlantic Avenue:geo:-73.9816178,40.6859214
END:VEVENT
BEGIN:VEVENT
DTSTART;TZID=America/New_York:20240521T190000
DTEND;TZID=America/New_York:20240521T203000
DTSTAMP:20260425T184358
CREATED:20231218T192643Z
LAST-MODIFIED:20241126T043529Z
UID:10016397-1716318000-1716323400@thecomedybureau.com
SUMMARY:The Tiny Cupboard (in NYC)
DESCRIPTION:Starts at 7PM ET\nShow up\, go up\n$2 to perform\nMixed mic (comedy\, music poetry)\nShow up go up*\nSign-up details and list of hosts available at thetinycupboard.com/open-mics/
URL:https://thecomedybureau.com/show/the-tiny-cupboard-in-nyc-245-2-2-2/2024-05-21/
LOCATION:The Tiny Cupboard\, 1717 Broadway #315\, Brooklyn\, NY\, 11207\, United States
CATEGORIES:New York,New York Open Mics,Open Mic
GEO:40.6835998;-73.911137
X-APPLE-STRUCTURED-LOCATION;VALUE=URI;X-ADDRESS=The Tiny Cupboard 1717 Broadway #315 Brooklyn NY 11207 United States;X-APPLE-RADIUS=500;X-TITLE=1717 Broadway #315:geo:-73.911137,40.6835998
END:VEVENT
BEGIN:VEVENT
DTSTART;TZID=America/New_York:20240521T190000
DTEND;TZID=America/New_York:20240521T203000
DTSTAMP:20260425T184358
CREATED:20231128T175448Z
LAST-MODIFIED:20241021T162358Z
UID:10016386-1716318000-1716323400@thecomedybureau.com
SUMMARY:Caravan of Dreams (in NYC)
DESCRIPTION:Starts 7PM ET\n5 min.\n$3 + 1 item min. to perform
URL:https://thecomedybureau.com/show/2-120-2-2/2024-05-21/
LOCATION:Caravan of Dreams\, 405 East 6th Street\, New York\, NY\, 10009\, United States
CATEGORIES:New York Open Mics,Open Mic,Standard
GEO:40.7263961;-73.9856544
X-APPLE-STRUCTURED-LOCATION;VALUE=URI;X-ADDRESS=Caravan of Dreams 405 East 6th Street New York NY 10009 United States;X-APPLE-RADIUS=500;X-TITLE=405 East 6th Street:geo:-73.9856544,40.7263961
END:VEVENT
BEGIN:VEVENT
DTSTART;TZID=America/New_York:20240521T190000
DTEND;TZID=America/New_York:20240521T210000
DTSTAMP:20260425T184358
CREATED:20231029T103450Z
LAST-MODIFIED:20241126T091353Z
UID:10016426-1716318000-1716325200@thecomedybureau.com
SUMMARY:Alphaville (in NYC)
DESCRIPTION:Sign-up 6:30PM ET\nStarts 7PM ET\n5 min.\n$5 or 1 drink min. to perform\nPresented by Pure Chaos Comedy
URL:https://thecomedybureau.com/show/alphaville-in-nyc-2/2024-05-21/
LOCATION:Alphaville\, 140 Wilson Street\, New York\, NY\, 11237\, United States
CATEGORIES:New York Open Mics,Open Mic,Standard
GEO:40.7055301;-73.9618778
X-APPLE-STRUCTURED-LOCATION;VALUE=URI;X-ADDRESS=Alphaville 140 Wilson Street New York NY 11237 United States;X-APPLE-RADIUS=500;X-TITLE=140 Wilson Street:geo:-73.9618778,40.7055301
END:VEVENT
BEGIN:VEVENT
DTSTART;TZID=America/Los_Angeles:20240521T203000
DTEND;TZID=America/Los_Angeles:20240521T213000
DTSTAMP:20260425T184358
CREATED:20231128T180206Z
LAST-MODIFIED:20260330T080301Z
UID:10016456-1716323400-1716327000@thecomedybureau.com
SUMMARY:Pump Up: The Jam @ Brooklyn Comedy Collective (in NYC)
DESCRIPTION:For improv only\nStarts 8:30PM ET\nAnyone can play\nHosted by William Banks & Chloe Troast \nMust be 21+ to attend
URL:https://thecomedybureau.com/show/pump-up-the-jam-brooklyn-comedy-collective-in-nyc-2-2/2024-05-21/
LOCATION:Brooklyn Comedy Collective\, 167 Graham Avenue\, Brooklyn\, NY\, 11206\, United States
CATEGORIES:Improv Jam,New York,New York Open Mics,Open Mic
GEO:40.7077178;-73.9436219
X-APPLE-STRUCTURED-LOCATION;VALUE=URI;X-ADDRESS=Brooklyn Comedy Collective 167 Graham Avenue Brooklyn NY 11206 United States;X-APPLE-RADIUS=500;X-TITLE=167 Graham Avenue:geo:-73.9436219,40.7077178
END:VEVENT
BEGIN:VEVENT
DTSTART;TZID=America/New_York:20240521T203000
DTEND;TZID=America/New_York:20240521T220000
DTSTAMP:20260425T184358
CREATED:20231128T175846Z
LAST-MODIFIED:20260330T080427Z
UID:10093968-1716323400-1716328800@thecomedybureau.com
SUMMARY:BCC Open Ass Mic @ Brooklyn Comedy Collective (in NYC)
DESCRIPTION:Sign-up 8:15PM ET\nStarts 8:30PM ET\nEnds 9:45PM ET\n3 min.\nAll performers welcome\nThere is a ZERO TOLERANCE POLICY FOR BIGOTED MATERIAL.\nFirst come\, first served
URL:https://thecomedybureau.com/show/ladies-who-ranch-open-mic-brooklyn-comedy-collective-in-nyc-2-2/2024-05-21/
LOCATION:Brooklyn Comedy Collective\, 167 Graham Avenue\, Brooklyn\, NY\, 11206\, United States
CATEGORIES:New York Open Mics,Open Mic
GEO:40.7077178;-73.9436219
X-APPLE-STRUCTURED-LOCATION;VALUE=URI;X-ADDRESS=Brooklyn Comedy Collective 167 Graham Avenue Brooklyn NY 11206 United States;X-APPLE-RADIUS=500;X-TITLE=167 Graham Avenue:geo:-73.9436219,40.7077178
END:VEVENT
BEGIN:VEVENT
DTSTART;TZID=America/New_York:20240521T213000
DTEND;TZID=America/New_York:20240521T233000
DTSTAMP:20260425T184358
CREATED:20231128T180646Z
LAST-MODIFIED:20260330T064719Z
UID:10016511-1716327000-1716334200@thecomedybureau.com
SUMMARY:FRIGID Open Mic @ Under St Marks Theater (in NYC)
DESCRIPTION:Starts 9:30PM ET\n7 min.\nMixed mic (all performers welcome)
URL:https://thecomedybureau.com/show/frigid-open-mic-under-st-marks-theater-in-nyc-2-2/2024-05-21/
LOCATION:Under St. Marks Theater\, 94 Saint Marks Place\, New York\, NY\, 10009\, United States
CATEGORIES:New York,New York Open Mics,Open Mic
GEO:40.7272968;-73.9849712
X-APPLE-STRUCTURED-LOCATION;VALUE=URI;X-ADDRESS=Under St. Marks Theater 94 Saint Marks Place New York NY 10009 United States;X-APPLE-RADIUS=500;X-TITLE=94 Saint Marks Place:geo:-73.9849712,40.7272968
END:VEVENT
BEGIN:VEVENT
DTSTART;TZID=America/New_York:20240521T214500
DTEND;TZID=America/New_York:20240521T233000
DTSTAMP:20260425T184358
CREATED:20240102T035406Z
LAST-MODIFIED:20250629T070902Z
UID:10016519-1716327900-1716334200@thecomedybureau.com
SUMMARY:Eastville Comedy Club (in NYC)
DESCRIPTION:Sign-up 9:15PM ET\nStarts 9:45PM ET\nEnds 11:30PM ET\n5 min.\n1 item min. to perform\nShow up\, go up
URL:https://thecomedybureau.com/show/eastville-comedy-club-in-nyc-51-2-2-3/2024-05-21/
LOCATION:Eastville Comedy Club\, 487 Atlantic Avenue\, Brooklyn\, NY\, 11217\, United States
CATEGORIES:New York,New York Open Mics,Open Mic,Standard
GEO:40.6859214;-73.9816178
X-APPLE-STRUCTURED-LOCATION;VALUE=URI;X-ADDRESS=Eastville Comedy Club 487 Atlantic Avenue Brooklyn NY 11217 United States;X-APPLE-RADIUS=500;X-TITLE=487 Atlantic Avenue:geo:-73.9816178,40.6859214
END:VEVENT
BEGIN:VEVENT
DTSTART;TZID=America/New_York:20240521T220000
DTEND;TZID=America/New_York:20240521T233000
DTSTAMP:20260425T184358
CREATED:20231218T193453Z
LAST-MODIFIED:20251220T024654Z
UID:10016542-1716328800-1716334200@thecomedybureau.com
SUMMARY:The Tiny Cupboard (in NYC)
DESCRIPTION:Starts at 10PM ET\nShow up\, go up\n$2 to perform\nMixed mic (comedy\, music poetry)\nShow up go up*\nSign-up details and list of hosts available at thetinycupboard.com/open-mics/
URL:https://thecomedybureau.com/show/the-tiny-cupboard-in-nyc-247-2-2-2/2024-05-21/
LOCATION:The Tiny Cupboard\, 1717 Broadway #315\, Brooklyn\, NY\, 11207\, United States
CATEGORIES:New York,New York Open Mics,Open Mic
GEO:40.6835998;-73.911137
X-APPLE-STRUCTURED-LOCATION;VALUE=URI;X-ADDRESS=The Tiny Cupboard 1717 Broadway #315 Brooklyn NY 11207 United States;X-APPLE-RADIUS=500;X-TITLE=1717 Broadway #315:geo:-73.911137,40.6835998
END:VEVENT
BEGIN:VEVENT
DTSTART;TZID=America/New_York:20240521T230000
DTEND;TZID=America/New_York:20240522T003000
DTSTAMP:20260425T184358
CREATED:20231128T180728Z
LAST-MODIFIED:20240924T021151Z
UID:10016571-1716332400-1716337800@thecomedybureau.com
SUMMARY:Young Ethel's (in NYC)
DESCRIPTION:Starts 11PM ET\n5 min.\nFREE\nSign-up in advance with Val “boderpa” Bodurtha on 1st and 3rd tuesdays and Matt Vita on 2nd and 4th tuesdays
URL:https://thecomedybureau.com/show/young-ethels-in-nyc-2-2/2024-05-21/
LOCATION:Young Ethel’s\, 506 5th Avenue\, Brooklyn\, NY\, 11215\, United States
CATEGORIES:New York,New York Open Mics,Open Mic
GEO:40.6672238;-73.988263
X-APPLE-STRUCTURED-LOCATION;VALUE=URI;X-ADDRESS=Young Ethel’s 506 5th Avenue Brooklyn NY 11215 United States;X-APPLE-RADIUS=500;X-TITLE=506 5th Avenue:geo:-73.988263,40.6672238
END:VEVENT
BEGIN:VEVENT
DTSTART;TZID=America/Los_Angeles:20240521T235900
DTEND;TZID=America/Los_Angeles:20240522T013000
DTSTAMP:20260425T184358
CREATED:20231218T193611Z
LAST-MODIFIED:20251228T080000Z
UID:10016576-1716335940-1716341400@thecomedybureau.com
SUMMARY:McLoughlin's (in NYC)
DESCRIPTION:Starts 11:59PM ET\n5-7 min.\nHosted by Brady Hold\nFREE
URL:https://thecomedybureau.com/show/mcloughlins-in-nyc-30-2-2-2/2024-05-21/
LOCATION:McLoughlin’s\, 3106 Broadway\, Queens\, NY\, 11106\, United States
CATEGORIES:New York,New York Open Mics,Open Mic
GEO:40.7617875;-73.9251638
X-APPLE-STRUCTURED-LOCATION;VALUE=URI;X-ADDRESS=McLoughlin’s 3106 Broadway Queens NY 11106 United States;X-APPLE-RADIUS=500;X-TITLE=3106 Broadway:geo:-73.9251638,40.7617875
END:VEVENT
BEGIN:VEVENT
DTSTART;TZID=America/New_York:20240522T173000
DTEND;TZID=America/New_York:20240522T190000
DTSTAMP:20260425T184358
CREATED:20231218T191524Z
LAST-MODIFIED:20250629T070438Z
UID:10016333-1716399000-1716404400@thecomedybureau.com
SUMMARY:The Tiny Cupboard (in NYC)
DESCRIPTION:Starts at 5:30PM\nShow up\, go up\n$2 to perform\nMixed mic (comedy\, music poetry)\nShow up go up*\nSign-up details and list of hosts available at thetinycupboard.com/open-mics/
URL:https://thecomedybureau.com/show/the-tiny-cupboard-in-nyc-209-2-2-2/2024-05-22/
LOCATION:The Tiny Cupboard\, 1717 Broadway #315\, Brooklyn\, NY\, 11207\, United States
CATEGORIES:New York,New York Open Mics,Open Mic
GEO:40.6835998;-73.911137
X-APPLE-STRUCTURED-LOCATION;VALUE=URI;X-ADDRESS=The Tiny Cupboard 1717 Broadway #315 Brooklyn NY 11207 United States;X-APPLE-RADIUS=500;X-TITLE=1717 Broadway #315:geo:-73.911137,40.6835998
END:VEVENT
BEGIN:VEVENT
DTSTART;TZID=America/New_York:20240522T180000
DTEND;TZID=America/New_York:20240522T193000
DTSTAMP:20260425T184358
CREATED:20220202T182523Z
LAST-MODIFIED:20250130T030250Z
UID:10016682-1716400800-1716406200@thecomedybureau.com
SUMMARY:Q.E.D. Astoria (in NYC)
DESCRIPTION:Sign-up 5:30PM ET\nStarts 6PM ET\nEnds 7:20PM ET\n3-5 min. depending on turnout
URL:https://thecomedybureau.com/show/q-e-d-astoria-in-nyc-76/2024-05-22/
LOCATION:Q.E.D. Astoria\, 27-16 23rd Avenue\, Queens\, NY\, 11105\, United States
CATEGORIES:New York,New York Open Mics,Open Mic
GEO:40.7755628;-73.9148992
X-APPLE-STRUCTURED-LOCATION;VALUE=URI;X-ADDRESS=Q.E.D. Astoria 27-16 23rd Avenue Queens NY 11105 United States;X-APPLE-RADIUS=500;X-TITLE=27-16 23rd Avenue:geo:-73.9148992,40.7755628
END:VEVENT
BEGIN:VEVENT
DTSTART;TZID=America/Los_Angeles:20240522T180000
DTEND;TZID=America/Los_Angeles:20240522T200000
DTSTAMP:20260425T184358
CREATED:20231218T192456Z
LAST-MODIFIED:20241021T161615Z
UID:10016370-1716400800-1716408000@thecomedybureau.com
SUMMARY:Eastville Comedy Club (in NYC)
DESCRIPTION:Sign-up 5:30PM ET\nStarts 6PM ET\nEnds 7:45PM ET\n5 min.\n1 item min. to perform\nShow up\, go up
URL:https://thecomedybureau.com/show/eastville-comedy-club-in-nyc-51-2-2-2/2024-05-22/
LOCATION:Eastville Comedy Club\, 487 Atlantic Avenue\, Brooklyn\, NY\, 11217\, United States
CATEGORIES:New York,New York Open Mics,Open Mic,Standard
GEO:40.6859214;-73.9816178
X-APPLE-STRUCTURED-LOCATION;VALUE=URI;X-ADDRESS=Eastville Comedy Club 487 Atlantic Avenue Brooklyn NY 11217 United States;X-APPLE-RADIUS=500;X-TITLE=487 Atlantic Avenue:geo:-73.9816178,40.6859214
END:VEVENT
BEGIN:VEVENT
DTSTART;TZID=America/New_York:20240522T190000
DTEND;TZID=America/New_York:20240522T203000
DTSTAMP:20260425T184358
CREATED:20231218T192643Z
LAST-MODIFIED:20241126T043529Z
UID:10016398-1716404400-1716409800@thecomedybureau.com
SUMMARY:The Tiny Cupboard (in NYC)
DESCRIPTION:Starts at 7PM ET\nShow up\, go up\n$2 to perform\nMixed mic (comedy\, music poetry)\nShow up go up*\nSign-up details and list of hosts available at thetinycupboard.com/open-mics/
URL:https://thecomedybureau.com/show/the-tiny-cupboard-in-nyc-245-2-2-2/2024-05-22/
LOCATION:The Tiny Cupboard\, 1717 Broadway #315\, Brooklyn\, NY\, 11207\, United States
CATEGORIES:New York,New York Open Mics,Open Mic
GEO:40.6835998;-73.911137
X-APPLE-STRUCTURED-LOCATION;VALUE=URI;X-ADDRESS=The Tiny Cupboard 1717 Broadway #315 Brooklyn NY 11207 United States;X-APPLE-RADIUS=500;X-TITLE=1717 Broadway #315:geo:-73.911137,40.6835998
END:VEVENT
BEGIN:VEVENT
DTSTART;TZID=America/New_York:20240522T214500
DTEND;TZID=America/New_York:20240522T233000
DTSTAMP:20260425T184358
CREATED:20240102T035406Z
LAST-MODIFIED:20250629T070902Z
UID:10016520-1716414300-1716420600@thecomedybureau.com
SUMMARY:Eastville Comedy Club (in NYC)
DESCRIPTION:Sign-up 9:15PM ET\nStarts 9:45PM ET\nEnds 11:30PM ET\n5 min.\n1 item min. to perform\nShow up\, go up
URL:https://thecomedybureau.com/show/eastville-comedy-club-in-nyc-51-2-2-3/2024-05-22/
LOCATION:Eastville Comedy Club\, 487 Atlantic Avenue\, Brooklyn\, NY\, 11217\, United States
CATEGORIES:New York,New York Open Mics,Open Mic,Standard
GEO:40.6859214;-73.9816178
X-APPLE-STRUCTURED-LOCATION;VALUE=URI;X-ADDRESS=Eastville Comedy Club 487 Atlantic Avenue Brooklyn NY 11217 United States;X-APPLE-RADIUS=500;X-TITLE=487 Atlantic Avenue:geo:-73.9816178,40.6859214
END:VEVENT
BEGIN:VEVENT
DTSTART;TZID=America/New_York:20240522T220000
DTEND;TZID=America/New_York:20240522T233000
DTSTAMP:20260425T184358
CREATED:20231218T193453Z
LAST-MODIFIED:20251220T024654Z
UID:10016543-1716415200-1716420600@thecomedybureau.com
SUMMARY:The Tiny Cupboard (in NYC)
DESCRIPTION:Starts at 10PM ET\nShow up\, go up\n$2 to perform\nMixed mic (comedy\, music poetry)\nShow up go up*\nSign-up details and list of hosts available at thetinycupboard.com/open-mics/
URL:https://thecomedybureau.com/show/the-tiny-cupboard-in-nyc-247-2-2-2/2024-05-22/
LOCATION:The Tiny Cupboard\, 1717 Broadway #315\, Brooklyn\, NY\, 11207\, United States
CATEGORIES:New York,New York Open Mics,Open Mic
GEO:40.6835998;-73.911137
X-APPLE-STRUCTURED-LOCATION;VALUE=URI;X-ADDRESS=The Tiny Cupboard 1717 Broadway #315 Brooklyn NY 11207 United States;X-APPLE-RADIUS=500;X-TITLE=1717 Broadway #315:geo:-73.911137,40.6835998
END:VEVENT
BEGIN:VEVENT
DTSTART;TZID=America/New_York:20240522T224500
DTEND;TZID=America/New_York:20240523T003000
DTSTAMP:20260425T184358
CREATED:20211206T033011Z
LAST-MODIFIED:20241128T190913Z
UID:10016692-1716417900-1716424200@thecomedybureau.com
SUMMARY:Q.E.D. Astoria (in NYC)
DESCRIPTION:Sign-up 10:30PM ET\nStarts 10:45PM ET\nEnds 12:30AM ET\nLottery\n3 min.
URL:https://thecomedybureau.com/show/creature-feature-open-mic-q-e-d-astoria-in-nyc-18/2024-05-22/
LOCATION:Q.E.D. Astoria\, 27-16 23rd Avenue\, Queens\, NY\, 11105\, United States
CATEGORIES:New York,New York Open Mics,Open Mic
GEO:40.7755628;-73.9148992
X-APPLE-STRUCTURED-LOCATION;VALUE=URI;X-ADDRESS=Q.E.D. Astoria 27-16 23rd Avenue Queens NY 11105 United States;X-APPLE-RADIUS=500;X-TITLE=27-16 23rd Avenue:geo:-73.9148992,40.7755628
END:VEVENT
BEGIN:VEVENT
DTSTART;TZID=America/New_York:20240523T173000
DTEND;TZID=America/New_York:20240523T190000
DTSTAMP:20260425T184358
CREATED:20231218T191524Z
LAST-MODIFIED:20250629T070438Z
UID:10016334-1716485400-1716490800@thecomedybureau.com
SUMMARY:The Tiny Cupboard (in NYC)
DESCRIPTION:Starts at 5:30PM\nShow up\, go up\n$2 to perform\nMixed mic (comedy\, music poetry)\nShow up go up*\nSign-up details and list of hosts available at thetinycupboard.com/open-mics/
URL:https://thecomedybureau.com/show/the-tiny-cupboard-in-nyc-209-2-2-2/2024-05-23/
LOCATION:The Tiny Cupboard\, 1717 Broadway #315\, Brooklyn\, NY\, 11207\, United States
CATEGORIES:New York,New York Open Mics,Open Mic
GEO:40.6835998;-73.911137
X-APPLE-STRUCTURED-LOCATION;VALUE=URI;X-ADDRESS=The Tiny Cupboard 1717 Broadway #315 Brooklyn NY 11207 United States;X-APPLE-RADIUS=500;X-TITLE=1717 Broadway #315:geo:-73.911137,40.6835998
END:VEVENT
BEGIN:VEVENT
DTSTART;TZID=America/New_York:20240523T180000
DTEND;TZID=America/New_York:20240523T193000
DTSTAMP:20260425T184358
CREATED:20220202T182523Z
LAST-MODIFIED:20250130T030250Z
UID:10016683-1716487200-1716492600@thecomedybureau.com
SUMMARY:Q.E.D. Astoria (in NYC)
DESCRIPTION:Sign-up 5:30PM ET\nStarts 6PM ET\nEnds 7:20PM ET\n3-5 min. depending on turnout
URL:https://thecomedybureau.com/show/q-e-d-astoria-in-nyc-76/2024-05-23/
LOCATION:Q.E.D. Astoria\, 27-16 23rd Avenue\, Queens\, NY\, 11105\, United States
CATEGORIES:New York,New York Open Mics,Open Mic
GEO:40.7755628;-73.9148992
X-APPLE-STRUCTURED-LOCATION;VALUE=URI;X-ADDRESS=Q.E.D. Astoria 27-16 23rd Avenue Queens NY 11105 United States;X-APPLE-RADIUS=500;X-TITLE=27-16 23rd Avenue:geo:-73.9148992,40.7755628
END:VEVENT
BEGIN:VEVENT
DTSTART;TZID=America/Los_Angeles:20240523T180000
DTEND;TZID=America/Los_Angeles:20240523T200000
DTSTAMP:20260425T184358
CREATED:20231218T192456Z
LAST-MODIFIED:20241021T161615Z
UID:10016371-1716487200-1716494400@thecomedybureau.com
SUMMARY:Eastville Comedy Club (in NYC)
DESCRIPTION:Sign-up 5:30PM ET\nStarts 6PM ET\nEnds 7:45PM ET\n5 min.\n1 item min. to perform\nShow up\, go up
URL:https://thecomedybureau.com/show/eastville-comedy-club-in-nyc-51-2-2-2/2024-05-23/
LOCATION:Eastville Comedy Club\, 487 Atlantic Avenue\, Brooklyn\, NY\, 11217\, United States
CATEGORIES:New York,New York Open Mics,Open Mic,Standard
GEO:40.6859214;-73.9816178
X-APPLE-STRUCTURED-LOCATION;VALUE=URI;X-ADDRESS=Eastville Comedy Club 487 Atlantic Avenue Brooklyn NY 11217 United States;X-APPLE-RADIUS=500;X-TITLE=487 Atlantic Avenue:geo:-73.9816178,40.6859214
END:VEVENT
BEGIN:VEVENT
DTSTART;TZID=America/New_York:20240523T190000
DTEND;TZID=America/New_York:20240523T203000
DTSTAMP:20260425T184358
CREATED:20231218T192643Z
LAST-MODIFIED:20241126T043529Z
UID:10016399-1716490800-1716496200@thecomedybureau.com
SUMMARY:The Tiny Cupboard (in NYC)
DESCRIPTION:Starts at 7PM ET\nShow up\, go up\n$2 to perform\nMixed mic (comedy\, music poetry)\nShow up go up*\nSign-up details and list of hosts available at thetinycupboard.com/open-mics/
URL:https://thecomedybureau.com/show/the-tiny-cupboard-in-nyc-245-2-2-2/2024-05-23/
LOCATION:The Tiny Cupboard\, 1717 Broadway #315\, Brooklyn\, NY\, 11207\, United States
CATEGORIES:New York,New York Open Mics,Open Mic
GEO:40.6835998;-73.911137
X-APPLE-STRUCTURED-LOCATION;VALUE=URI;X-ADDRESS=The Tiny Cupboard 1717 Broadway #315 Brooklyn NY 11207 United States;X-APPLE-RADIUS=500;X-TITLE=1717 Broadway #315:geo:-73.911137,40.6835998
END:VEVENT
BEGIN:VEVENT
DTSTART;TZID=America/Los_Angeles:20240523T190000
DTEND;TZID=America/Los_Angeles:20240523T210000
DTSTAMP:20260425T184358
CREATED:20231128T175646Z
LAST-MODIFIED:20260330T080003Z
UID:10016434-1716490800-1716498000@thecomedybureau.com
SUMMARY:Comedians on the Loose @ Black Cat LES (in NYC)
DESCRIPTION:Starts 7PM ET\nSign-up in advance at https://www.comediansontheloose.com/open-mics\n5-7 min.\n$5 to perform\nHosted by Sonja Savanovic
URL:https://thecomedybureau.com/show/comedians-on-the-loose-black-cat-les-in-nyc-54-2-2/2024-05-23/
LOCATION:Black Cat LES\, 172 Rivington Street\, New York\, NY\, 10002\, United States
CATEGORIES:New York,New York Open Mics,Open Mic,Standard
GEO:40.7191658;-73.9845007
X-APPLE-STRUCTURED-LOCATION;VALUE=URI;X-ADDRESS=Black Cat LES 172 Rivington Street New York NY 10002 United States;X-APPLE-RADIUS=500;X-TITLE=172 Rivington Street:geo:-73.9845007,40.7191658
END:VEVENT
BEGIN:VEVENT
DTSTART;TZID=America/Los_Angeles:20240523T210000
DTEND;TZID=America/Los_Angeles:20240523T230000
DTSTAMP:20260425T184358
CREATED:20231128T180536Z
LAST-MODIFIED:20260330T075826Z
UID:10016499-1716498000-1716505200@thecomedybureau.com
SUMMARY:Comedians on the Loose @ Black Cat LES (in NYC)
DESCRIPTION:Starts 9PM ET\nSign-up in advance at https://www.comediansontheloose.com/open-mics\n5-7 min.\n$5 to perform\nHosted by Sonja Savanovic
URL:https://thecomedybureau.com/show/comedians-on-the-loose-black-cat-les-in-nyc-59-2-2/2024-05-23/
LOCATION:Black Cat LES\, 172 Rivington Street\, New York\, NY\, 10002\, United States
CATEGORIES:New York,New York Open Mics,Open Mic
GEO:40.7191658;-73.9845007
X-APPLE-STRUCTURED-LOCATION;VALUE=URI;X-ADDRESS=Black Cat LES 172 Rivington Street New York NY 10002 United States;X-APPLE-RADIUS=500;X-TITLE=172 Rivington Street:geo:-73.9845007,40.7191658
END:VEVENT
BEGIN:VEVENT
DTSTART;TZID=America/New_York:20240523T220000
DTEND;TZID=America/New_York:20240523T233000
DTSTAMP:20260425T184358
CREATED:20231218T193453Z
LAST-MODIFIED:20251220T024654Z
UID:10016544-1716501600-1716507000@thecomedybureau.com
SUMMARY:The Tiny Cupboard (in NYC)
DESCRIPTION:Starts at 10PM ET\nShow up\, go up\n$2 to perform\nMixed mic (comedy\, music poetry)\nShow up go up*\nSign-up details and list of hosts available at thetinycupboard.com/open-mics/
URL:https://thecomedybureau.com/show/the-tiny-cupboard-in-nyc-247-2-2-2/2024-05-23/
LOCATION:The Tiny Cupboard\, 1717 Broadway #315\, Brooklyn\, NY\, 11207\, United States
CATEGORIES:New York,New York Open Mics,Open Mic
GEO:40.6835998;-73.911137
X-APPLE-STRUCTURED-LOCATION;VALUE=URI;X-ADDRESS=The Tiny Cupboard 1717 Broadway #315 Brooklyn NY 11207 United States;X-APPLE-RADIUS=500;X-TITLE=1717 Broadway #315:geo:-73.911137,40.6835998
END:VEVENT
BEGIN:VEVENT
DTSTART;TZID=America/New_York:20240523T224500
DTEND;TZID=America/New_York:20240524T003000
DTSTAMP:20260425T184358
CREATED:20211206T033011Z
LAST-MODIFIED:20241128T190913Z
UID:10016693-1716504300-1716510600@thecomedybureau.com
SUMMARY:Q.E.D. Astoria (in NYC)
DESCRIPTION:Sign-up 10:30PM ET\nStarts 10:45PM ET\nEnds 12:30AM ET\nLottery\n3 min.
URL:https://thecomedybureau.com/show/creature-feature-open-mic-q-e-d-astoria-in-nyc-18/2024-05-23/
LOCATION:Q.E.D. Astoria\, 27-16 23rd Avenue\, Queens\, NY\, 11105\, United States
CATEGORIES:New York,New York Open Mics,Open Mic
GEO:40.7755628;-73.9148992
X-APPLE-STRUCTURED-LOCATION;VALUE=URI;X-ADDRESS=Q.E.D. Astoria 27-16 23rd Avenue Queens NY 11105 United States;X-APPLE-RADIUS=500;X-TITLE=27-16 23rd Avenue:geo:-73.9148992,40.7755628
END:VEVENT
BEGIN:VEVENT
DTSTART;TZID=America/New_York:20240524T170000
DTEND;TZID=America/New_York:20240524T190000
DTSTAMP:20260425T184358
CREATED:20220907T020639Z
LAST-MODIFIED:20250331T011700Z
UID:10016912-1716570000-1716577200@thecomedybureau.com
SUMMARY:Q.E.D. Astoria (in NYC)
DESCRIPTION:Starts 5PM ET\n4 min.\n1 item min. to perform\nLottery
URL:https://thecomedybureau.com/show/q-e-d-astoria-in-nyc-80/2024-05-24/
LOCATION:Q.E.D. Astoria\, 27-16 23rd Avenue\, Queens\, NY\, 11105\, United States
CATEGORIES:New York Open Mics,Open Mic
GEO:40.7755628;-73.9148992
X-APPLE-STRUCTURED-LOCATION;VALUE=URI;X-ADDRESS=Q.E.D. Astoria 27-16 23rd Avenue Queens NY 11105 United States;X-APPLE-RADIUS=500;X-TITLE=27-16 23rd Avenue:geo:-73.9148992,40.7755628
END:VEVENT
BEGIN:VEVENT
DTSTART;TZID=America/New_York:20240524T173000
DTEND;TZID=America/New_York:20240524T190000
DTSTAMP:20260425T184358
CREATED:20231218T191524Z
LAST-MODIFIED:20250629T070438Z
UID:10016335-1716571800-1716577200@thecomedybureau.com
SUMMARY:The Tiny Cupboard (in NYC)
DESCRIPTION:Starts at 5:30PM\nShow up\, go up\n$2 to perform\nMixed mic (comedy\, music poetry)\nShow up go up*\nSign-up details and list of hosts available at thetinycupboard.com/open-mics/
URL:https://thecomedybureau.com/show/the-tiny-cupboard-in-nyc-209-2-2-2/2024-05-24/
LOCATION:The Tiny Cupboard\, 1717 Broadway #315\, Brooklyn\, NY\, 11207\, United States
CATEGORIES:New York,New York Open Mics,Open Mic
GEO:40.6835998;-73.911137
X-APPLE-STRUCTURED-LOCATION;VALUE=URI;X-ADDRESS=The Tiny Cupboard 1717 Broadway #315 Brooklyn NY 11207 United States;X-APPLE-RADIUS=500;X-TITLE=1717 Broadway #315:geo:-73.911137,40.6835998
END:VEVENT
BEGIN:VEVENT
DTSTART;TZID=America/New_York:20240524T180000
DTEND;TZID=America/New_York:20240524T200000
DTSTAMP:20260425T184358
CREATED:20240303T033455Z
LAST-MODIFIED:20241126T200037Z
UID:10016926-1716573600-1716580800@thecomedybureau.com
SUMMARY:The Flop House (in NYC)
DESCRIPTION:Sign-up 5:30PM ET\nStarts 6PM ET\n5 min.\n$5 or 1 drink min. to perform\nPresented by Pure Chaos Comedy
URL:https://thecomedybureau.com/show/the-flop-house-in-nyc-2/2024-05-24/
LOCATION:Flop House Comedy Club\, 362 Grand Street\, Brooklyn\, NY\, 11211\, United States
CATEGORIES:New York Open Mics,Open Mic
GEO:40.7122531;-73.9557515
X-APPLE-STRUCTURED-LOCATION;VALUE=URI;X-ADDRESS=Flop House Comedy Club 362 Grand Street Brooklyn NY 11211 United States;X-APPLE-RADIUS=500;X-TITLE=362 Grand Street:geo:-73.9557515,40.7122531
END:VEVENT
END:VCALENDAR