BEGIN:VCALENDAR
VERSION:2.0
PRODID:-//The Comedy Bureau - ECPv6.15.18//NONSGML v1.0//EN
CALSCALE:GREGORIAN
METHOD:PUBLISH
X-WR-CALNAME:The Comedy Bureau
X-ORIGINAL-URL:https://thecomedybureau.com
X-WR-CALDESC:Events for The Comedy Bureau
REFRESH-INTERVAL;VALUE=DURATION:PT1H
X-Robots-Tag:noindex
X-PUBLISHED-TTL:PT1H
BEGIN:VTIMEZONE
TZID:America/New_York
BEGIN:DAYLIGHT
TZOFFSETFROM:-0500
TZOFFSETTO:-0400
TZNAME:EDT
DTSTART:20230312T070000
END:DAYLIGHT
BEGIN:STANDARD
TZOFFSETFROM:-0400
TZOFFSETTO:-0500
TZNAME:EST
DTSTART:20231105T060000
END:STANDARD
BEGIN:DAYLIGHT
TZOFFSETFROM:-0500
TZOFFSETTO:-0400
TZNAME:EDT
DTSTART:20240310T070000
END:DAYLIGHT
BEGIN:STANDARD
TZOFFSETFROM:-0400
TZOFFSETTO:-0500
TZNAME:EST
DTSTART:20241103T060000
END:STANDARD
BEGIN:DAYLIGHT
TZOFFSETFROM:-0500
TZOFFSETTO:-0400
TZNAME:EDT
DTSTART:20250309T070000
END:DAYLIGHT
BEGIN:STANDARD
TZOFFSETFROM:-0400
TZOFFSETTO:-0500
TZNAME:EST
DTSTART:20251102T060000
END:STANDARD
END:VTIMEZONE
BEGIN:VTIMEZONE
TZID:America/Los_Angeles
BEGIN:DAYLIGHT
TZOFFSETFROM:-0800
TZOFFSETTO:-0700
TZNAME:PDT
DTSTART:20230312T100000
END:DAYLIGHT
BEGIN:STANDARD
TZOFFSETFROM:-0700
TZOFFSETTO:-0800
TZNAME:PST
DTSTART:20231105T090000
END:STANDARD
BEGIN:DAYLIGHT
TZOFFSETFROM:-0800
TZOFFSETTO:-0700
TZNAME:PDT
DTSTART:20240310T100000
END:DAYLIGHT
BEGIN:STANDARD
TZOFFSETFROM:-0700
TZOFFSETTO:-0800
TZNAME:PST
DTSTART:20241103T090000
END:STANDARD
BEGIN:DAYLIGHT
TZOFFSETFROM:-0800
TZOFFSETTO:-0700
TZNAME:PDT
DTSTART:20250309T100000
END:DAYLIGHT
BEGIN:STANDARD
TZOFFSETFROM:-0700
TZOFFSETTO:-0800
TZNAME:PST
DTSTART:20251102T090000
END:STANDARD
END:VTIMEZONE
BEGIN:VEVENT
DTSTART;TZID=America/New_York:20240515T190000
DTEND;TZID=America/New_York:20240515T203000
DTSTAMP:20260425T170006
CREATED:20231218T192643Z
LAST-MODIFIED:20241126T043529Z
UID:10016391-1715799600-1715805000@thecomedybureau.com
SUMMARY:The Tiny Cupboard (in NYC)
DESCRIPTION:Starts at 7PM ET\nShow up\, go up\n$2 to perform\nMixed mic (comedy\, music poetry)\nShow up go up*\nSign-up details and list of hosts available at thetinycupboard.com/open-mics/
URL:https://thecomedybureau.com/show/the-tiny-cupboard-in-nyc-245-2-2-2/2024-05-15/
LOCATION:The Tiny Cupboard\, 1717 Broadway #315\, Brooklyn\, NY\, 11207\, United States
CATEGORIES:New York,New York Open Mics,Open Mic
GEO:40.6835998;-73.911137
X-APPLE-STRUCTURED-LOCATION;VALUE=URI;X-ADDRESS=The Tiny Cupboard 1717 Broadway #315 Brooklyn NY 11207 United States;X-APPLE-RADIUS=500;X-TITLE=1717 Broadway #315:geo:-73.911137,40.6835998
END:VEVENT
BEGIN:VEVENT
DTSTART;TZID=America/New_York:20240515T214500
DTEND;TZID=America/New_York:20240515T233000
DTSTAMP:20260425T170006
CREATED:20240102T035406Z
LAST-MODIFIED:20250629T070902Z
UID:10016516-1715809500-1715815800@thecomedybureau.com
SUMMARY:Eastville Comedy Club (in NYC)
DESCRIPTION:Sign-up 9:15PM ET\nStarts 9:45PM ET\nEnds 11:30PM ET\n5 min.\n1 item min. to perform\nShow up\, go up
URL:https://thecomedybureau.com/show/eastville-comedy-club-in-nyc-51-2-2-3/2024-05-15/
LOCATION:Eastville Comedy Club\, 487 Atlantic Avenue\, Brooklyn\, NY\, 11217\, United States
CATEGORIES:New York,New York Open Mics,Open Mic,Standard
GEO:40.6859214;-73.9816178
X-APPLE-STRUCTURED-LOCATION;VALUE=URI;X-ADDRESS=Eastville Comedy Club 487 Atlantic Avenue Brooklyn NY 11217 United States;X-APPLE-RADIUS=500;X-TITLE=487 Atlantic Avenue:geo:-73.9816178,40.6859214
END:VEVENT
BEGIN:VEVENT
DTSTART;TZID=America/New_York:20240515T220000
DTEND;TZID=America/New_York:20240515T233000
DTSTAMP:20260425T170006
CREATED:20231218T193453Z
LAST-MODIFIED:20251220T024654Z
UID:10016536-1715810400-1715815800@thecomedybureau.com
SUMMARY:The Tiny Cupboard (in NYC)
DESCRIPTION:Starts at 10PM ET\nShow up\, go up\n$2 to perform\nMixed mic (comedy\, music poetry)\nShow up go up*\nSign-up details and list of hosts available at thetinycupboard.com/open-mics/
URL:https://thecomedybureau.com/show/the-tiny-cupboard-in-nyc-247-2-2-2/2024-05-15/
LOCATION:The Tiny Cupboard\, 1717 Broadway #315\, Brooklyn\, NY\, 11207\, United States
CATEGORIES:New York,New York Open Mics,Open Mic
GEO:40.6835998;-73.911137
X-APPLE-STRUCTURED-LOCATION;VALUE=URI;X-ADDRESS=The Tiny Cupboard 1717 Broadway #315 Brooklyn NY 11207 United States;X-APPLE-RADIUS=500;X-TITLE=1717 Broadway #315:geo:-73.911137,40.6835998
END:VEVENT
BEGIN:VEVENT
DTSTART;TZID=America/New_York:20240515T224500
DTEND;TZID=America/New_York:20240516T003000
DTSTAMP:20260425T170006
CREATED:20211206T033011Z
LAST-MODIFIED:20241128T190913Z
UID:10016690-1715813100-1715819400@thecomedybureau.com
SUMMARY:Q.E.D. Astoria (in NYC)
DESCRIPTION:Sign-up 10:30PM ET\nStarts 10:45PM ET\nEnds 12:30AM ET\nLottery\n3 min.
URL:https://thecomedybureau.com/show/creature-feature-open-mic-q-e-d-astoria-in-nyc-18/2024-05-15/
LOCATION:Q.E.D. Astoria\, 27-16 23rd Avenue\, Queens\, NY\, 11105\, United States
CATEGORIES:New York,New York Open Mics,Open Mic
GEO:40.7755628;-73.9148992
X-APPLE-STRUCTURED-LOCATION;VALUE=URI;X-ADDRESS=Q.E.D. Astoria 27-16 23rd Avenue Queens NY 11105 United States;X-APPLE-RADIUS=500;X-TITLE=27-16 23rd Avenue:geo:-73.9148992,40.7755628
END:VEVENT
BEGIN:VEVENT
DTSTART;TZID=America/New_York:20240516T173000
DTEND;TZID=America/New_York:20240516T190000
DTSTAMP:20260425T170006
CREATED:20231218T191524Z
LAST-MODIFIED:20250629T070438Z
UID:10016327-1715880600-1715886000@thecomedybureau.com
SUMMARY:The Tiny Cupboard (in NYC)
DESCRIPTION:Starts at 5:30PM\nShow up\, go up\n$2 to perform\nMixed mic (comedy\, music poetry)\nShow up go up*\nSign-up details and list of hosts available at thetinycupboard.com/open-mics/
URL:https://thecomedybureau.com/show/the-tiny-cupboard-in-nyc-209-2-2-2/2024-05-16/
LOCATION:The Tiny Cupboard\, 1717 Broadway #315\, Brooklyn\, NY\, 11207\, United States
CATEGORIES:New York,New York Open Mics,Open Mic
GEO:40.6835998;-73.911137
X-APPLE-STRUCTURED-LOCATION;VALUE=URI;X-ADDRESS=The Tiny Cupboard 1717 Broadway #315 Brooklyn NY 11207 United States;X-APPLE-RADIUS=500;X-TITLE=1717 Broadway #315:geo:-73.911137,40.6835998
END:VEVENT
BEGIN:VEVENT
DTSTART;TZID=America/New_York:20240516T180000
DTEND;TZID=America/New_York:20240516T193000
DTSTAMP:20260425T170006
CREATED:20220202T182523Z
LAST-MODIFIED:20250130T030250Z
UID:10016681-1715882400-1715887800@thecomedybureau.com
SUMMARY:Q.E.D. Astoria (in NYC)
DESCRIPTION:Sign-up 5:30PM ET\nStarts 6PM ET\nEnds 7:20PM ET\n3-5 min. depending on turnout
URL:https://thecomedybureau.com/show/q-e-d-astoria-in-nyc-76/2024-05-16/
LOCATION:Q.E.D. Astoria\, 27-16 23rd Avenue\, Queens\, NY\, 11105\, United States
CATEGORIES:New York,New York Open Mics,Open Mic
GEO:40.7755628;-73.9148992
X-APPLE-STRUCTURED-LOCATION;VALUE=URI;X-ADDRESS=Q.E.D. Astoria 27-16 23rd Avenue Queens NY 11105 United States;X-APPLE-RADIUS=500;X-TITLE=27-16 23rd Avenue:geo:-73.9148992,40.7755628
END:VEVENT
BEGIN:VEVENT
DTSTART;TZID=America/Los_Angeles:20240516T180000
DTEND;TZID=America/Los_Angeles:20240516T200000
DTSTAMP:20260425T170006
CREATED:20231218T192456Z
LAST-MODIFIED:20241021T161615Z
UID:10016367-1715882400-1715889600@thecomedybureau.com
SUMMARY:Eastville Comedy Club (in NYC)
DESCRIPTION:Sign-up 5:30PM ET\nStarts 6PM ET\nEnds 7:45PM ET\n5 min.\n1 item min. to perform\nShow up\, go up
URL:https://thecomedybureau.com/show/eastville-comedy-club-in-nyc-51-2-2-2/2024-05-16/
LOCATION:Eastville Comedy Club\, 487 Atlantic Avenue\, Brooklyn\, NY\, 11217\, United States
CATEGORIES:New York,New York Open Mics,Open Mic,Standard
GEO:40.6859214;-73.9816178
X-APPLE-STRUCTURED-LOCATION;VALUE=URI;X-ADDRESS=Eastville Comedy Club 487 Atlantic Avenue Brooklyn NY 11217 United States;X-APPLE-RADIUS=500;X-TITLE=487 Atlantic Avenue:geo:-73.9816178,40.6859214
END:VEVENT
BEGIN:VEVENT
DTSTART;TZID=America/New_York:20240516T190000
DTEND;TZID=America/New_York:20240516T203000
DTSTAMP:20260425T170006
CREATED:20231218T192643Z
LAST-MODIFIED:20241126T043529Z
UID:10016392-1715886000-1715891400@thecomedybureau.com
SUMMARY:The Tiny Cupboard (in NYC)
DESCRIPTION:Starts at 7PM ET\nShow up\, go up\n$2 to perform\nMixed mic (comedy\, music poetry)\nShow up go up*\nSign-up details and list of hosts available at thetinycupboard.com/open-mics/
URL:https://thecomedybureau.com/show/the-tiny-cupboard-in-nyc-245-2-2-2/2024-05-16/
LOCATION:The Tiny Cupboard\, 1717 Broadway #315\, Brooklyn\, NY\, 11207\, United States
CATEGORIES:New York,New York Open Mics,Open Mic
GEO:40.6835998;-73.911137
X-APPLE-STRUCTURED-LOCATION;VALUE=URI;X-ADDRESS=The Tiny Cupboard 1717 Broadway #315 Brooklyn NY 11207 United States;X-APPLE-RADIUS=500;X-TITLE=1717 Broadway #315:geo:-73.911137,40.6835998
END:VEVENT
BEGIN:VEVENT
DTSTART;TZID=America/Los_Angeles:20240516T190000
DTEND;TZID=America/Los_Angeles:20240516T210000
DTSTAMP:20260425T170006
CREATED:20231128T175646Z
LAST-MODIFIED:20260330T080003Z
UID:10016431-1715886000-1715893200@thecomedybureau.com
SUMMARY:Comedians on the Loose @ Black Cat LES (in NYC)
DESCRIPTION:Starts 7PM ET\nSign-up in advance at https://www.comediansontheloose.com/open-mics\n5-7 min.\n$5 to perform\nHosted by Sonja Savanovic
URL:https://thecomedybureau.com/show/comedians-on-the-loose-black-cat-les-in-nyc-54-2-2/2024-05-16/
LOCATION:Black Cat LES\, 172 Rivington Street\, New York\, NY\, 10002\, United States
CATEGORIES:New York,New York Open Mics,Open Mic,Standard
GEO:40.7191658;-73.9845007
X-APPLE-STRUCTURED-LOCATION;VALUE=URI;X-ADDRESS=Black Cat LES 172 Rivington Street New York NY 10002 United States;X-APPLE-RADIUS=500;X-TITLE=172 Rivington Street:geo:-73.9845007,40.7191658
END:VEVENT
BEGIN:VEVENT
DTSTART;TZID=America/Los_Angeles:20240516T210000
DTEND;TZID=America/Los_Angeles:20240516T230000
DTSTAMP:20260425T170006
CREATED:20231128T180536Z
LAST-MODIFIED:20260330T075826Z
UID:10016496-1715893200-1715900400@thecomedybureau.com
SUMMARY:Comedians on the Loose @ Black Cat LES (in NYC)
DESCRIPTION:Starts 9PM ET\nSign-up in advance at https://www.comediansontheloose.com/open-mics\n5-7 min.\n$5 to perform\nHosted by Sonja Savanovic
URL:https://thecomedybureau.com/show/comedians-on-the-loose-black-cat-les-in-nyc-59-2-2/2024-05-16/
LOCATION:Black Cat LES\, 172 Rivington Street\, New York\, NY\, 10002\, United States
CATEGORIES:New York,New York Open Mics,Open Mic
GEO:40.7191658;-73.9845007
X-APPLE-STRUCTURED-LOCATION;VALUE=URI;X-ADDRESS=Black Cat LES 172 Rivington Street New York NY 10002 United States;X-APPLE-RADIUS=500;X-TITLE=172 Rivington Street:geo:-73.9845007,40.7191658
END:VEVENT
BEGIN:VEVENT
DTSTART;TZID=America/New_York:20240516T220000
DTEND;TZID=America/New_York:20240516T233000
DTSTAMP:20260425T170006
CREATED:20231218T193453Z
LAST-MODIFIED:20251220T024654Z
UID:10016537-1715896800-1715902200@thecomedybureau.com
SUMMARY:The Tiny Cupboard (in NYC)
DESCRIPTION:Starts at 10PM ET\nShow up\, go up\n$2 to perform\nMixed mic (comedy\, music poetry)\nShow up go up*\nSign-up details and list of hosts available at thetinycupboard.com/open-mics/
URL:https://thecomedybureau.com/show/the-tiny-cupboard-in-nyc-247-2-2-2/2024-05-16/
LOCATION:The Tiny Cupboard\, 1717 Broadway #315\, Brooklyn\, NY\, 11207\, United States
CATEGORIES:New York,New York Open Mics,Open Mic
GEO:40.6835998;-73.911137
X-APPLE-STRUCTURED-LOCATION;VALUE=URI;X-ADDRESS=The Tiny Cupboard 1717 Broadway #315 Brooklyn NY 11207 United States;X-APPLE-RADIUS=500;X-TITLE=1717 Broadway #315:geo:-73.911137,40.6835998
END:VEVENT
BEGIN:VEVENT
DTSTART;TZID=America/New_York:20240516T224500
DTEND;TZID=America/New_York:20240517T003000
DTSTAMP:20260425T170006
CREATED:20211206T033011Z
LAST-MODIFIED:20241128T190913Z
UID:10016691-1715899500-1715905800@thecomedybureau.com
SUMMARY:Q.E.D. Astoria (in NYC)
DESCRIPTION:Sign-up 10:30PM ET\nStarts 10:45PM ET\nEnds 12:30AM ET\nLottery\n3 min.
URL:https://thecomedybureau.com/show/creature-feature-open-mic-q-e-d-astoria-in-nyc-18/2024-05-16/
LOCATION:Q.E.D. Astoria\, 27-16 23rd Avenue\, Queens\, NY\, 11105\, United States
CATEGORIES:New York,New York Open Mics,Open Mic
GEO:40.7755628;-73.9148992
X-APPLE-STRUCTURED-LOCATION;VALUE=URI;X-ADDRESS=Q.E.D. Astoria 27-16 23rd Avenue Queens NY 11105 United States;X-APPLE-RADIUS=500;X-TITLE=27-16 23rd Avenue:geo:-73.9148992,40.7755628
END:VEVENT
BEGIN:VEVENT
DTSTART;TZID=America/New_York:20240517T170000
DTEND;TZID=America/New_York:20240517T190000
DTSTAMP:20260425T170006
CREATED:20220907T020639Z
LAST-MODIFIED:20250331T011700Z
UID:10016910-1715965200-1715972400@thecomedybureau.com
SUMMARY:Q.E.D. Astoria (in NYC)
DESCRIPTION:Starts 5PM ET\n4 min.\n1 item min. to perform\nLottery
URL:https://thecomedybureau.com/show/q-e-d-astoria-in-nyc-80/2024-05-17/
LOCATION:Q.E.D. Astoria\, 27-16 23rd Avenue\, Queens\, NY\, 11105\, United States
CATEGORIES:New York Open Mics,Open Mic
GEO:40.7755628;-73.9148992
X-APPLE-STRUCTURED-LOCATION;VALUE=URI;X-ADDRESS=Q.E.D. Astoria 27-16 23rd Avenue Queens NY 11105 United States;X-APPLE-RADIUS=500;X-TITLE=27-16 23rd Avenue:geo:-73.9148992,40.7755628
END:VEVENT
BEGIN:VEVENT
DTSTART;TZID=America/New_York:20240517T173000
DTEND;TZID=America/New_York:20240517T190000
DTSTAMP:20260425T170006
CREATED:20231218T191524Z
LAST-MODIFIED:20250629T070438Z
UID:10016328-1715967000-1715972400@thecomedybureau.com
SUMMARY:The Tiny Cupboard (in NYC)
DESCRIPTION:Starts at 5:30PM\nShow up\, go up\n$2 to perform\nMixed mic (comedy\, music poetry)\nShow up go up*\nSign-up details and list of hosts available at thetinycupboard.com/open-mics/
URL:https://thecomedybureau.com/show/the-tiny-cupboard-in-nyc-209-2-2-2/2024-05-17/
LOCATION:The Tiny Cupboard\, 1717 Broadway #315\, Brooklyn\, NY\, 11207\, United States
CATEGORIES:New York,New York Open Mics,Open Mic
GEO:40.6835998;-73.911137
X-APPLE-STRUCTURED-LOCATION;VALUE=URI;X-ADDRESS=The Tiny Cupboard 1717 Broadway #315 Brooklyn NY 11207 United States;X-APPLE-RADIUS=500;X-TITLE=1717 Broadway #315:geo:-73.911137,40.6835998
END:VEVENT
BEGIN:VEVENT
DTSTART;TZID=America/New_York:20240517T180000
DTEND;TZID=America/New_York:20240517T200000
DTSTAMP:20260425T170006
CREATED:20240303T033455Z
LAST-MODIFIED:20241126T200037Z
UID:10016925-1715968800-1715976000@thecomedybureau.com
SUMMARY:The Flop House (in NYC)
DESCRIPTION:Sign-up 5:30PM ET\nStarts 6PM ET\n5 min.\n$5 or 1 drink min. to perform\nPresented by Pure Chaos Comedy
URL:https://thecomedybureau.com/show/the-flop-house-in-nyc-2/2024-05-17/
LOCATION:Flop House Comedy Club\, 362 Grand Street\, Brooklyn\, NY\, 11211\, United States
CATEGORIES:New York Open Mics,Open Mic
GEO:40.7122531;-73.9557515
X-APPLE-STRUCTURED-LOCATION;VALUE=URI;X-ADDRESS=Flop House Comedy Club 362 Grand Street Brooklyn NY 11211 United States;X-APPLE-RADIUS=500;X-TITLE=362 Grand Street:geo:-73.9557515,40.7122531
END:VEVENT
BEGIN:VEVENT
DTSTART;TZID=America/New_York:20240517T190000
DTEND;TZID=America/New_York:20240517T203000
DTSTAMP:20260425T170006
CREATED:20231218T192643Z
LAST-MODIFIED:20241126T043529Z
UID:10016393-1715972400-1715977800@thecomedybureau.com
SUMMARY:The Tiny Cupboard (in NYC)
DESCRIPTION:Starts at 7PM ET\nShow up\, go up\n$2 to perform\nMixed mic (comedy\, music poetry)\nShow up go up*\nSign-up details and list of hosts available at thetinycupboard.com/open-mics/
URL:https://thecomedybureau.com/show/the-tiny-cupboard-in-nyc-245-2-2-2/2024-05-17/
LOCATION:The Tiny Cupboard\, 1717 Broadway #315\, Brooklyn\, NY\, 11207\, United States
CATEGORIES:New York,New York Open Mics,Open Mic
GEO:40.6835998;-73.911137
X-APPLE-STRUCTURED-LOCATION;VALUE=URI;X-ADDRESS=The Tiny Cupboard 1717 Broadway #315 Brooklyn NY 11207 United States;X-APPLE-RADIUS=500;X-TITLE=1717 Broadway #315:geo:-73.911137,40.6835998
END:VEVENT
BEGIN:VEVENT
DTSTART;TZID=America/New_York:20240517T220000
DTEND;TZID=America/New_York:20240517T233000
DTSTAMP:20260425T170006
CREATED:20231218T193453Z
LAST-MODIFIED:20251220T024654Z
UID:10016538-1715983200-1715988600@thecomedybureau.com
SUMMARY:The Tiny Cupboard (in NYC)
DESCRIPTION:Starts at 10PM ET\nShow up\, go up\n$2 to perform\nMixed mic (comedy\, music poetry)\nShow up go up*\nSign-up details and list of hosts available at thetinycupboard.com/open-mics/
URL:https://thecomedybureau.com/show/the-tiny-cupboard-in-nyc-247-2-2-2/2024-05-17/
LOCATION:The Tiny Cupboard\, 1717 Broadway #315\, Brooklyn\, NY\, 11207\, United States
CATEGORIES:New York,New York Open Mics,Open Mic
GEO:40.6835998;-73.911137
X-APPLE-STRUCTURED-LOCATION;VALUE=URI;X-ADDRESS=The Tiny Cupboard 1717 Broadway #315 Brooklyn NY 11207 United States;X-APPLE-RADIUS=500;X-TITLE=1717 Broadway #315:geo:-73.911137,40.6835998
END:VEVENT
BEGIN:VEVENT
DTSTART;TZID=America/New_York:20240517T233000
DTEND;TZID=America/New_York:20240518T010000
DTSTAMP:20260425T170006
CREATED:20240102T035651Z
LAST-MODIFIED:20250926T181601Z
UID:10016930-1715988600-1715994000@thecomedybureau.com
SUMMARY:Eastville Comedy Club (in NYC)
DESCRIPTION:Starts 11:30PM ET\n5 min.\n1 item min. to perform
URL:https://thecomedybureau.com/show/eastville-comedy-club-in-nyc-56-2-2-2/2024-05-17/
LOCATION:Eastville Comedy Club\, 487 Atlantic Avenue\, Brooklyn\, NY\, 11217\, United States
CATEGORIES:New York Open Mics,Open Mic
GEO:40.6859214;-73.9816178
X-APPLE-STRUCTURED-LOCATION;VALUE=URI;X-ADDRESS=Eastville Comedy Club 487 Atlantic Avenue Brooklyn NY 11217 United States;X-APPLE-RADIUS=500;X-TITLE=487 Atlantic Avenue:geo:-73.9816178,40.6859214
END:VEVENT
BEGIN:VEVENT
DTSTART;TZID=America/New_York:20240518T160000
DTEND;TZID=America/New_York:20240518T173000
DTSTAMP:20260425T170006
CREATED:20240101T172422Z
LAST-MODIFIED:20240620T144754Z
UID:10016940-1716048000-1716053400@thecomedybureau.com
SUMMARY:The Tiny Cupboard (in NYC)
DESCRIPTION:Starts at 4PM\nShow up\, go up\n$2 to perform\nMixed mic (comedy\, music poetry)\nShow up go up*\nSign-up details and list of hosts available at thetinycupboard.com/open-mics/
URL:https://thecomedybureau.com/show/the-tiny-cupboard-in-nyc-248/2024-05-18/
LOCATION:The Tiny Cupboard\, 1717 Broadway #315\, Brooklyn\, NY\, 11207\, United States
CATEGORIES:New York Open Mics,Open Mic
GEO:40.6835998;-73.911137
X-APPLE-STRUCTURED-LOCATION;VALUE=URI;X-ADDRESS=The Tiny Cupboard 1717 Broadway #315 Brooklyn NY 11207 United States;X-APPLE-RADIUS=500;X-TITLE=1717 Broadway #315:geo:-73.911137,40.6835998
END:VEVENT
BEGIN:VEVENT
DTSTART;TZID=America/New_York:20240518T173000
DTEND;TZID=America/New_York:20240518T190000
DTSTAMP:20260425T170006
CREATED:20231218T191524Z
LAST-MODIFIED:20250629T070438Z
UID:10016329-1716053400-1716058800@thecomedybureau.com
SUMMARY:The Tiny Cupboard (in NYC)
DESCRIPTION:Starts at 5:30PM\nShow up\, go up\n$2 to perform\nMixed mic (comedy\, music poetry)\nShow up go up*\nSign-up details and list of hosts available at thetinycupboard.com/open-mics/
URL:https://thecomedybureau.com/show/the-tiny-cupboard-in-nyc-209-2-2-2/2024-05-18/
LOCATION:The Tiny Cupboard\, 1717 Broadway #315\, Brooklyn\, NY\, 11207\, United States
CATEGORIES:New York,New York Open Mics,Open Mic
GEO:40.6835998;-73.911137
X-APPLE-STRUCTURED-LOCATION;VALUE=URI;X-ADDRESS=The Tiny Cupboard 1717 Broadway #315 Brooklyn NY 11207 United States;X-APPLE-RADIUS=500;X-TITLE=1717 Broadway #315:geo:-73.911137,40.6835998
END:VEVENT
BEGIN:VEVENT
DTSTART;TZID=America/New_York:20240518T190000
DTEND;TZID=America/New_York:20240518T203000
DTSTAMP:20260425T170006
CREATED:20231218T192643Z
LAST-MODIFIED:20241126T043529Z
UID:10016394-1716058800-1716064200@thecomedybureau.com
SUMMARY:The Tiny Cupboard (in NYC)
DESCRIPTION:Starts at 7PM ET\nShow up\, go up\n$2 to perform\nMixed mic (comedy\, music poetry)\nShow up go up*\nSign-up details and list of hosts available at thetinycupboard.com/open-mics/
URL:https://thecomedybureau.com/show/the-tiny-cupboard-in-nyc-245-2-2-2/2024-05-18/
LOCATION:The Tiny Cupboard\, 1717 Broadway #315\, Brooklyn\, NY\, 11207\, United States
CATEGORIES:New York,New York Open Mics,Open Mic
GEO:40.6835998;-73.911137
X-APPLE-STRUCTURED-LOCATION;VALUE=URI;X-ADDRESS=The Tiny Cupboard 1717 Broadway #315 Brooklyn NY 11207 United States;X-APPLE-RADIUS=500;X-TITLE=1717 Broadway #315:geo:-73.911137,40.6835998
END:VEVENT
BEGIN:VEVENT
DTSTART;TZID=America/Los_Angeles:20240518T190000
DTEND;TZID=America/Los_Angeles:20240518T210000
DTSTAMP:20260425T170006
CREATED:20231128T175646Z
LAST-MODIFIED:20260330T080003Z
UID:10016432-1716058800-1716066000@thecomedybureau.com
SUMMARY:Comedians on the Loose @ Black Cat LES (in NYC)
DESCRIPTION:Starts 7PM ET\nSign-up in advance at https://www.comediansontheloose.com/open-mics\n5-7 min.\n$5 to perform\nHosted by Sonja Savanovic
URL:https://thecomedybureau.com/show/comedians-on-the-loose-black-cat-les-in-nyc-54-2-2/2024-05-18/
LOCATION:Black Cat LES\, 172 Rivington Street\, New York\, NY\, 10002\, United States
CATEGORIES:New York,New York Open Mics,Open Mic,Standard
GEO:40.7191658;-73.9845007
X-APPLE-STRUCTURED-LOCATION;VALUE=URI;X-ADDRESS=Black Cat LES 172 Rivington Street New York NY 10002 United States;X-APPLE-RADIUS=500;X-TITLE=172 Rivington Street:geo:-73.9845007,40.7191658
END:VEVENT
BEGIN:VEVENT
DTSTART;TZID=America/Los_Angeles:20240518T210000
DTEND;TZID=America/Los_Angeles:20240518T230000
DTSTAMP:20260425T170006
CREATED:20231128T180536Z
LAST-MODIFIED:20260330T075826Z
UID:10016497-1716066000-1716073200@thecomedybureau.com
SUMMARY:Comedians on the Loose @ Black Cat LES (in NYC)
DESCRIPTION:Starts 9PM ET\nSign-up in advance at https://www.comediansontheloose.com/open-mics\n5-7 min.\n$5 to perform\nHosted by Sonja Savanovic
URL:https://thecomedybureau.com/show/comedians-on-the-loose-black-cat-les-in-nyc-59-2-2/2024-05-18/
LOCATION:Black Cat LES\, 172 Rivington Street\, New York\, NY\, 10002\, United States
CATEGORIES:New York,New York Open Mics,Open Mic
GEO:40.7191658;-73.9845007
X-APPLE-STRUCTURED-LOCATION;VALUE=URI;X-ADDRESS=Black Cat LES 172 Rivington Street New York NY 10002 United States;X-APPLE-RADIUS=500;X-TITLE=172 Rivington Street:geo:-73.9845007,40.7191658
END:VEVENT
BEGIN:VEVENT
DTSTART;TZID=America/New_York:20240518T220000
DTEND;TZID=America/New_York:20240518T233000
DTSTAMP:20260425T170006
CREATED:20231218T193453Z
LAST-MODIFIED:20251220T024654Z
UID:10016539-1716069600-1716075000@thecomedybureau.com
SUMMARY:The Tiny Cupboard (in NYC)
DESCRIPTION:Starts at 10PM ET\nShow up\, go up\n$2 to perform\nMixed mic (comedy\, music poetry)\nShow up go up*\nSign-up details and list of hosts available at thetinycupboard.com/open-mics/
URL:https://thecomedybureau.com/show/the-tiny-cupboard-in-nyc-247-2-2-2/2024-05-18/
LOCATION:The Tiny Cupboard\, 1717 Broadway #315\, Brooklyn\, NY\, 11207\, United States
CATEGORIES:New York,New York Open Mics,Open Mic
GEO:40.6835998;-73.911137
X-APPLE-STRUCTURED-LOCATION;VALUE=URI;X-ADDRESS=The Tiny Cupboard 1717 Broadway #315 Brooklyn NY 11207 United States;X-APPLE-RADIUS=500;X-TITLE=1717 Broadway #315:geo:-73.911137,40.6835998
END:VEVENT
BEGIN:VEVENT
DTSTART;TZID=America/New_York:20240518T233000
DTEND;TZID=America/New_York:20240519T010000
DTSTAMP:20260425T170006
CREATED:20240102T035651Z
LAST-MODIFIED:20250926T181601Z
UID:10016931-1716075000-1716080400@thecomedybureau.com
SUMMARY:Eastville Comedy Club (in NYC)
DESCRIPTION:Starts 11:30PM ET\n5 min.\n1 item min. to perform
URL:https://thecomedybureau.com/show/eastville-comedy-club-in-nyc-56-2-2-2/2024-05-18/
LOCATION:Eastville Comedy Club\, 487 Atlantic Avenue\, Brooklyn\, NY\, 11217\, United States
CATEGORIES:New York Open Mics,Open Mic
GEO:40.6859214;-73.9816178
X-APPLE-STRUCTURED-LOCATION;VALUE=URI;X-ADDRESS=Eastville Comedy Club 487 Atlantic Avenue Brooklyn NY 11217 United States;X-APPLE-RADIUS=500;X-TITLE=487 Atlantic Avenue:geo:-73.9816178,40.6859214
END:VEVENT
BEGIN:VEVENT
DTSTART;TZID=America/New_York:20240519T160000
DTEND;TZID=America/New_York:20240519T173000
DTSTAMP:20260425T170006
CREATED:20240101T172422Z
LAST-MODIFIED:20240620T144754Z
UID:10016941-1716134400-1716139800@thecomedybureau.com
SUMMARY:The Tiny Cupboard (in NYC)
DESCRIPTION:Starts at 4PM\nShow up\, go up\n$2 to perform\nMixed mic (comedy\, music poetry)\nShow up go up*\nSign-up details and list of hosts available at thetinycupboard.com/open-mics/
URL:https://thecomedybureau.com/show/the-tiny-cupboard-in-nyc-248/2024-05-19/
LOCATION:The Tiny Cupboard\, 1717 Broadway #315\, Brooklyn\, NY\, 11207\, United States
CATEGORIES:New York Open Mics,Open Mic
GEO:40.6835998;-73.911137
X-APPLE-STRUCTURED-LOCATION;VALUE=URI;X-ADDRESS=The Tiny Cupboard 1717 Broadway #315 Brooklyn NY 11207 United States;X-APPLE-RADIUS=500;X-TITLE=1717 Broadway #315:geo:-73.911137,40.6835998
END:VEVENT
BEGIN:VEVENT
DTSTART;TZID=America/New_York:20240519T160000
DTEND;TZID=America/New_York:20240519T180000
DTSTAMP:20260425T170006
CREATED:20240115T190824Z
LAST-MODIFIED:20241021T220412Z
UID:10016950-1716134400-1716141600@thecomedybureau.com
SUMMARY:Gama Lounge (in NYC)
DESCRIPTION:Sign-up 3:30PM ET\nStarts 4PM ET\n5 min.\n$5 or 1 drink min. to perform\nPresented by Pure Chaos Comedy
URL:https://thecomedybureau.com/show/alphaville-in-nyc-3/2024-05-19/
LOCATION:Gama Lounge\, 50 Avenue B\, New York\, NY\, 10009\, United States
CATEGORIES:New York Open Mics,Open Mic
GEO:40.72323;-73.982834
X-APPLE-STRUCTURED-LOCATION;VALUE=URI;X-ADDRESS=Gama Lounge 50 Avenue B New York NY 10009 United States;X-APPLE-RADIUS=500;X-TITLE=50 Avenue B:geo:-73.982834,40.72323
END:VEVENT
BEGIN:VEVENT
DTSTART;TZID=America/New_York:20240519T170000
DTEND;TZID=America/New_York:20240519T190000
DTSTAMP:20260425T170006
CREATED:20220907T020639Z
LAST-MODIFIED:20250331T011700Z
UID:10016911-1716138000-1716145200@thecomedybureau.com
SUMMARY:Q.E.D. Astoria (in NYC)
DESCRIPTION:Starts 5PM ET\n4 min.\n1 item min. to perform\nLottery
URL:https://thecomedybureau.com/show/q-e-d-astoria-in-nyc-80/2024-05-19/
LOCATION:Q.E.D. Astoria\, 27-16 23rd Avenue\, Queens\, NY\, 11105\, United States
CATEGORIES:New York Open Mics,Open Mic
GEO:40.7755628;-73.9148992
X-APPLE-STRUCTURED-LOCATION;VALUE=URI;X-ADDRESS=Q.E.D. Astoria 27-16 23rd Avenue Queens NY 11105 United States;X-APPLE-RADIUS=500;X-TITLE=27-16 23rd Avenue:geo:-73.9148992,40.7755628
END:VEVENT
BEGIN:VEVENT
DTSTART;TZID=America/New_York:20240519T173000
DTEND;TZID=America/New_York:20240519T190000
DTSTAMP:20260425T170006
CREATED:20231218T191524Z
LAST-MODIFIED:20250629T070438Z
UID:10016330-1716139800-1716145200@thecomedybureau.com
SUMMARY:The Tiny Cupboard (in NYC)
DESCRIPTION:Starts at 5:30PM\nShow up\, go up\n$2 to perform\nMixed mic (comedy\, music poetry)\nShow up go up*\nSign-up details and list of hosts available at thetinycupboard.com/open-mics/
URL:https://thecomedybureau.com/show/the-tiny-cupboard-in-nyc-209-2-2-2/2024-05-19/
LOCATION:The Tiny Cupboard\, 1717 Broadway #315\, Brooklyn\, NY\, 11207\, United States
CATEGORIES:New York,New York Open Mics,Open Mic
GEO:40.6835998;-73.911137
X-APPLE-STRUCTURED-LOCATION;VALUE=URI;X-ADDRESS=The Tiny Cupboard 1717 Broadway #315 Brooklyn NY 11207 United States;X-APPLE-RADIUS=500;X-TITLE=1717 Broadway #315:geo:-73.911137,40.6835998
END:VEVENT
BEGIN:VEVENT
DTSTART;TZID=America/New_York:20240519T190000
DTEND;TZID=America/New_York:20240519T203000
DTSTAMP:20260425T170006
CREATED:20231218T192643Z
LAST-MODIFIED:20241126T043529Z
UID:10016395-1716145200-1716150600@thecomedybureau.com
SUMMARY:The Tiny Cupboard (in NYC)
DESCRIPTION:Starts at 7PM ET\nShow up\, go up\n$2 to perform\nMixed mic (comedy\, music poetry)\nShow up go up*\nSign-up details and list of hosts available at thetinycupboard.com/open-mics/
URL:https://thecomedybureau.com/show/the-tiny-cupboard-in-nyc-245-2-2-2/2024-05-19/
LOCATION:The Tiny Cupboard\, 1717 Broadway #315\, Brooklyn\, NY\, 11207\, United States
CATEGORIES:New York,New York Open Mics,Open Mic
GEO:40.6835998;-73.911137
X-APPLE-STRUCTURED-LOCATION;VALUE=URI;X-ADDRESS=The Tiny Cupboard 1717 Broadway #315 Brooklyn NY 11207 United States;X-APPLE-RADIUS=500;X-TITLE=1717 Broadway #315:geo:-73.911137,40.6835998
END:VEVENT
END:VCALENDAR