BEGIN:VCALENDAR
VERSION:2.0
PRODID:-//The Comedy Bureau - ECPv6.15.18//NONSGML v1.0//EN
CALSCALE:GREGORIAN
METHOD:PUBLISH
X-WR-CALNAME:The Comedy Bureau
X-ORIGINAL-URL:https://thecomedybureau.com
X-WR-CALDESC:Events for The Comedy Bureau
REFRESH-INTERVAL;VALUE=DURATION:PT1H
X-Robots-Tag:noindex
X-PUBLISHED-TTL:PT1H
BEGIN:VTIMEZONE
TZID:America/New_York
BEGIN:DAYLIGHT
TZOFFSETFROM:-0500
TZOFFSETTO:-0400
TZNAME:EDT
DTSTART:20230312T070000
END:DAYLIGHT
BEGIN:STANDARD
TZOFFSETFROM:-0400
TZOFFSETTO:-0500
TZNAME:EST
DTSTART:20231105T060000
END:STANDARD
BEGIN:DAYLIGHT
TZOFFSETFROM:-0500
TZOFFSETTO:-0400
TZNAME:EDT
DTSTART:20240310T070000
END:DAYLIGHT
BEGIN:STANDARD
TZOFFSETFROM:-0400
TZOFFSETTO:-0500
TZNAME:EST
DTSTART:20241103T060000
END:STANDARD
BEGIN:DAYLIGHT
TZOFFSETFROM:-0500
TZOFFSETTO:-0400
TZNAME:EDT
DTSTART:20250309T070000
END:DAYLIGHT
BEGIN:STANDARD
TZOFFSETFROM:-0400
TZOFFSETTO:-0500
TZNAME:EST
DTSTART:20251102T060000
END:STANDARD
END:VTIMEZONE
BEGIN:VTIMEZONE
TZID:America/Los_Angeles
BEGIN:DAYLIGHT
TZOFFSETFROM:-0800
TZOFFSETTO:-0700
TZNAME:PDT
DTSTART:20230312T100000
END:DAYLIGHT
BEGIN:STANDARD
TZOFFSETFROM:-0700
TZOFFSETTO:-0800
TZNAME:PST
DTSTART:20231105T090000
END:STANDARD
BEGIN:DAYLIGHT
TZOFFSETFROM:-0800
TZOFFSETTO:-0700
TZNAME:PDT
DTSTART:20240310T100000
END:DAYLIGHT
BEGIN:STANDARD
TZOFFSETFROM:-0700
TZOFFSETTO:-0800
TZNAME:PST
DTSTART:20241103T090000
END:STANDARD
BEGIN:DAYLIGHT
TZOFFSETFROM:-0800
TZOFFSETTO:-0700
TZNAME:PDT
DTSTART:20250309T100000
END:DAYLIGHT
BEGIN:STANDARD
TZOFFSETFROM:-0700
TZOFFSETTO:-0800
TZNAME:PST
DTSTART:20251102T090000
END:STANDARD
END:VTIMEZONE
BEGIN:VEVENT
DTSTART;TZID=America/New_York:20240430T213000
DTEND;TZID=America/New_York:20240430T233000
DTSTAMP:20260424T031014
CREATED:20231128T180646Z
LAST-MODIFIED:20260330T064719Z
UID:10014750-1714512600-1714519800@thecomedybureau.com
SUMMARY:FRIGID Open Mic @ Under St Marks Theater (in NYC)
DESCRIPTION:Starts 9:30PM ET\n7 min.\nMixed mic (all performers welcome)
URL:https://thecomedybureau.com/show/frigid-open-mic-under-st-marks-theater-in-nyc-2-2/2024-04-30/
LOCATION:Under St. Marks Theater\, 94 Saint Marks Place\, New York\, NY\, 10009\, United States
CATEGORIES:New York,New York Open Mics,Open Mic
GEO:40.7272968;-73.9849712
X-APPLE-STRUCTURED-LOCATION;VALUE=URI;X-ADDRESS=Under St. Marks Theater 94 Saint Marks Place New York NY 10009 United States;X-APPLE-RADIUS=500;X-TITLE=94 Saint Marks Place:geo:-73.9849712,40.7272968
END:VEVENT
BEGIN:VEVENT
DTSTART;TZID=America/New_York:20240430T214500
DTEND;TZID=America/New_York:20240430T233000
DTSTAMP:20260424T031014
CREATED:20240102T035406Z
LAST-MODIFIED:20250629T070902Z
UID:10014336-1714513500-1714519800@thecomedybureau.com
SUMMARY:Eastville Comedy Club (in NYC)
DESCRIPTION:Sign-up 9:15PM ET\nStarts 9:45PM ET\nEnds 11:30PM ET\n5 min.\n1 item min. to perform\nShow up\, go up
URL:https://thecomedybureau.com/show/eastville-comedy-club-in-nyc-51-2-2-3/2024-04-30/
LOCATION:Eastville Comedy Club\, 487 Atlantic Avenue\, Brooklyn\, NY\, 11217\, United States
CATEGORIES:New York,New York Open Mics,Open Mic,Standard
GEO:40.6859214;-73.9816178
X-APPLE-STRUCTURED-LOCATION;VALUE=URI;X-ADDRESS=Eastville Comedy Club 487 Atlantic Avenue Brooklyn NY 11217 United States;X-APPLE-RADIUS=500;X-TITLE=487 Atlantic Avenue:geo:-73.9816178,40.6859214
END:VEVENT
BEGIN:VEVENT
DTSTART;TZID=America/New_York:20240430T220000
DTEND;TZID=America/New_York:20240430T233000
DTSTAMP:20260424T031014
CREATED:20231218T193453Z
LAST-MODIFIED:20251220T024654Z
UID:10014365-1714514400-1714519800@thecomedybureau.com
SUMMARY:The Tiny Cupboard (in NYC)
DESCRIPTION:Starts at 10PM ET\nShow up\, go up\n$2 to perform\nMixed mic (comedy\, music poetry)\nShow up go up*\nSign-up details and list of hosts available at thetinycupboard.com/open-mics/
URL:https://thecomedybureau.com/show/the-tiny-cupboard-in-nyc-247-2-2-2/2024-04-30/
LOCATION:The Tiny Cupboard\, 1717 Broadway #315\, Brooklyn\, NY\, 11207\, United States
CATEGORIES:New York,New York Open Mics,Open Mic
GEO:40.6835998;-73.911137
X-APPLE-STRUCTURED-LOCATION;VALUE=URI;X-ADDRESS=The Tiny Cupboard 1717 Broadway #315 Brooklyn NY 11207 United States;X-APPLE-RADIUS=500;X-TITLE=1717 Broadway #315:geo:-73.911137,40.6835998
END:VEVENT
BEGIN:VEVENT
DTSTART;TZID=America/New_York:20240430T230000
DTEND;TZID=America/New_York:20240501T003000
DTSTAMP:20260424T031014
CREATED:20231128T180728Z
LAST-MODIFIED:20240924T021151Z
UID:10014755-1714518000-1714523400@thecomedybureau.com
SUMMARY:Young Ethel's (in NYC)
DESCRIPTION:Starts 11PM ET\n5 min.\nFREE\nSign-up in advance with Val “boderpa” Bodurtha on 1st and 3rd tuesdays and Matt Vita on 2nd and 4th tuesdays
URL:https://thecomedybureau.com/show/young-ethels-in-nyc-2-2/2024-04-30/
LOCATION:Young Ethel’s\, 506 5th Avenue\, Brooklyn\, NY\, 11215\, United States
CATEGORIES:New York,New York Open Mics,Open Mic
GEO:40.6672238;-73.988263
X-APPLE-STRUCTURED-LOCATION;VALUE=URI;X-ADDRESS=Young Ethel’s 506 5th Avenue Brooklyn NY 11215 United States;X-APPLE-RADIUS=500;X-TITLE=506 5th Avenue:geo:-73.988263,40.6672238
END:VEVENT
BEGIN:VEVENT
DTSTART;TZID=America/Los_Angeles:20240430T235900
DTEND;TZID=America/Los_Angeles:20240501T013000
DTSTAMP:20260424T031014
CREATED:20231218T193611Z
LAST-MODIFIED:20251228T080000Z
UID:10014760-1714521540-1714527000@thecomedybureau.com
SUMMARY:McLoughlin's (in NYC)
DESCRIPTION:Starts 11:59PM ET\n5-7 min.\nHosted by Brady Hold\nFREE
URL:https://thecomedybureau.com/show/mcloughlins-in-nyc-30-2-2-2/2024-04-30/
LOCATION:McLoughlin’s\, 3106 Broadway\, Queens\, NY\, 11106\, United States
CATEGORIES:New York,New York Open Mics,Open Mic
GEO:40.7617875;-73.9251638
X-APPLE-STRUCTURED-LOCATION;VALUE=URI;X-ADDRESS=McLoughlin’s 3106 Broadway Queens NY 11106 United States;X-APPLE-RADIUS=500;X-TITLE=3106 Broadway:geo:-73.9251638,40.7617875
END:VEVENT
BEGIN:VEVENT
DTSTART;TZID=America/New_York:20240501T173000
DTEND;TZID=America/New_York:20240501T190000
DTSTAMP:20260424T031014
CREATED:20231218T191524Z
LAST-MODIFIED:20250629T070438Z
UID:10014206-1714584600-1714590000@thecomedybureau.com
SUMMARY:The Tiny Cupboard (in NYC)
DESCRIPTION:Starts at 5:30PM\nShow up\, go up\n$2 to perform\nMixed mic (comedy\, music poetry)\nShow up go up*\nSign-up details and list of hosts available at thetinycupboard.com/open-mics/
URL:https://thecomedybureau.com/show/the-tiny-cupboard-in-nyc-209-2-2-2/2024-05-01/
LOCATION:The Tiny Cupboard\, 1717 Broadway #315\, Brooklyn\, NY\, 11207\, United States
CATEGORIES:New York,New York Open Mics,Open Mic
GEO:40.6835998;-73.911137
X-APPLE-STRUCTURED-LOCATION;VALUE=URI;X-ADDRESS=The Tiny Cupboard 1717 Broadway #315 Brooklyn NY 11207 United States;X-APPLE-RADIUS=500;X-TITLE=1717 Broadway #315:geo:-73.911137,40.6835998
END:VEVENT
BEGIN:VEVENT
DTSTART;TZID=America/New_York:20240501T180000
DTEND;TZID=America/New_York:20240501T193000
DTSTAMP:20260424T031014
CREATED:20220202T182523Z
LAST-MODIFIED:20250130T030250Z
UID:10014813-1714586400-1714591800@thecomedybureau.com
SUMMARY:Q.E.D. Astoria (in NYC)
DESCRIPTION:Sign-up 5:30PM ET\nStarts 6PM ET\nEnds 7:20PM ET\n3-5 min. depending on turnout
URL:https://thecomedybureau.com/show/q-e-d-astoria-in-nyc-76/2024-05-01/
LOCATION:Q.E.D. Astoria\, 27-16 23rd Avenue\, Queens\, NY\, 11105\, United States
CATEGORIES:New York,New York Open Mics,Open Mic
GEO:40.7755628;-73.9148992
X-APPLE-STRUCTURED-LOCATION;VALUE=URI;X-ADDRESS=Q.E.D. Astoria 27-16 23rd Avenue Queens NY 11105 United States;X-APPLE-RADIUS=500;X-TITLE=27-16 23rd Avenue:geo:-73.9148992,40.7755628
END:VEVENT
BEGIN:VEVENT
DTSTART;TZID=America/Los_Angeles:20240501T180000
DTEND;TZID=America/Los_Angeles:20240501T200000
DTSTAMP:20260424T031014
CREATED:20231218T192456Z
LAST-MODIFIED:20241021T161615Z
UID:10014232-1714586400-1714593600@thecomedybureau.com
SUMMARY:Eastville Comedy Club (in NYC)
DESCRIPTION:Sign-up 5:30PM ET\nStarts 6PM ET\nEnds 7:45PM ET\n5 min.\n1 item min. to perform\nShow up\, go up
URL:https://thecomedybureau.com/show/eastville-comedy-club-in-nyc-51-2-2-2/2024-05-01/
LOCATION:Eastville Comedy Club\, 487 Atlantic Avenue\, Brooklyn\, NY\, 11217\, United States
CATEGORIES:New York,New York Open Mics,Open Mic,Standard
GEO:40.6859214;-73.9816178
X-APPLE-STRUCTURED-LOCATION;VALUE=URI;X-ADDRESS=Eastville Comedy Club 487 Atlantic Avenue Brooklyn NY 11217 United States;X-APPLE-RADIUS=500;X-TITLE=487 Atlantic Avenue:geo:-73.9816178,40.6859214
END:VEVENT
BEGIN:VEVENT
DTSTART;TZID=America/New_York:20240501T190000
DTEND;TZID=America/New_York:20240501T203000
DTSTAMP:20260424T031014
CREATED:20231218T192643Z
LAST-MODIFIED:20241126T043529Z
UID:10014266-1714590000-1714595400@thecomedybureau.com
SUMMARY:The Tiny Cupboard (in NYC)
DESCRIPTION:Starts at 7PM ET\nShow up\, go up\n$2 to perform\nMixed mic (comedy\, music poetry)\nShow up go up*\nSign-up details and list of hosts available at thetinycupboard.com/open-mics/
URL:https://thecomedybureau.com/show/the-tiny-cupboard-in-nyc-245-2-2-2/2024-05-01/
LOCATION:The Tiny Cupboard\, 1717 Broadway #315\, Brooklyn\, NY\, 11207\, United States
CATEGORIES:New York,New York Open Mics,Open Mic
GEO:40.6835998;-73.911137
X-APPLE-STRUCTURED-LOCATION;VALUE=URI;X-ADDRESS=The Tiny Cupboard 1717 Broadway #315 Brooklyn NY 11207 United States;X-APPLE-RADIUS=500;X-TITLE=1717 Broadway #315:geo:-73.911137,40.6835998
END:VEVENT
BEGIN:VEVENT
DTSTART;TZID=America/New_York:20240501T214500
DTEND;TZID=America/New_York:20240501T233000
DTSTAMP:20260424T031014
CREATED:20240102T035406Z
LAST-MODIFIED:20250629T070902Z
UID:10014337-1714599900-1714606200@thecomedybureau.com
SUMMARY:Eastville Comedy Club (in NYC)
DESCRIPTION:Sign-up 9:15PM ET\nStarts 9:45PM ET\nEnds 11:30PM ET\n5 min.\n1 item min. to perform\nShow up\, go up
URL:https://thecomedybureau.com/show/eastville-comedy-club-in-nyc-51-2-2-3/2024-05-01/
LOCATION:Eastville Comedy Club\, 487 Atlantic Avenue\, Brooklyn\, NY\, 11217\, United States
CATEGORIES:New York,New York Open Mics,Open Mic,Standard
GEO:40.6859214;-73.9816178
X-APPLE-STRUCTURED-LOCATION;VALUE=URI;X-ADDRESS=Eastville Comedy Club 487 Atlantic Avenue Brooklyn NY 11217 United States;X-APPLE-RADIUS=500;X-TITLE=487 Atlantic Avenue:geo:-73.9816178,40.6859214
END:VEVENT
BEGIN:VEVENT
DTSTART;TZID=America/New_York:20240501T220000
DTEND;TZID=America/New_York:20240501T233000
DTSTAMP:20260424T031014
CREATED:20231218T193453Z
LAST-MODIFIED:20251220T024654Z
UID:10014366-1714600800-1714606200@thecomedybureau.com
SUMMARY:The Tiny Cupboard (in NYC)
DESCRIPTION:Starts at 10PM ET\nShow up\, go up\n$2 to perform\nMixed mic (comedy\, music poetry)\nShow up go up*\nSign-up details and list of hosts available at thetinycupboard.com/open-mics/
URL:https://thecomedybureau.com/show/the-tiny-cupboard-in-nyc-247-2-2-2/2024-05-01/
LOCATION:The Tiny Cupboard\, 1717 Broadway #315\, Brooklyn\, NY\, 11207\, United States
CATEGORIES:New York,New York Open Mics,Open Mic
GEO:40.6835998;-73.911137
X-APPLE-STRUCTURED-LOCATION;VALUE=URI;X-ADDRESS=The Tiny Cupboard 1717 Broadway #315 Brooklyn NY 11207 United States;X-APPLE-RADIUS=500;X-TITLE=1717 Broadway #315:geo:-73.911137,40.6835998
END:VEVENT
BEGIN:VEVENT
DTSTART;TZID=America/New_York:20240501T224500
DTEND;TZID=America/New_York:20240502T003000
DTSTAMP:20260424T031014
CREATED:20211206T033011Z
LAST-MODIFIED:20241128T190913Z
UID:10014823-1714603500-1714609800@thecomedybureau.com
SUMMARY:Q.E.D. Astoria (in NYC)
DESCRIPTION:Sign-up 10:30PM ET\nStarts 10:45PM ET\nEnds 12:30AM ET\nLottery\n3 min.
URL:https://thecomedybureau.com/show/creature-feature-open-mic-q-e-d-astoria-in-nyc-18/2024-05-01/
LOCATION:Q.E.D. Astoria\, 27-16 23rd Avenue\, Queens\, NY\, 11105\, United States
CATEGORIES:New York,New York Open Mics,Open Mic
GEO:40.7755628;-73.9148992
X-APPLE-STRUCTURED-LOCATION;VALUE=URI;X-ADDRESS=Q.E.D. Astoria 27-16 23rd Avenue Queens NY 11105 United States;X-APPLE-RADIUS=500;X-TITLE=27-16 23rd Avenue:geo:-73.9148992,40.7755628
END:VEVENT
BEGIN:VEVENT
DTSTART;TZID=America/New_York:20240502T173000
DTEND;TZID=America/New_York:20240502T190000
DTSTAMP:20260424T031014
CREATED:20231218T191524Z
LAST-MODIFIED:20250629T070438Z
UID:10014207-1714671000-1714676400@thecomedybureau.com
SUMMARY:The Tiny Cupboard (in NYC)
DESCRIPTION:Starts at 5:30PM\nShow up\, go up\n$2 to perform\nMixed mic (comedy\, music poetry)\nShow up go up*\nSign-up details and list of hosts available at thetinycupboard.com/open-mics/
URL:https://thecomedybureau.com/show/the-tiny-cupboard-in-nyc-209-2-2-2/2024-05-02/
LOCATION:The Tiny Cupboard\, 1717 Broadway #315\, Brooklyn\, NY\, 11207\, United States
CATEGORIES:New York,New York Open Mics,Open Mic
GEO:40.6835998;-73.911137
X-APPLE-STRUCTURED-LOCATION;VALUE=URI;X-ADDRESS=The Tiny Cupboard 1717 Broadway #315 Brooklyn NY 11207 United States;X-APPLE-RADIUS=500;X-TITLE=1717 Broadway #315:geo:-73.911137,40.6835998
END:VEVENT
BEGIN:VEVENT
DTSTART;TZID=America/New_York:20240502T180000
DTEND;TZID=America/New_York:20240502T193000
DTSTAMP:20260424T031014
CREATED:20220202T182523Z
LAST-MODIFIED:20250130T030250Z
UID:10014814-1714672800-1714678200@thecomedybureau.com
SUMMARY:Q.E.D. Astoria (in NYC)
DESCRIPTION:Sign-up 5:30PM ET\nStarts 6PM ET\nEnds 7:20PM ET\n3-5 min. depending on turnout
URL:https://thecomedybureau.com/show/q-e-d-astoria-in-nyc-76/2024-05-02/
LOCATION:Q.E.D. Astoria\, 27-16 23rd Avenue\, Queens\, NY\, 11105\, United States
CATEGORIES:New York,New York Open Mics,Open Mic
GEO:40.7755628;-73.9148992
X-APPLE-STRUCTURED-LOCATION;VALUE=URI;X-ADDRESS=Q.E.D. Astoria 27-16 23rd Avenue Queens NY 11105 United States;X-APPLE-RADIUS=500;X-TITLE=27-16 23rd Avenue:geo:-73.9148992,40.7755628
END:VEVENT
BEGIN:VEVENT
DTSTART;TZID=America/Los_Angeles:20240502T180000
DTEND;TZID=America/Los_Angeles:20240502T200000
DTSTAMP:20260424T031014
CREATED:20231218T192456Z
LAST-MODIFIED:20241021T161615Z
UID:10014233-1714672800-1714680000@thecomedybureau.com
SUMMARY:Eastville Comedy Club (in NYC)
DESCRIPTION:Sign-up 5:30PM ET\nStarts 6PM ET\nEnds 7:45PM ET\n5 min.\n1 item min. to perform\nShow up\, go up
URL:https://thecomedybureau.com/show/eastville-comedy-club-in-nyc-51-2-2-2/2024-05-02/
LOCATION:Eastville Comedy Club\, 487 Atlantic Avenue\, Brooklyn\, NY\, 11217\, United States
CATEGORIES:New York,New York Open Mics,Open Mic,Standard
GEO:40.6859214;-73.9816178
X-APPLE-STRUCTURED-LOCATION;VALUE=URI;X-ADDRESS=Eastville Comedy Club 487 Atlantic Avenue Brooklyn NY 11217 United States;X-APPLE-RADIUS=500;X-TITLE=487 Atlantic Avenue:geo:-73.9816178,40.6859214
END:VEVENT
BEGIN:VEVENT
DTSTART;TZID=America/New_York:20240502T190000
DTEND;TZID=America/New_York:20240502T203000
DTSTAMP:20260424T031014
CREATED:20231218T192643Z
LAST-MODIFIED:20241126T043529Z
UID:10014267-1714676400-1714681800@thecomedybureau.com
SUMMARY:The Tiny Cupboard (in NYC)
DESCRIPTION:Starts at 7PM ET\nShow up\, go up\n$2 to perform\nMixed mic (comedy\, music poetry)\nShow up go up*\nSign-up details and list of hosts available at thetinycupboard.com/open-mics/
URL:https://thecomedybureau.com/show/the-tiny-cupboard-in-nyc-245-2-2-2/2024-05-02/
LOCATION:The Tiny Cupboard\, 1717 Broadway #315\, Brooklyn\, NY\, 11207\, United States
CATEGORIES:New York,New York Open Mics,Open Mic
GEO:40.6835998;-73.911137
X-APPLE-STRUCTURED-LOCATION;VALUE=URI;X-ADDRESS=The Tiny Cupboard 1717 Broadway #315 Brooklyn NY 11207 United States;X-APPLE-RADIUS=500;X-TITLE=1717 Broadway #315:geo:-73.911137,40.6835998
END:VEVENT
BEGIN:VEVENT
DTSTART;TZID=America/Los_Angeles:20240502T190000
DTEND;TZID=America/Los_Angeles:20240502T210000
DTSTAMP:20260424T031014
CREATED:20231128T175646Z
LAST-MODIFIED:20260330T080003Z
UID:10014707-1714676400-1714683600@thecomedybureau.com
SUMMARY:Comedians on the Loose @ Black Cat LES (in NYC)
DESCRIPTION:Starts 7PM ET\nSign-up in advance at https://www.comediansontheloose.com/open-mics\n5-7 min.\n$5 to perform\nHosted by Sonja Savanovic
URL:https://thecomedybureau.com/show/comedians-on-the-loose-black-cat-les-in-nyc-54-2-2/2024-05-02/
LOCATION:Black Cat LES\, 172 Rivington Street\, New York\, NY\, 10002\, United States
CATEGORIES:New York,New York Open Mics,Open Mic,Standard
GEO:40.7191658;-73.9845007
X-APPLE-STRUCTURED-LOCATION;VALUE=URI;X-ADDRESS=Black Cat LES 172 Rivington Street New York NY 10002 United States;X-APPLE-RADIUS=500;X-TITLE=172 Rivington Street:geo:-73.9845007,40.7191658
END:VEVENT
BEGIN:VEVENT
DTSTART;TZID=America/Los_Angeles:20240502T210000
DTEND;TZID=America/Los_Angeles:20240502T230000
DTSTAMP:20260424T031014
CREATED:20231128T180536Z
LAST-MODIFIED:20260330T075826Z
UID:10014742-1714683600-1714690800@thecomedybureau.com
SUMMARY:Comedians on the Loose @ Black Cat LES (in NYC)
DESCRIPTION:Starts 9PM ET\nSign-up in advance at https://www.comediansontheloose.com/open-mics\n5-7 min.\n$5 to perform\nHosted by Sonja Savanovic
URL:https://thecomedybureau.com/show/comedians-on-the-loose-black-cat-les-in-nyc-59-2-2/2024-05-02/
LOCATION:Black Cat LES\, 172 Rivington Street\, New York\, NY\, 10002\, United States
CATEGORIES:New York,New York Open Mics,Open Mic
GEO:40.7191658;-73.9845007
X-APPLE-STRUCTURED-LOCATION;VALUE=URI;X-ADDRESS=Black Cat LES 172 Rivington Street New York NY 10002 United States;X-APPLE-RADIUS=500;X-TITLE=172 Rivington Street:geo:-73.9845007,40.7191658
END:VEVENT
BEGIN:VEVENT
DTSTART;TZID=America/New_York:20240502T220000
DTEND;TZID=America/New_York:20240502T233000
DTSTAMP:20260424T031014
CREATED:20231218T193453Z
LAST-MODIFIED:20251220T024654Z
UID:10014367-1714687200-1714692600@thecomedybureau.com
SUMMARY:The Tiny Cupboard (in NYC)
DESCRIPTION:Starts at 10PM ET\nShow up\, go up\n$2 to perform\nMixed mic (comedy\, music poetry)\nShow up go up*\nSign-up details and list of hosts available at thetinycupboard.com/open-mics/
URL:https://thecomedybureau.com/show/the-tiny-cupboard-in-nyc-247-2-2-2/2024-05-02/
LOCATION:The Tiny Cupboard\, 1717 Broadway #315\, Brooklyn\, NY\, 11207\, United States
CATEGORIES:New York,New York Open Mics,Open Mic
GEO:40.6835998;-73.911137
X-APPLE-STRUCTURED-LOCATION;VALUE=URI;X-ADDRESS=The Tiny Cupboard 1717 Broadway #315 Brooklyn NY 11207 United States;X-APPLE-RADIUS=500;X-TITLE=1717 Broadway #315:geo:-73.911137,40.6835998
END:VEVENT
BEGIN:VEVENT
DTSTART;TZID=America/New_York:20240502T224500
DTEND;TZID=America/New_York:20240503T003000
DTSTAMP:20260424T031014
CREATED:20211206T033011Z
LAST-MODIFIED:20241128T190913Z
UID:10014824-1714689900-1714696200@thecomedybureau.com
SUMMARY:Q.E.D. Astoria (in NYC)
DESCRIPTION:Sign-up 10:30PM ET\nStarts 10:45PM ET\nEnds 12:30AM ET\nLottery\n3 min.
URL:https://thecomedybureau.com/show/creature-feature-open-mic-q-e-d-astoria-in-nyc-18/2024-05-02/
LOCATION:Q.E.D. Astoria\, 27-16 23rd Avenue\, Queens\, NY\, 11105\, United States
CATEGORIES:New York,New York Open Mics,Open Mic
GEO:40.7755628;-73.9148992
X-APPLE-STRUCTURED-LOCATION;VALUE=URI;X-ADDRESS=Q.E.D. Astoria 27-16 23rd Avenue Queens NY 11105 United States;X-APPLE-RADIUS=500;X-TITLE=27-16 23rd Avenue:geo:-73.9148992,40.7755628
END:VEVENT
BEGIN:VEVENT
DTSTART;TZID=America/New_York:20240503T170000
DTEND;TZID=America/New_York:20240503T190000
DTSTAMP:20260424T031014
CREATED:20220907T020639Z
LAST-MODIFIED:20250331T011700Z
UID:10014833-1714755600-1714762800@thecomedybureau.com
SUMMARY:Q.E.D. Astoria (in NYC)
DESCRIPTION:Starts 5PM ET\n4 min.\n1 item min. to perform\nLottery
URL:https://thecomedybureau.com/show/q-e-d-astoria-in-nyc-80/2024-05-03/
LOCATION:Q.E.D. Astoria\, 27-16 23rd Avenue\, Queens\, NY\, 11105\, United States
CATEGORIES:New York Open Mics,Open Mic
GEO:40.7755628;-73.9148992
X-APPLE-STRUCTURED-LOCATION;VALUE=URI;X-ADDRESS=Q.E.D. Astoria 27-16 23rd Avenue Queens NY 11105 United States;X-APPLE-RADIUS=500;X-TITLE=27-16 23rd Avenue:geo:-73.9148992,40.7755628
END:VEVENT
BEGIN:VEVENT
DTSTART;TZID=America/New_York:20240503T173000
DTEND;TZID=America/New_York:20240503T190000
DTSTAMP:20260424T031014
CREATED:20231218T191524Z
LAST-MODIFIED:20250629T070438Z
UID:10014208-1714757400-1714762800@thecomedybureau.com
SUMMARY:The Tiny Cupboard (in NYC)
DESCRIPTION:Starts at 5:30PM\nShow up\, go up\n$2 to perform\nMixed mic (comedy\, music poetry)\nShow up go up*\nSign-up details and list of hosts available at thetinycupboard.com/open-mics/
URL:https://thecomedybureau.com/show/the-tiny-cupboard-in-nyc-209-2-2-2/2024-05-03/
LOCATION:The Tiny Cupboard\, 1717 Broadway #315\, Brooklyn\, NY\, 11207\, United States
CATEGORIES:New York,New York Open Mics,Open Mic
GEO:40.6835998;-73.911137
X-APPLE-STRUCTURED-LOCATION;VALUE=URI;X-ADDRESS=The Tiny Cupboard 1717 Broadway #315 Brooklyn NY 11207 United States;X-APPLE-RADIUS=500;X-TITLE=1717 Broadway #315:geo:-73.911137,40.6835998
END:VEVENT
BEGIN:VEVENT
DTSTART;TZID=America/New_York:20240503T180000
DTEND;TZID=America/New_York:20240503T200000
DTSTAMP:20260424T031014
CREATED:20240303T033455Z
LAST-MODIFIED:20241126T200037Z
UID:10014845-1714759200-1714766400@thecomedybureau.com
SUMMARY:The Flop House (in NYC)
DESCRIPTION:Sign-up 5:30PM ET\nStarts 6PM ET\n5 min.\n$5 or 1 drink min. to perform\nPresented by Pure Chaos Comedy
URL:https://thecomedybureau.com/show/the-flop-house-in-nyc-2/2024-05-03/
LOCATION:Flop House Comedy Club\, 362 Grand Street\, Brooklyn\, NY\, 11211\, United States
CATEGORIES:New York Open Mics,Open Mic
GEO:40.7122531;-73.9557515
X-APPLE-STRUCTURED-LOCATION;VALUE=URI;X-ADDRESS=Flop House Comedy Club 362 Grand Street Brooklyn NY 11211 United States;X-APPLE-RADIUS=500;X-TITLE=362 Grand Street:geo:-73.9557515,40.7122531
END:VEVENT
BEGIN:VEVENT
DTSTART;TZID=America/New_York:20240503T190000
DTEND;TZID=America/New_York:20240503T203000
DTSTAMP:20260424T031015
CREATED:20231218T192643Z
LAST-MODIFIED:20241126T043529Z
UID:10014268-1714762800-1714768200@thecomedybureau.com
SUMMARY:The Tiny Cupboard (in NYC)
DESCRIPTION:Starts at 7PM ET\nShow up\, go up\n$2 to perform\nMixed mic (comedy\, music poetry)\nShow up go up*\nSign-up details and list of hosts available at thetinycupboard.com/open-mics/
URL:https://thecomedybureau.com/show/the-tiny-cupboard-in-nyc-245-2-2-2/2024-05-03/
LOCATION:The Tiny Cupboard\, 1717 Broadway #315\, Brooklyn\, NY\, 11207\, United States
CATEGORIES:New York,New York Open Mics,Open Mic
GEO:40.6835998;-73.911137
X-APPLE-STRUCTURED-LOCATION;VALUE=URI;X-ADDRESS=The Tiny Cupboard 1717 Broadway #315 Brooklyn NY 11207 United States;X-APPLE-RADIUS=500;X-TITLE=1717 Broadway #315:geo:-73.911137,40.6835998
END:VEVENT
BEGIN:VEVENT
DTSTART;TZID=America/New_York:20240503T220000
DTEND;TZID=America/New_York:20240503T233000
DTSTAMP:20260424T031015
CREATED:20231218T193453Z
LAST-MODIFIED:20251220T024654Z
UID:10014368-1714773600-1714779000@thecomedybureau.com
SUMMARY:The Tiny Cupboard (in NYC)
DESCRIPTION:Starts at 10PM ET\nShow up\, go up\n$2 to perform\nMixed mic (comedy\, music poetry)\nShow up go up*\nSign-up details and list of hosts available at thetinycupboard.com/open-mics/
URL:https://thecomedybureau.com/show/the-tiny-cupboard-in-nyc-247-2-2-2/2024-05-03/
LOCATION:The Tiny Cupboard\, 1717 Broadway #315\, Brooklyn\, NY\, 11207\, United States
CATEGORIES:New York,New York Open Mics,Open Mic
GEO:40.6835998;-73.911137
X-APPLE-STRUCTURED-LOCATION;VALUE=URI;X-ADDRESS=The Tiny Cupboard 1717 Broadway #315 Brooklyn NY 11207 United States;X-APPLE-RADIUS=500;X-TITLE=1717 Broadway #315:geo:-73.911137,40.6835998
END:VEVENT
BEGIN:VEVENT
DTSTART;TZID=America/New_York:20240503T233000
DTEND;TZID=America/New_York:20240504T010000
DTSTAMP:20260424T031015
CREATED:20240102T035651Z
LAST-MODIFIED:20250926T181601Z
UID:10014853-1714779000-1714784400@thecomedybureau.com
SUMMARY:Eastville Comedy Club (in NYC)
DESCRIPTION:Starts 11:30PM ET\n5 min.\n1 item min. to perform
URL:https://thecomedybureau.com/show/eastville-comedy-club-in-nyc-56-2-2-2/2024-05-03/
LOCATION:Eastville Comedy Club\, 487 Atlantic Avenue\, Brooklyn\, NY\, 11217\, United States
CATEGORIES:New York Open Mics,Open Mic
GEO:40.6859214;-73.9816178
X-APPLE-STRUCTURED-LOCATION;VALUE=URI;X-ADDRESS=Eastville Comedy Club 487 Atlantic Avenue Brooklyn NY 11217 United States;X-APPLE-RADIUS=500;X-TITLE=487 Atlantic Avenue:geo:-73.9816178,40.6859214
END:VEVENT
BEGIN:VEVENT
DTSTART;TZID=America/New_York:20240504T160000
DTEND;TZID=America/New_York:20240504T173000
DTSTAMP:20260424T031015
CREATED:20240101T172422Z
LAST-MODIFIED:20240620T144754Z
UID:10014863-1714838400-1714843800@thecomedybureau.com
SUMMARY:The Tiny Cupboard (in NYC)
DESCRIPTION:Starts at 4PM\nShow up\, go up\n$2 to perform\nMixed mic (comedy\, music poetry)\nShow up go up*\nSign-up details and list of hosts available at thetinycupboard.com/open-mics/
URL:https://thecomedybureau.com/show/the-tiny-cupboard-in-nyc-248/2024-05-04/
LOCATION:The Tiny Cupboard\, 1717 Broadway #315\, Brooklyn\, NY\, 11207\, United States
CATEGORIES:New York Open Mics,Open Mic
GEO:40.6835998;-73.911137
X-APPLE-STRUCTURED-LOCATION;VALUE=URI;X-ADDRESS=The Tiny Cupboard 1717 Broadway #315 Brooklyn NY 11207 United States;X-APPLE-RADIUS=500;X-TITLE=1717 Broadway #315:geo:-73.911137,40.6835998
END:VEVENT
BEGIN:VEVENT
DTSTART;TZID=America/New_York:20240504T173000
DTEND;TZID=America/New_York:20240504T190000
DTSTAMP:20260424T031015
CREATED:20231218T191524Z
LAST-MODIFIED:20250629T070438Z
UID:10014209-1714843800-1714849200@thecomedybureau.com
SUMMARY:The Tiny Cupboard (in NYC)
DESCRIPTION:Starts at 5:30PM\nShow up\, go up\n$2 to perform\nMixed mic (comedy\, music poetry)\nShow up go up*\nSign-up details and list of hosts available at thetinycupboard.com/open-mics/
URL:https://thecomedybureau.com/show/the-tiny-cupboard-in-nyc-209-2-2-2/2024-05-04/
LOCATION:The Tiny Cupboard\, 1717 Broadway #315\, Brooklyn\, NY\, 11207\, United States
CATEGORIES:New York,New York Open Mics,Open Mic
GEO:40.6835998;-73.911137
X-APPLE-STRUCTURED-LOCATION;VALUE=URI;X-ADDRESS=The Tiny Cupboard 1717 Broadway #315 Brooklyn NY 11207 United States;X-APPLE-RADIUS=500;X-TITLE=1717 Broadway #315:geo:-73.911137,40.6835998
END:VEVENT
BEGIN:VEVENT
DTSTART;TZID=America/New_York:20240504T190000
DTEND;TZID=America/New_York:20240504T203000
DTSTAMP:20260424T031015
CREATED:20231218T192643Z
LAST-MODIFIED:20241126T043529Z
UID:10014269-1714849200-1714854600@thecomedybureau.com
SUMMARY:The Tiny Cupboard (in NYC)
DESCRIPTION:Starts at 7PM ET\nShow up\, go up\n$2 to perform\nMixed mic (comedy\, music poetry)\nShow up go up*\nSign-up details and list of hosts available at thetinycupboard.com/open-mics/
URL:https://thecomedybureau.com/show/the-tiny-cupboard-in-nyc-245-2-2-2/2024-05-04/
LOCATION:The Tiny Cupboard\, 1717 Broadway #315\, Brooklyn\, NY\, 11207\, United States
CATEGORIES:New York,New York Open Mics,Open Mic
GEO:40.6835998;-73.911137
X-APPLE-STRUCTURED-LOCATION;VALUE=URI;X-ADDRESS=The Tiny Cupboard 1717 Broadway #315 Brooklyn NY 11207 United States;X-APPLE-RADIUS=500;X-TITLE=1717 Broadway #315:geo:-73.911137,40.6835998
END:VEVENT
BEGIN:VEVENT
DTSTART;TZID=America/Los_Angeles:20240504T190000
DTEND;TZID=America/Los_Angeles:20240504T210000
DTSTAMP:20260424T031015
CREATED:20231128T175646Z
LAST-MODIFIED:20260330T080003Z
UID:10014708-1714849200-1714856400@thecomedybureau.com
SUMMARY:Comedians on the Loose @ Black Cat LES (in NYC)
DESCRIPTION:Starts 7PM ET\nSign-up in advance at https://www.comediansontheloose.com/open-mics\n5-7 min.\n$5 to perform\nHosted by Sonja Savanovic
URL:https://thecomedybureau.com/show/comedians-on-the-loose-black-cat-les-in-nyc-54-2-2/2024-05-04/
LOCATION:Black Cat LES\, 172 Rivington Street\, New York\, NY\, 10002\, United States
CATEGORIES:New York,New York Open Mics,Open Mic,Standard
GEO:40.7191658;-73.9845007
X-APPLE-STRUCTURED-LOCATION;VALUE=URI;X-ADDRESS=Black Cat LES 172 Rivington Street New York NY 10002 United States;X-APPLE-RADIUS=500;X-TITLE=172 Rivington Street:geo:-73.9845007,40.7191658
END:VEVENT
END:VCALENDAR