BEGIN:VCALENDAR
VERSION:2.0
PRODID:-//The Comedy Bureau - ECPv6.15.18//NONSGML v1.0//EN
CALSCALE:GREGORIAN
METHOD:PUBLISH
X-WR-CALNAME:The Comedy Bureau
X-ORIGINAL-URL:https://thecomedybureau.com
X-WR-CALDESC:Events for The Comedy Bureau
REFRESH-INTERVAL;VALUE=DURATION:PT1H
X-Robots-Tag:noindex
X-PUBLISHED-TTL:PT1H
BEGIN:VTIMEZONE
TZID:America/New_York
BEGIN:DAYLIGHT
TZOFFSETFROM:-0500
TZOFFSETTO:-0400
TZNAME:EDT
DTSTART:20230312T070000
END:DAYLIGHT
BEGIN:STANDARD
TZOFFSETFROM:-0400
TZOFFSETTO:-0500
TZNAME:EST
DTSTART:20231105T060000
END:STANDARD
BEGIN:DAYLIGHT
TZOFFSETFROM:-0500
TZOFFSETTO:-0400
TZNAME:EDT
DTSTART:20240310T070000
END:DAYLIGHT
BEGIN:STANDARD
TZOFFSETFROM:-0400
TZOFFSETTO:-0500
TZNAME:EST
DTSTART:20241103T060000
END:STANDARD
BEGIN:DAYLIGHT
TZOFFSETFROM:-0500
TZOFFSETTO:-0400
TZNAME:EDT
DTSTART:20250309T070000
END:DAYLIGHT
BEGIN:STANDARD
TZOFFSETFROM:-0400
TZOFFSETTO:-0500
TZNAME:EST
DTSTART:20251102T060000
END:STANDARD
END:VTIMEZONE
BEGIN:VTIMEZONE
TZID:America/Los_Angeles
BEGIN:DAYLIGHT
TZOFFSETFROM:-0800
TZOFFSETTO:-0700
TZNAME:PDT
DTSTART:20230312T100000
END:DAYLIGHT
BEGIN:STANDARD
TZOFFSETFROM:-0700
TZOFFSETTO:-0800
TZNAME:PST
DTSTART:20231105T090000
END:STANDARD
BEGIN:DAYLIGHT
TZOFFSETFROM:-0800
TZOFFSETTO:-0700
TZNAME:PDT
DTSTART:20240310T100000
END:DAYLIGHT
BEGIN:STANDARD
TZOFFSETFROM:-0700
TZOFFSETTO:-0800
TZNAME:PST
DTSTART:20241103T090000
END:STANDARD
BEGIN:DAYLIGHT
TZOFFSETFROM:-0800
TZOFFSETTO:-0700
TZNAME:PDT
DTSTART:20250309T100000
END:DAYLIGHT
BEGIN:STANDARD
TZOFFSETFROM:-0700
TZOFFSETTO:-0800
TZNAME:PST
DTSTART:20251102T090000
END:STANDARD
END:VTIMEZONE
BEGIN:VEVENT
DTSTART;TZID=America/New_York:20240405T233000
DTEND;TZID=America/New_York:20240406T010000
DTSTAMP:20260422T221156
CREATED:20240102T035651Z
LAST-MODIFIED:20250926T181601Z
UID:10012910-1712359800-1712365200@thecomedybureau.com
SUMMARY:Eastville Comedy Club (in NYC)
DESCRIPTION:Starts 11:30PM ET\n5 min.\n1 item min. to perform
URL:https://thecomedybureau.com/show/eastville-comedy-club-in-nyc-56-2-2-2/2024-04-05/
LOCATION:Eastville Comedy Club\, 487 Atlantic Avenue\, Brooklyn\, NY\, 11217\, United States
CATEGORIES:New York Open Mics,Open Mic
GEO:40.6859214;-73.9816178
X-APPLE-STRUCTURED-LOCATION;VALUE=URI;X-ADDRESS=Eastville Comedy Club 487 Atlantic Avenue Brooklyn NY 11217 United States;X-APPLE-RADIUS=500;X-TITLE=487 Atlantic Avenue:geo:-73.9816178,40.6859214
END:VEVENT
BEGIN:VEVENT
DTSTART;TZID=America/New_York:20240406T160000
DTEND;TZID=America/New_York:20240406T173000
DTSTAMP:20260422T221156
CREATED:20240101T172422Z
LAST-MODIFIED:20240620T144754Z
UID:10012918-1712419200-1712424600@thecomedybureau.com
SUMMARY:The Tiny Cupboard (in NYC)
DESCRIPTION:Starts at 4PM\nShow up\, go up\n$2 to perform\nMixed mic (comedy\, music poetry)\nShow up go up*\nSign-up details and list of hosts available at thetinycupboard.com/open-mics/
URL:https://thecomedybureau.com/show/the-tiny-cupboard-in-nyc-248/2024-04-06/
LOCATION:The Tiny Cupboard\, 1717 Broadway #315\, Brooklyn\, NY\, 11207\, United States
CATEGORIES:New York Open Mics,Open Mic
GEO:40.6835998;-73.911137
X-APPLE-STRUCTURED-LOCATION;VALUE=URI;X-ADDRESS=The Tiny Cupboard 1717 Broadway #315 Brooklyn NY 11207 United States;X-APPLE-RADIUS=500;X-TITLE=1717 Broadway #315:geo:-73.911137,40.6835998
END:VEVENT
BEGIN:VEVENT
DTSTART;TZID=America/New_York:20240406T173000
DTEND;TZID=America/New_York:20240406T190000
DTSTAMP:20260422T221156
CREATED:20231218T191524Z
LAST-MODIFIED:20250629T070438Z
UID:10012680-1712424600-1712430000@thecomedybureau.com
SUMMARY:The Tiny Cupboard (in NYC)
DESCRIPTION:Starts at 5:30PM\nShow up\, go up\n$2 to perform\nMixed mic (comedy\, music poetry)\nShow up go up*\nSign-up details and list of hosts available at thetinycupboard.com/open-mics/
URL:https://thecomedybureau.com/show/the-tiny-cupboard-in-nyc-209-2-2-2/2024-04-06/
LOCATION:The Tiny Cupboard\, 1717 Broadway #315\, Brooklyn\, NY\, 11207\, United States
CATEGORIES:New York,New York Open Mics,Open Mic
GEO:40.6835998;-73.911137
X-APPLE-STRUCTURED-LOCATION;VALUE=URI;X-ADDRESS=The Tiny Cupboard 1717 Broadway #315 Brooklyn NY 11207 United States;X-APPLE-RADIUS=500;X-TITLE=1717 Broadway #315:geo:-73.911137,40.6835998
END:VEVENT
BEGIN:VEVENT
DTSTART;TZID=America/New_York:20240406T190000
DTEND;TZID=America/New_York:20240406T203000
DTSTAMP:20260422T221156
CREATED:20231218T192643Z
LAST-MODIFIED:20241126T043529Z
UID:10012728-1712430000-1712435400@thecomedybureau.com
SUMMARY:The Tiny Cupboard (in NYC)
DESCRIPTION:Starts at 7PM ET\nShow up\, go up\n$2 to perform\nMixed mic (comedy\, music poetry)\nShow up go up*\nSign-up details and list of hosts available at thetinycupboard.com/open-mics/
URL:https://thecomedybureau.com/show/the-tiny-cupboard-in-nyc-245-2-2-2/2024-04-06/
LOCATION:The Tiny Cupboard\, 1717 Broadway #315\, Brooklyn\, NY\, 11207\, United States
CATEGORIES:New York,New York Open Mics,Open Mic
GEO:40.6835998;-73.911137
X-APPLE-STRUCTURED-LOCATION;VALUE=URI;X-ADDRESS=The Tiny Cupboard 1717 Broadway #315 Brooklyn NY 11207 United States;X-APPLE-RADIUS=500;X-TITLE=1717 Broadway #315:geo:-73.911137,40.6835998
END:VEVENT
BEGIN:VEVENT
DTSTART;TZID=America/Los_Angeles:20240406T190000
DTEND;TZID=America/Los_Angeles:20240406T210000
DTSTAMP:20260422T221156
CREATED:20231128T175646Z
LAST-MODIFIED:20260330T080003Z
UID:10012826-1712430000-1712437200@thecomedybureau.com
SUMMARY:Comedians on the Loose @ Black Cat LES (in NYC)
DESCRIPTION:Starts 7PM ET\nSign-up in advance at https://www.comediansontheloose.com/open-mics\n5-7 min.\n$5 to perform\nHosted by Sonja Savanovic
URL:https://thecomedybureau.com/show/comedians-on-the-loose-black-cat-les-in-nyc-54-2-2/2024-04-06/
LOCATION:Black Cat LES\, 172 Rivington Street\, New York\, NY\, 10002\, United States
CATEGORIES:New York,New York Open Mics,Open Mic,Standard
GEO:40.7191658;-73.9845007
X-APPLE-STRUCTURED-LOCATION;VALUE=URI;X-ADDRESS=Black Cat LES 172 Rivington Street New York NY 10002 United States;X-APPLE-RADIUS=500;X-TITLE=172 Rivington Street:geo:-73.9845007,40.7191658
END:VEVENT
BEGIN:VEVENT
DTSTART;TZID=America/Los_Angeles:20240406T210000
DTEND;TZID=America/Los_Angeles:20240406T230000
DTSTAMP:20260422T221156
CREATED:20231128T180536Z
LAST-MODIFIED:20260330T075826Z
UID:10012850-1712437200-1712444400@thecomedybureau.com
SUMMARY:Comedians on the Loose @ Black Cat LES (in NYC)
DESCRIPTION:Starts 9PM ET\nSign-up in advance at https://www.comediansontheloose.com/open-mics\n5-7 min.\n$5 to perform\nHosted by Sonja Savanovic
URL:https://thecomedybureau.com/show/comedians-on-the-loose-black-cat-les-in-nyc-59-2-2/2024-04-06/
LOCATION:Black Cat LES\, 172 Rivington Street\, New York\, NY\, 10002\, United States
CATEGORIES:New York,New York Open Mics,Open Mic
GEO:40.7191658;-73.9845007
X-APPLE-STRUCTURED-LOCATION;VALUE=URI;X-ADDRESS=Black Cat LES 172 Rivington Street New York NY 10002 United States;X-APPLE-RADIUS=500;X-TITLE=172 Rivington Street:geo:-73.9845007,40.7191658
END:VEVENT
BEGIN:VEVENT
DTSTART;TZID=America/New_York:20240406T220000
DTEND;TZID=America/New_York:20240406T233000
DTSTAMP:20260422T221156
CREATED:20231218T193453Z
LAST-MODIFIED:20251220T024654Z
UID:10012804-1712440800-1712446200@thecomedybureau.com
SUMMARY:The Tiny Cupboard (in NYC)
DESCRIPTION:Starts at 10PM ET\nShow up\, go up\n$2 to perform\nMixed mic (comedy\, music poetry)\nShow up go up*\nSign-up details and list of hosts available at thetinycupboard.com/open-mics/
URL:https://thecomedybureau.com/show/the-tiny-cupboard-in-nyc-247-2-2-2/2024-04-06/
LOCATION:The Tiny Cupboard\, 1717 Broadway #315\, Brooklyn\, NY\, 11207\, United States
CATEGORIES:New York,New York Open Mics,Open Mic
GEO:40.6835998;-73.911137
X-APPLE-STRUCTURED-LOCATION;VALUE=URI;X-ADDRESS=The Tiny Cupboard 1717 Broadway #315 Brooklyn NY 11207 United States;X-APPLE-RADIUS=500;X-TITLE=1717 Broadway #315:geo:-73.911137,40.6835998
END:VEVENT
BEGIN:VEVENT
DTSTART;TZID=America/New_York:20240406T233000
DTEND;TZID=America/New_York:20240407T010000
DTSTAMP:20260422T221156
CREATED:20240102T035651Z
LAST-MODIFIED:20250926T181601Z
UID:10012911-1712446200-1712451600@thecomedybureau.com
SUMMARY:Eastville Comedy Club (in NYC)
DESCRIPTION:Starts 11:30PM ET\n5 min.\n1 item min. to perform
URL:https://thecomedybureau.com/show/eastville-comedy-club-in-nyc-56-2-2-2/2024-04-06/
LOCATION:Eastville Comedy Club\, 487 Atlantic Avenue\, Brooklyn\, NY\, 11217\, United States
CATEGORIES:New York Open Mics,Open Mic
GEO:40.6859214;-73.9816178
X-APPLE-STRUCTURED-LOCATION;VALUE=URI;X-ADDRESS=Eastville Comedy Club 487 Atlantic Avenue Brooklyn NY 11217 United States;X-APPLE-RADIUS=500;X-TITLE=487 Atlantic Avenue:geo:-73.9816178,40.6859214
END:VEVENT
BEGIN:VEVENT
DTSTART;TZID=America/New_York:20240407T160000
DTEND;TZID=America/New_York:20240407T173000
DTSTAMP:20260422T221156
CREATED:20240101T172422Z
LAST-MODIFIED:20240620T144754Z
UID:10012919-1712505600-1712511000@thecomedybureau.com
SUMMARY:The Tiny Cupboard (in NYC)
DESCRIPTION:Starts at 4PM\nShow up\, go up\n$2 to perform\nMixed mic (comedy\, music poetry)\nShow up go up*\nSign-up details and list of hosts available at thetinycupboard.com/open-mics/
URL:https://thecomedybureau.com/show/the-tiny-cupboard-in-nyc-248/2024-04-07/
LOCATION:The Tiny Cupboard\, 1717 Broadway #315\, Brooklyn\, NY\, 11207\, United States
CATEGORIES:New York Open Mics,Open Mic
GEO:40.6835998;-73.911137
X-APPLE-STRUCTURED-LOCATION;VALUE=URI;X-ADDRESS=The Tiny Cupboard 1717 Broadway #315 Brooklyn NY 11207 United States;X-APPLE-RADIUS=500;X-TITLE=1717 Broadway #315:geo:-73.911137,40.6835998
END:VEVENT
BEGIN:VEVENT
DTSTART;TZID=America/New_York:20240407T160000
DTEND;TZID=America/New_York:20240407T180000
DTSTAMP:20260422T221156
CREATED:20240115T190824Z
LAST-MODIFIED:20241021T220412Z
UID:10011587-1712505600-1712512800@thecomedybureau.com
SUMMARY:Gama Lounge (in NYC)
DESCRIPTION:Sign-up 3:30PM ET\nStarts 4PM ET\n5 min.\n$5 or 1 drink min. to perform\nPresented by Pure Chaos Comedy
URL:https://thecomedybureau.com/show/alphaville-in-nyc-3/2024-04-07/
LOCATION:Gama Lounge\, 50 Avenue B\, New York\, NY\, 10009\, United States
CATEGORIES:New York Open Mics,Open Mic
GEO:40.72323;-73.982834
X-APPLE-STRUCTURED-LOCATION;VALUE=URI;X-ADDRESS=Gama Lounge 50 Avenue B New York NY 10009 United States;X-APPLE-RADIUS=500;X-TITLE=50 Avenue B:geo:-73.982834,40.72323
END:VEVENT
BEGIN:VEVENT
DTSTART;TZID=America/New_York:20240407T170000
DTEND;TZID=America/New_York:20240407T190000
DTSTAMP:20260422T221156
CREATED:20220907T020639Z
LAST-MODIFIED:20250331T011700Z
UID:10012995-1712509200-1712516400@thecomedybureau.com
SUMMARY:Q.E.D. Astoria (in NYC)
DESCRIPTION:Starts 5PM ET\n4 min.\n1 item min. to perform\nLottery
URL:https://thecomedybureau.com/show/q-e-d-astoria-in-nyc-80/2024-04-07/
LOCATION:Q.E.D. Astoria\, 27-16 23rd Avenue\, Queens\, NY\, 11105\, United States
CATEGORIES:New York Open Mics,Open Mic
GEO:40.7755628;-73.9148992
X-APPLE-STRUCTURED-LOCATION;VALUE=URI;X-ADDRESS=Q.E.D. Astoria 27-16 23rd Avenue Queens NY 11105 United States;X-APPLE-RADIUS=500;X-TITLE=27-16 23rd Avenue:geo:-73.9148992,40.7755628
END:VEVENT
BEGIN:VEVENT
DTSTART;TZID=America/New_York:20240407T173000
DTEND;TZID=America/New_York:20240407T190000
DTSTAMP:20260422T221156
CREATED:20231218T191524Z
LAST-MODIFIED:20250629T070438Z
UID:10012681-1712511000-1712516400@thecomedybureau.com
SUMMARY:The Tiny Cupboard (in NYC)
DESCRIPTION:Starts at 5:30PM\nShow up\, go up\n$2 to perform\nMixed mic (comedy\, music poetry)\nShow up go up*\nSign-up details and list of hosts available at thetinycupboard.com/open-mics/
URL:https://thecomedybureau.com/show/the-tiny-cupboard-in-nyc-209-2-2-2/2024-04-07/
LOCATION:The Tiny Cupboard\, 1717 Broadway #315\, Brooklyn\, NY\, 11207\, United States
CATEGORIES:New York,New York Open Mics,Open Mic
GEO:40.6835998;-73.911137
X-APPLE-STRUCTURED-LOCATION;VALUE=URI;X-ADDRESS=The Tiny Cupboard 1717 Broadway #315 Brooklyn NY 11207 United States;X-APPLE-RADIUS=500;X-TITLE=1717 Broadway #315:geo:-73.911137,40.6835998
END:VEVENT
BEGIN:VEVENT
DTSTART;TZID=America/New_York:20240407T190000
DTEND;TZID=America/New_York:20240407T203000
DTSTAMP:20260422T221156
CREATED:20231218T192643Z
LAST-MODIFIED:20241126T043529Z
UID:10012729-1712516400-1712521800@thecomedybureau.com
SUMMARY:The Tiny Cupboard (in NYC)
DESCRIPTION:Starts at 7PM ET\nShow up\, go up\n$2 to perform\nMixed mic (comedy\, music poetry)\nShow up go up*\nSign-up details and list of hosts available at thetinycupboard.com/open-mics/
URL:https://thecomedybureau.com/show/the-tiny-cupboard-in-nyc-245-2-2-2/2024-04-07/
LOCATION:The Tiny Cupboard\, 1717 Broadway #315\, Brooklyn\, NY\, 11207\, United States
CATEGORIES:New York,New York Open Mics,Open Mic
GEO:40.6835998;-73.911137
X-APPLE-STRUCTURED-LOCATION;VALUE=URI;X-ADDRESS=The Tiny Cupboard 1717 Broadway #315 Brooklyn NY 11207 United States;X-APPLE-RADIUS=500;X-TITLE=1717 Broadway #315:geo:-73.911137,40.6835998
END:VEVENT
BEGIN:VEVENT
DTSTART;TZID=America/New_York:20240407T214500
DTEND;TZID=America/New_York:20240407T233000
DTSTAMP:20260422T221156
CREATED:20240102T035406Z
LAST-MODIFIED:20250629T070902Z
UID:10012777-1712526300-1712532600@thecomedybureau.com
SUMMARY:Eastville Comedy Club (in NYC)
DESCRIPTION:Sign-up 9:15PM ET\nStarts 9:45PM ET\nEnds 11:30PM ET\n5 min.\n1 item min. to perform\nShow up\, go up
URL:https://thecomedybureau.com/show/eastville-comedy-club-in-nyc-51-2-2-3/2024-04-07/
LOCATION:Eastville Comedy Club\, 487 Atlantic Avenue\, Brooklyn\, NY\, 11217\, United States
CATEGORIES:New York,New York Open Mics,Open Mic,Standard
GEO:40.6859214;-73.9816178
X-APPLE-STRUCTURED-LOCATION;VALUE=URI;X-ADDRESS=Eastville Comedy Club 487 Atlantic Avenue Brooklyn NY 11217 United States;X-APPLE-RADIUS=500;X-TITLE=487 Atlantic Avenue:geo:-73.9816178,40.6859214
END:VEVENT
BEGIN:VEVENT
DTSTART;TZID=America/New_York:20240407T220000
DTEND;TZID=America/New_York:20240407T233000
DTSTAMP:20260422T221156
CREATED:20231218T193453Z
LAST-MODIFIED:20251220T024654Z
UID:10012805-1712527200-1712532600@thecomedybureau.com
SUMMARY:The Tiny Cupboard (in NYC)
DESCRIPTION:Starts at 10PM ET\nShow up\, go up\n$2 to perform\nMixed mic (comedy\, music poetry)\nShow up go up*\nSign-up details and list of hosts available at thetinycupboard.com/open-mics/
URL:https://thecomedybureau.com/show/the-tiny-cupboard-in-nyc-247-2-2-2/2024-04-07/
LOCATION:The Tiny Cupboard\, 1717 Broadway #315\, Brooklyn\, NY\, 11207\, United States
CATEGORIES:New York,New York Open Mics,Open Mic
GEO:40.6835998;-73.911137
X-APPLE-STRUCTURED-LOCATION;VALUE=URI;X-ADDRESS=The Tiny Cupboard 1717 Broadway #315 Brooklyn NY 11207 United States;X-APPLE-RADIUS=500;X-TITLE=1717 Broadway #315:geo:-73.911137,40.6835998
END:VEVENT
BEGIN:VEVENT
DTSTART;TZID=America/New_York:20240407T230000
DTEND;TZID=America/New_York:20240408T010000
DTSTAMP:20260422T221156
CREATED:20240102T040402Z
LAST-MODIFIED:20240409T161729Z
UID:10012923-1712530800-1712538000@thecomedybureau.com
SUMMARY:Eastville Comedy Club (in NYC)
DESCRIPTION:Starts 11PM ET\n5 min.\n$5
URL:https://thecomedybureau.com/show/eastville-comedy-club-in-nyc-59/2024-04-07/
LOCATION:Eastville Comedy Club\, 487 Atlantic Avenue\, Brooklyn\, NY\, 11217\, United States
CATEGORIES:New York Open Mics,Open Mic
GEO:40.6859214;-73.9816178
X-APPLE-STRUCTURED-LOCATION;VALUE=URI;X-ADDRESS=Eastville Comedy Club 487 Atlantic Avenue Brooklyn NY 11217 United States;X-APPLE-RADIUS=500;X-TITLE=487 Atlantic Avenue:geo:-73.9816178,40.6859214
END:VEVENT
BEGIN:VEVENT
DTSTART;TZID=America/New_York:20240408T173000
DTEND;TZID=America/New_York:20240408T190000
DTSTAMP:20260422T221156
CREATED:20231218T191524Z
LAST-MODIFIED:20250629T070438Z
UID:10012682-1712597400-1712602800@thecomedybureau.com
SUMMARY:The Tiny Cupboard (in NYC)
DESCRIPTION:Starts at 5:30PM\nShow up\, go up\n$2 to perform\nMixed mic (comedy\, music poetry)\nShow up go up*\nSign-up details and list of hosts available at thetinycupboard.com/open-mics/
URL:https://thecomedybureau.com/show/the-tiny-cupboard-in-nyc-209-2-2-2/2024-04-08/
LOCATION:The Tiny Cupboard\, 1717 Broadway #315\, Brooklyn\, NY\, 11207\, United States
CATEGORIES:New York,New York Open Mics,Open Mic
GEO:40.6835998;-73.911137
X-APPLE-STRUCTURED-LOCATION;VALUE=URI;X-ADDRESS=The Tiny Cupboard 1717 Broadway #315 Brooklyn NY 11207 United States;X-APPLE-RADIUS=500;X-TITLE=1717 Broadway #315:geo:-73.911137,40.6835998
END:VEVENT
BEGIN:VEVENT
DTSTART;TZID=America/Los_Angeles:20240408T180000
DTEND;TZID=America/Los_Angeles:20240408T200000
DTSTAMP:20260422T221156
CREATED:20231218T192456Z
LAST-MODIFIED:20241021T161615Z
UID:10012698-1712599200-1712606400@thecomedybureau.com
SUMMARY:Eastville Comedy Club (in NYC)
DESCRIPTION:Sign-up 5:30PM ET\nStarts 6PM ET\nEnds 7:45PM ET\n5 min.\n1 item min. to perform\nShow up\, go up
URL:https://thecomedybureau.com/show/eastville-comedy-club-in-nyc-51-2-2-2/2024-04-08/
LOCATION:Eastville Comedy Club\, 487 Atlantic Avenue\, Brooklyn\, NY\, 11217\, United States
CATEGORIES:New York,New York Open Mics,Open Mic,Standard
GEO:40.6859214;-73.9816178
X-APPLE-STRUCTURED-LOCATION;VALUE=URI;X-ADDRESS=Eastville Comedy Club 487 Atlantic Avenue Brooklyn NY 11217 United States;X-APPLE-RADIUS=500;X-TITLE=487 Atlantic Avenue:geo:-73.9816178,40.6859214
END:VEVENT
BEGIN:VEVENT
DTSTART;TZID=America/New_York:20240408T190000
DTEND;TZID=America/New_York:20240408T203000
DTSTAMP:20260422T221156
CREATED:20231218T192643Z
LAST-MODIFIED:20241126T043529Z
UID:10012730-1712602800-1712608200@thecomedybureau.com
SUMMARY:The Tiny Cupboard (in NYC)
DESCRIPTION:Starts at 7PM ET\nShow up\, go up\n$2 to perform\nMixed mic (comedy\, music poetry)\nShow up go up*\nSign-up details and list of hosts available at thetinycupboard.com/open-mics/
URL:https://thecomedybureau.com/show/the-tiny-cupboard-in-nyc-245-2-2-2/2024-04-08/
LOCATION:The Tiny Cupboard\, 1717 Broadway #315\, Brooklyn\, NY\, 11207\, United States
CATEGORIES:New York,New York Open Mics,Open Mic
GEO:40.6835998;-73.911137
X-APPLE-STRUCTURED-LOCATION;VALUE=URI;X-ADDRESS=The Tiny Cupboard 1717 Broadway #315 Brooklyn NY 11207 United States;X-APPLE-RADIUS=500;X-TITLE=1717 Broadway #315:geo:-73.911137,40.6835998
END:VEVENT
BEGIN:VEVENT
DTSTART;TZID=America/New_York:20240408T193000
DTEND;TZID=America/New_York:20240408T210000
DTSTAMP:20260422T221156
CREATED:20240205T173835Z
LAST-MODIFIED:20241020T160821Z
UID:10012734-1712604600-1712610000@thecomedybureau.com
SUMMARY:NYC Talent Show (in NYC)
DESCRIPTION:FEATURING: \nTBA \nStarts 7:30PM ET\nEnds 9PM ET\n2-3 bucket spots mixed in with booked show\nNo purchase of admission needed if you put your name in the bucket\n3 min.\nVariety encouraged\n$5-$10 paid at discretion of host
URL:https://thecomedybureau.com/show/nyc-talent-show-in-nyc-2/2024-04-08/
LOCATION:Parkside Lounge\, 317 East Houston Street\, New York\, NY\, 10002\, United States
CATEGORIES:New York Open Mics,New York Shows,Open Mic
GEO:40.7209875;-73.9832555
X-APPLE-STRUCTURED-LOCATION;VALUE=URI;X-ADDRESS=Parkside Lounge 317 East Houston Street New York NY 10002 United States;X-APPLE-RADIUS=500;X-TITLE=317 East Houston Street:geo:-73.9832555,40.7209875
END:VEVENT
BEGIN:VEVENT
DTSTART;TZID=America/New_York:20240408T200000
DTEND;TZID=America/New_York:20240408T223000
DTSTAMP:20260422T221156
CREATED:20240219T172212Z
LAST-MODIFIED:20241021T162105Z
UID:10011346-1712606400-1712615400@thecomedybureau.com
SUMMARY:The Comedy Lottery @ Flop House Comedy Club (in NYC)
DESCRIPTION:Sign-up 7:30PM ET\nStarts 8PM ET\n3 min.\nLottery\n15 slots\n$1 to sign up\n50% of ticket sales go to jackpot for best set of the night\nHosted by Demetrius Fields and Austin Locke
URL:https://thecomedybureau.com/show/the-comedy-lottery-flop-house-comedy-club-in-nyc/2024-04-08/
LOCATION:Flop House Comedy Club\, 362 Grand Street\, Brooklyn\, NY\, 11211\, United States
CATEGORIES:New York Open Mics,Open Mic
GEO:40.7122531;-73.9557515
X-APPLE-STRUCTURED-LOCATION;VALUE=URI;X-ADDRESS=Flop House Comedy Club 362 Grand Street Brooklyn NY 11211 United States;X-APPLE-RADIUS=500;X-TITLE=362 Grand Street:geo:-73.9557515,40.7122531
END:VEVENT
BEGIN:VEVENT
DTSTART;TZID=America/New_York:20240408T214500
DTEND;TZID=America/New_York:20240408T233000
DTSTAMP:20260422T221156
CREATED:20240102T035406Z
LAST-MODIFIED:20250629T070902Z
UID:10012778-1712612700-1712619000@thecomedybureau.com
SUMMARY:Eastville Comedy Club (in NYC)
DESCRIPTION:Sign-up 9:15PM ET\nStarts 9:45PM ET\nEnds 11:30PM ET\n5 min.\n1 item min. to perform\nShow up\, go up
URL:https://thecomedybureau.com/show/eastville-comedy-club-in-nyc-51-2-2-3/2024-04-08/
LOCATION:Eastville Comedy Club\, 487 Atlantic Avenue\, Brooklyn\, NY\, 11217\, United States
CATEGORIES:New York,New York Open Mics,Open Mic,Standard
GEO:40.6859214;-73.9816178
X-APPLE-STRUCTURED-LOCATION;VALUE=URI;X-ADDRESS=Eastville Comedy Club 487 Atlantic Avenue Brooklyn NY 11217 United States;X-APPLE-RADIUS=500;X-TITLE=487 Atlantic Avenue:geo:-73.9816178,40.6859214
END:VEVENT
BEGIN:VEVENT
DTSTART;TZID=America/New_York:20240408T220000
DTEND;TZID=America/New_York:20240408T233000
DTSTAMP:20260422T221156
CREATED:20231218T193453Z
LAST-MODIFIED:20251220T024654Z
UID:10012806-1712613600-1712619000@thecomedybureau.com
SUMMARY:The Tiny Cupboard (in NYC)
DESCRIPTION:Starts at 10PM ET\nShow up\, go up\n$2 to perform\nMixed mic (comedy\, music poetry)\nShow up go up*\nSign-up details and list of hosts available at thetinycupboard.com/open-mics/
URL:https://thecomedybureau.com/show/the-tiny-cupboard-in-nyc-247-2-2-2/2024-04-08/
LOCATION:The Tiny Cupboard\, 1717 Broadway #315\, Brooklyn\, NY\, 11207\, United States
CATEGORIES:New York,New York Open Mics,Open Mic
GEO:40.6835998;-73.911137
X-APPLE-STRUCTURED-LOCATION;VALUE=URI;X-ADDRESS=The Tiny Cupboard 1717 Broadway #315 Brooklyn NY 11207 United States;X-APPLE-RADIUS=500;X-TITLE=1717 Broadway #315:geo:-73.911137,40.6835998
END:VEVENT
BEGIN:VEVENT
DTSTART;TZID=America/New_York:20240409T173000
DTEND;TZID=America/New_York:20240409T190000
DTSTAMP:20260422T221156
CREATED:20231218T191524Z
LAST-MODIFIED:20250629T070438Z
UID:10014184-1712683800-1712689200@thecomedybureau.com
SUMMARY:The Tiny Cupboard (in NYC)
DESCRIPTION:Starts at 5:30PM\nShow up\, go up\n$2 to perform\nMixed mic (comedy\, music poetry)\nShow up go up*\nSign-up details and list of hosts available at thetinycupboard.com/open-mics/
URL:https://thecomedybureau.com/show/the-tiny-cupboard-in-nyc-209-2-2-2/2024-04-09/
LOCATION:The Tiny Cupboard\, 1717 Broadway #315\, Brooklyn\, NY\, 11207\, United States
CATEGORIES:New York,New York Open Mics,Open Mic
GEO:40.6835998;-73.911137
X-APPLE-STRUCTURED-LOCATION;VALUE=URI;X-ADDRESS=The Tiny Cupboard 1717 Broadway #315 Brooklyn NY 11207 United States;X-APPLE-RADIUS=500;X-TITLE=1717 Broadway #315:geo:-73.911137,40.6835998
END:VEVENT
BEGIN:VEVENT
DTSTART;TZID=America/Los_Angeles:20240409T180000
DTEND;TZID=America/Los_Angeles:20240409T200000
DTSTAMP:20260422T221156
CREATED:20231218T192456Z
LAST-MODIFIED:20241021T161615Z
UID:10014219-1712685600-1712692800@thecomedybureau.com
SUMMARY:Eastville Comedy Club (in NYC)
DESCRIPTION:Sign-up 5:30PM ET\nStarts 6PM ET\nEnds 7:45PM ET\n5 min.\n1 item min. to perform\nShow up\, go up
URL:https://thecomedybureau.com/show/eastville-comedy-club-in-nyc-51-2-2-2/2024-04-09/
LOCATION:Eastville Comedy Club\, 487 Atlantic Avenue\, Brooklyn\, NY\, 11217\, United States
CATEGORIES:New York,New York Open Mics,Open Mic,Standard
GEO:40.6859214;-73.9816178
X-APPLE-STRUCTURED-LOCATION;VALUE=URI;X-ADDRESS=Eastville Comedy Club 487 Atlantic Avenue Brooklyn NY 11217 United States;X-APPLE-RADIUS=500;X-TITLE=487 Atlantic Avenue:geo:-73.9816178,40.6859214
END:VEVENT
BEGIN:VEVENT
DTSTART;TZID=America/New_York:20240409T190000
DTEND;TZID=America/New_York:20240409T203000
DTSTAMP:20260422T221156
CREATED:20231218T192643Z
LAST-MODIFIED:20241126T043529Z
UID:10014244-1712689200-1712694600@thecomedybureau.com
SUMMARY:The Tiny Cupboard (in NYC)
DESCRIPTION:Starts at 7PM ET\nShow up\, go up\n$2 to perform\nMixed mic (comedy\, music poetry)\nShow up go up*\nSign-up details and list of hosts available at thetinycupboard.com/open-mics/
URL:https://thecomedybureau.com/show/the-tiny-cupboard-in-nyc-245-2-2-2/2024-04-09/
LOCATION:The Tiny Cupboard\, 1717 Broadway #315\, Brooklyn\, NY\, 11207\, United States
CATEGORIES:New York,New York Open Mics,Open Mic
GEO:40.6835998;-73.911137
X-APPLE-STRUCTURED-LOCATION;VALUE=URI;X-ADDRESS=The Tiny Cupboard 1717 Broadway #315 Brooklyn NY 11207 United States;X-APPLE-RADIUS=500;X-TITLE=1717 Broadway #315:geo:-73.911137,40.6835998
END:VEVENT
BEGIN:VEVENT
DTSTART;TZID=America/New_York:20240409T190000
DTEND;TZID=America/New_York:20240409T203000
DTSTAMP:20260422T221156
CREATED:20231128T175448Z
LAST-MODIFIED:20241021T162358Z
UID:10014687-1712689200-1712694600@thecomedybureau.com
SUMMARY:Caravan of Dreams (in NYC)
DESCRIPTION:Starts 7PM ET\n5 min.\n$3 + 1 item min. to perform
URL:https://thecomedybureau.com/show/2-120-2-2/2024-04-09/
LOCATION:Caravan of Dreams\, 405 East 6th Street\, New York\, NY\, 10009\, United States
CATEGORIES:New York Open Mics,Open Mic,Standard
GEO:40.7263961;-73.9856544
X-APPLE-STRUCTURED-LOCATION;VALUE=URI;X-ADDRESS=Caravan of Dreams 405 East 6th Street New York NY 10009 United States;X-APPLE-RADIUS=500;X-TITLE=405 East 6th Street:geo:-73.9856544,40.7263961
END:VEVENT
BEGIN:VEVENT
DTSTART;TZID=America/New_York:20240409T190000
DTEND;TZID=America/New_York:20240409T210000
DTSTAMP:20260422T221156
CREATED:20231029T103450Z
LAST-MODIFIED:20241126T091353Z
UID:10014692-1712689200-1712696400@thecomedybureau.com
SUMMARY:Alphaville (in NYC)
DESCRIPTION:Sign-up 6:30PM ET\nStarts 7PM ET\n5 min.\n$5 or 1 drink min. to perform\nPresented by Pure Chaos Comedy
URL:https://thecomedybureau.com/show/alphaville-in-nyc-2/2024-04-09/
LOCATION:Alphaville\, 140 Wilson Street\, New York\, NY\, 11237\, United States
CATEGORIES:New York Open Mics,Open Mic,Standard
GEO:40.7055301;-73.9618778
X-APPLE-STRUCTURED-LOCATION;VALUE=URI;X-ADDRESS=Alphaville 140 Wilson Street New York NY 11237 United States;X-APPLE-RADIUS=500;X-TITLE=140 Wilson Street:geo:-73.9618778,40.7055301
END:VEVENT
BEGIN:VEVENT
DTSTART;TZID=America/Los_Angeles:20240409T203000
DTEND;TZID=America/Los_Angeles:20240409T213000
DTSTAMP:20260422T221156
CREATED:20231128T180206Z
LAST-MODIFIED:20260330T080301Z
UID:10014727-1712694600-1712698200@thecomedybureau.com
SUMMARY:Pump Up: The Jam @ Brooklyn Comedy Collective (in NYC)
DESCRIPTION:For improv only\nStarts 8:30PM ET\nAnyone can play\nHosted by William Banks & Chloe Troast \nMust be 21+ to attend
URL:https://thecomedybureau.com/show/pump-up-the-jam-brooklyn-comedy-collective-in-nyc-2-2/2024-04-09/
LOCATION:Brooklyn Comedy Collective\, 167 Graham Avenue\, Brooklyn\, NY\, 11206\, United States
CATEGORIES:Improv Jam,New York,New York Open Mics,Open Mic
GEO:40.7077178;-73.9436219
X-APPLE-STRUCTURED-LOCATION;VALUE=URI;X-ADDRESS=Brooklyn Comedy Collective 167 Graham Avenue Brooklyn NY 11206 United States;X-APPLE-RADIUS=500;X-TITLE=167 Graham Avenue:geo:-73.9436219,40.7077178
END:VEVENT
BEGIN:VEVENT
DTSTART;TZID=America/New_York:20240409T203000
DTEND;TZID=America/New_York:20240409T220000
DTSTAMP:20260422T221156
CREATED:20231128T175846Z
LAST-MODIFIED:20260330T080427Z
UID:10093962-1712694600-1712700000@thecomedybureau.com
SUMMARY:BCC Open Ass Mic @ Brooklyn Comedy Collective (in NYC)
DESCRIPTION:Sign-up 8:15PM ET\nStarts 8:30PM ET\nEnds 9:45PM ET\n3 min.\nAll performers welcome\nThere is a ZERO TOLERANCE POLICY FOR BIGOTED MATERIAL.\nFirst come\, first served
URL:https://thecomedybureau.com/show/ladies-who-ranch-open-mic-brooklyn-comedy-collective-in-nyc-2-2/2024-04-09/
LOCATION:Brooklyn Comedy Collective\, 167 Graham Avenue\, Brooklyn\, NY\, 11206\, United States
CATEGORIES:New York Open Mics,Open Mic
GEO:40.7077178;-73.9436219
X-APPLE-STRUCTURED-LOCATION;VALUE=URI;X-ADDRESS=Brooklyn Comedy Collective 167 Graham Avenue Brooklyn NY 11206 United States;X-APPLE-RADIUS=500;X-TITLE=167 Graham Avenue:geo:-73.9436219,40.7077178
END:VEVENT
END:VCALENDAR