BEGIN:VCALENDAR
VERSION:2.0
PRODID:-//The Comedy Bureau - ECPv6.15.18//NONSGML v1.0//EN
CALSCALE:GREGORIAN
METHOD:PUBLISH
X-ORIGINAL-URL:https://thecomedybureau.com
X-WR-CALDESC:Events for The Comedy Bureau
REFRESH-INTERVAL;VALUE=DURATION:PT1H
X-Robots-Tag:noindex
X-PUBLISHED-TTL:PT1H
BEGIN:VTIMEZONE
TZID:America/Los_Angeles
BEGIN:DAYLIGHT
TZOFFSETFROM:-0800
TZOFFSETTO:-0700
TZNAME:PDT
DTSTART:20230312T100000
END:DAYLIGHT
BEGIN:STANDARD
TZOFFSETFROM:-0700
TZOFFSETTO:-0800
TZNAME:PST
DTSTART:20231105T090000
END:STANDARD
BEGIN:DAYLIGHT
TZOFFSETFROM:-0800
TZOFFSETTO:-0700
TZNAME:PDT
DTSTART:20240310T100000
END:DAYLIGHT
BEGIN:STANDARD
TZOFFSETFROM:-0700
TZOFFSETTO:-0800
TZNAME:PST
DTSTART:20241103T090000
END:STANDARD
BEGIN:DAYLIGHT
TZOFFSETFROM:-0800
TZOFFSETTO:-0700
TZNAME:PDT
DTSTART:20250309T100000
END:DAYLIGHT
BEGIN:STANDARD
TZOFFSETFROM:-0700
TZOFFSETTO:-0800
TZNAME:PST
DTSTART:20251102T090000
END:STANDARD
END:VTIMEZONE
BEGIN:VTIMEZONE
TZID:America/New_York
BEGIN:DAYLIGHT
TZOFFSETFROM:-0500
TZOFFSETTO:-0400
TZNAME:EDT
DTSTART:20230312T070000
END:DAYLIGHT
BEGIN:STANDARD
TZOFFSETFROM:-0400
TZOFFSETTO:-0500
TZNAME:EST
DTSTART:20231105T060000
END:STANDARD
BEGIN:DAYLIGHT
TZOFFSETFROM:-0500
TZOFFSETTO:-0400
TZNAME:EDT
DTSTART:20240310T070000
END:DAYLIGHT
BEGIN:STANDARD
TZOFFSETFROM:-0400
TZOFFSETTO:-0500
TZNAME:EST
DTSTART:20241103T060000
END:STANDARD
BEGIN:DAYLIGHT
TZOFFSETFROM:-0500
TZOFFSETTO:-0400
TZNAME:EDT
DTSTART:20250309T070000
END:DAYLIGHT
BEGIN:STANDARD
TZOFFSETFROM:-0400
TZOFFSETTO:-0500
TZNAME:EST
DTSTART:20251102T060000
END:STANDARD
END:VTIMEZONE
BEGIN:VEVENT
DTSTART;TZID=America/Los_Angeles:20240321T210000
DTEND;TZID=America/Los_Angeles:20240321T230000
DTSTAMP:20260422T072150
CREATED:20231128T180536Z
LAST-MODIFIED:20260330T075826Z
UID:10012843-1711054800-1711062000@thecomedybureau.com
SUMMARY:Comedians on the Loose @ Black Cat LES (in NYC)
DESCRIPTION:Starts 9PM ET\nSign-up in advance at https://www.comediansontheloose.com/open-mics\n5-7 min.\n$5 to perform\nHosted by Sonja Savanovic
URL:https://thecomedybureau.com/show/comedians-on-the-loose-black-cat-les-in-nyc-59-2-2/2024-03-21/
LOCATION:Black Cat LES\, 172 Rivington Street\, New York\, NY\, 10002\, United States
CATEGORIES:New York,New York Open Mics,Open Mic
GEO:40.7191658;-73.9845007
X-APPLE-STRUCTURED-LOCATION;VALUE=URI;X-ADDRESS=Black Cat LES 172 Rivington Street New York NY 10002 United States;X-APPLE-RADIUS=500;X-TITLE=172 Rivington Street:geo:-73.9845007,40.7191658
END:VEVENT
BEGIN:VEVENT
DTSTART;TZID=America/New_York:20240321T220000
DTEND;TZID=America/New_York:20240321T233000
DTSTAMP:20260422T072150
CREATED:20231218T193453Z
LAST-MODIFIED:20251220T024654Z
UID:10012788-1711058400-1711063800@thecomedybureau.com
SUMMARY:The Tiny Cupboard (in NYC)
DESCRIPTION:Starts at 10PM ET\nShow up\, go up\n$2 to perform\nMixed mic (comedy\, music poetry)\nShow up go up*\nSign-up details and list of hosts available at thetinycupboard.com/open-mics/
URL:https://thecomedybureau.com/show/the-tiny-cupboard-in-nyc-247-2-2-2/2024-03-21/
LOCATION:The Tiny Cupboard\, 1717 Broadway #315\, Brooklyn\, NY\, 11207\, United States
CATEGORIES:New York,New York Open Mics,Open Mic
GEO:40.6835998;-73.911137
X-APPLE-STRUCTURED-LOCATION;VALUE=URI;X-ADDRESS=The Tiny Cupboard 1717 Broadway #315 Brooklyn NY 11207 United States;X-APPLE-RADIUS=500;X-TITLE=1717 Broadway #315:geo:-73.911137,40.6835998
END:VEVENT
BEGIN:VEVENT
DTSTART;TZID=America/New_York:20240321T224500
DTEND;TZID=America/New_York:20240322T003000
DTSTAMP:20260422T072150
CREATED:20211206T033011Z
LAST-MODIFIED:20241128T190913Z
UID:10012983-1711061100-1711067400@thecomedybureau.com
SUMMARY:Q.E.D. Astoria (in NYC)
DESCRIPTION:Sign-up 10:30PM ET\nStarts 10:45PM ET\nEnds 12:30AM ET\nLottery\n3 min.
URL:https://thecomedybureau.com/show/creature-feature-open-mic-q-e-d-astoria-in-nyc-18/2024-03-21/
LOCATION:Q.E.D. Astoria\, 27-16 23rd Avenue\, Queens\, NY\, 11105\, United States
CATEGORIES:New York,New York Open Mics,Open Mic
GEO:40.7755628;-73.9148992
X-APPLE-STRUCTURED-LOCATION;VALUE=URI;X-ADDRESS=Q.E.D. Astoria 27-16 23rd Avenue Queens NY 11105 United States;X-APPLE-RADIUS=500;X-TITLE=27-16 23rd Avenue:geo:-73.9148992,40.7755628
END:VEVENT
BEGIN:VEVENT
DTSTART;TZID=America/New_York:20240322T170000
DTEND;TZID=America/New_York:20240322T190000
DTSTAMP:20260422T072150
CREATED:20220907T020639Z
LAST-MODIFIED:20250331T011700Z
UID:10012990-1711126800-1711134000@thecomedybureau.com
SUMMARY:Q.E.D. Astoria (in NYC)
DESCRIPTION:Starts 5PM ET\n4 min.\n1 item min. to perform\nLottery
URL:https://thecomedybureau.com/show/q-e-d-astoria-in-nyc-80/2024-03-22/
LOCATION:Q.E.D. Astoria\, 27-16 23rd Avenue\, Queens\, NY\, 11105\, United States
CATEGORIES:New York Open Mics,Open Mic
GEO:40.7755628;-73.9148992
X-APPLE-STRUCTURED-LOCATION;VALUE=URI;X-ADDRESS=Q.E.D. Astoria 27-16 23rd Avenue Queens NY 11105 United States;X-APPLE-RADIUS=500;X-TITLE=27-16 23rd Avenue:geo:-73.9148992,40.7755628
END:VEVENT
BEGIN:VEVENT
DTSTART;TZID=America/New_York:20240322T173000
DTEND;TZID=America/New_York:20240322T190000
DTSTAMP:20260422T072150
CREATED:20231218T191524Z
LAST-MODIFIED:20250629T070438Z
UID:10012665-1711128600-1711134000@thecomedybureau.com
SUMMARY:The Tiny Cupboard (in NYC)
DESCRIPTION:Starts at 5:30PM\nShow up\, go up\n$2 to perform\nMixed mic (comedy\, music poetry)\nShow up go up*\nSign-up details and list of hosts available at thetinycupboard.com/open-mics/
URL:https://thecomedybureau.com/show/the-tiny-cupboard-in-nyc-209-2-2-2/2024-03-22/
LOCATION:The Tiny Cupboard\, 1717 Broadway #315\, Brooklyn\, NY\, 11207\, United States
CATEGORIES:New York,New York Open Mics,Open Mic
GEO:40.6835998;-73.911137
X-APPLE-STRUCTURED-LOCATION;VALUE=URI;X-ADDRESS=The Tiny Cupboard 1717 Broadway #315 Brooklyn NY 11207 United States;X-APPLE-RADIUS=500;X-TITLE=1717 Broadway #315:geo:-73.911137,40.6835998
END:VEVENT
BEGIN:VEVENT
DTSTART;TZID=America/New_York:20240322T180000
DTEND;TZID=America/New_York:20240322T200000
DTSTAMP:20260422T072150
CREATED:20240303T033455Z
LAST-MODIFIED:20241126T200037Z
UID:10011590-1711130400-1711137600@thecomedybureau.com
SUMMARY:The Flop House (in NYC)
DESCRIPTION:Sign-up 5:30PM ET\nStarts 6PM ET\n5 min.\n$5 or 1 drink min. to perform\nPresented by Pure Chaos Comedy
URL:https://thecomedybureau.com/show/the-flop-house-in-nyc-2/2024-03-22/
LOCATION:Flop House Comedy Club\, 362 Grand Street\, Brooklyn\, NY\, 11211\, United States
CATEGORIES:New York Open Mics,Open Mic
GEO:40.7122531;-73.9557515
X-APPLE-STRUCTURED-LOCATION;VALUE=URI;X-ADDRESS=Flop House Comedy Club 362 Grand Street Brooklyn NY 11211 United States;X-APPLE-RADIUS=500;X-TITLE=362 Grand Street:geo:-73.9557515,40.7122531
END:VEVENT
BEGIN:VEVENT
DTSTART;TZID=America/New_York:20240322T190000
DTEND;TZID=America/New_York:20240322T203000
DTSTAMP:20260422T072150
CREATED:20231218T192643Z
LAST-MODIFIED:20241126T043529Z
UID:10012713-1711134000-1711139400@thecomedybureau.com
SUMMARY:The Tiny Cupboard (in NYC)
DESCRIPTION:Starts at 7PM ET\nShow up\, go up\n$2 to perform\nMixed mic (comedy\, music poetry)\nShow up go up*\nSign-up details and list of hosts available at thetinycupboard.com/open-mics/
URL:https://thecomedybureau.com/show/the-tiny-cupboard-in-nyc-245-2-2-2/2024-03-22/
LOCATION:The Tiny Cupboard\, 1717 Broadway #315\, Brooklyn\, NY\, 11207\, United States
CATEGORIES:New York,New York Open Mics,Open Mic
GEO:40.6835998;-73.911137
X-APPLE-STRUCTURED-LOCATION;VALUE=URI;X-ADDRESS=The Tiny Cupboard 1717 Broadway #315 Brooklyn NY 11207 United States;X-APPLE-RADIUS=500;X-TITLE=1717 Broadway #315:geo:-73.911137,40.6835998
END:VEVENT
BEGIN:VEVENT
DTSTART;TZID=America/New_York:20240322T220000
DTEND;TZID=America/New_York:20240322T233000
DTSTAMP:20260422T072150
CREATED:20231218T193453Z
LAST-MODIFIED:20251220T024654Z
UID:10012789-1711144800-1711150200@thecomedybureau.com
SUMMARY:The Tiny Cupboard (in NYC)
DESCRIPTION:Starts at 10PM ET\nShow up\, go up\n$2 to perform\nMixed mic (comedy\, music poetry)\nShow up go up*\nSign-up details and list of hosts available at thetinycupboard.com/open-mics/
URL:https://thecomedybureau.com/show/the-tiny-cupboard-in-nyc-247-2-2-2/2024-03-22/
LOCATION:The Tiny Cupboard\, 1717 Broadway #315\, Brooklyn\, NY\, 11207\, United States
CATEGORIES:New York,New York Open Mics,Open Mic
GEO:40.6835998;-73.911137
X-APPLE-STRUCTURED-LOCATION;VALUE=URI;X-ADDRESS=The Tiny Cupboard 1717 Broadway #315 Brooklyn NY 11207 United States;X-APPLE-RADIUS=500;X-TITLE=1717 Broadway #315:geo:-73.911137,40.6835998
END:VEVENT
BEGIN:VEVENT
DTSTART;TZID=America/New_York:20240322T233000
DTEND;TZID=America/New_York:20240323T010000
DTSTAMP:20260422T072150
CREATED:20240102T035651Z
LAST-MODIFIED:20250926T181601Z
UID:10012906-1711150200-1711155600@thecomedybureau.com
SUMMARY:Eastville Comedy Club (in NYC)
DESCRIPTION:Starts 11:30PM ET\n5 min.\n1 item min. to perform
URL:https://thecomedybureau.com/show/eastville-comedy-club-in-nyc-56-2-2-2/2024-03-22/
LOCATION:Eastville Comedy Club\, 487 Atlantic Avenue\, Brooklyn\, NY\, 11217\, United States
CATEGORIES:New York Open Mics,Open Mic
GEO:40.6859214;-73.9816178
X-APPLE-STRUCTURED-LOCATION;VALUE=URI;X-ADDRESS=Eastville Comedy Club 487 Atlantic Avenue Brooklyn NY 11217 United States;X-APPLE-RADIUS=500;X-TITLE=487 Atlantic Avenue:geo:-73.9816178,40.6859214
END:VEVENT
BEGIN:VEVENT
DTSTART;TZID=America/New_York:20240323T160000
DTEND;TZID=America/New_York:20240323T173000
DTSTAMP:20260422T072150
CREATED:20240101T172422Z
LAST-MODIFIED:20240620T144754Z
UID:10012914-1711209600-1711215000@thecomedybureau.com
SUMMARY:The Tiny Cupboard (in NYC)
DESCRIPTION:Starts at 4PM\nShow up\, go up\n$2 to perform\nMixed mic (comedy\, music poetry)\nShow up go up*\nSign-up details and list of hosts available at thetinycupboard.com/open-mics/
URL:https://thecomedybureau.com/show/the-tiny-cupboard-in-nyc-248/2024-03-23/
LOCATION:The Tiny Cupboard\, 1717 Broadway #315\, Brooklyn\, NY\, 11207\, United States
CATEGORIES:New York Open Mics,Open Mic
GEO:40.6835998;-73.911137
X-APPLE-STRUCTURED-LOCATION;VALUE=URI;X-ADDRESS=The Tiny Cupboard 1717 Broadway #315 Brooklyn NY 11207 United States;X-APPLE-RADIUS=500;X-TITLE=1717 Broadway #315:geo:-73.911137,40.6835998
END:VEVENT
BEGIN:VEVENT
DTSTART;TZID=America/New_York:20240323T173000
DTEND;TZID=America/New_York:20240323T190000
DTSTAMP:20260422T072150
CREATED:20231218T191524Z
LAST-MODIFIED:20250629T070438Z
UID:10012666-1711215000-1711220400@thecomedybureau.com
SUMMARY:The Tiny Cupboard (in NYC)
DESCRIPTION:Starts at 5:30PM\nShow up\, go up\n$2 to perform\nMixed mic (comedy\, music poetry)\nShow up go up*\nSign-up details and list of hosts available at thetinycupboard.com/open-mics/
URL:https://thecomedybureau.com/show/the-tiny-cupboard-in-nyc-209-2-2-2/2024-03-23/
LOCATION:The Tiny Cupboard\, 1717 Broadway #315\, Brooklyn\, NY\, 11207\, United States
CATEGORIES:New York,New York Open Mics,Open Mic
GEO:40.6835998;-73.911137
X-APPLE-STRUCTURED-LOCATION;VALUE=URI;X-ADDRESS=The Tiny Cupboard 1717 Broadway #315 Brooklyn NY 11207 United States;X-APPLE-RADIUS=500;X-TITLE=1717 Broadway #315:geo:-73.911137,40.6835998
END:VEVENT
BEGIN:VEVENT
DTSTART;TZID=America/New_York:20240323T190000
DTEND;TZID=America/New_York:20240323T203000
DTSTAMP:20260422T072150
CREATED:20231218T192643Z
LAST-MODIFIED:20241126T043529Z
UID:10012714-1711220400-1711225800@thecomedybureau.com
SUMMARY:The Tiny Cupboard (in NYC)
DESCRIPTION:Starts at 7PM ET\nShow up\, go up\n$2 to perform\nMixed mic (comedy\, music poetry)\nShow up go up*\nSign-up details and list of hosts available at thetinycupboard.com/open-mics/
URL:https://thecomedybureau.com/show/the-tiny-cupboard-in-nyc-245-2-2-2/2024-03-23/
LOCATION:The Tiny Cupboard\, 1717 Broadway #315\, Brooklyn\, NY\, 11207\, United States
CATEGORIES:New York,New York Open Mics,Open Mic
GEO:40.6835998;-73.911137
X-APPLE-STRUCTURED-LOCATION;VALUE=URI;X-ADDRESS=The Tiny Cupboard 1717 Broadway #315 Brooklyn NY 11207 United States;X-APPLE-RADIUS=500;X-TITLE=1717 Broadway #315:geo:-73.911137,40.6835998
END:VEVENT
BEGIN:VEVENT
DTSTART;TZID=America/Los_Angeles:20240323T190000
DTEND;TZID=America/Los_Angeles:20240323T210000
DTSTAMP:20260422T072150
CREATED:20231128T175646Z
LAST-MODIFIED:20260330T080003Z
UID:10012820-1711220400-1711227600@thecomedybureau.com
SUMMARY:Comedians on the Loose @ Black Cat LES (in NYC)
DESCRIPTION:Starts 7PM ET\nSign-up in advance at https://www.comediansontheloose.com/open-mics\n5-7 min.\n$5 to perform\nHosted by Sonja Savanovic
URL:https://thecomedybureau.com/show/comedians-on-the-loose-black-cat-les-in-nyc-54-2-2/2024-03-23/
LOCATION:Black Cat LES\, 172 Rivington Street\, New York\, NY\, 10002\, United States
CATEGORIES:New York,New York Open Mics,Open Mic,Standard
GEO:40.7191658;-73.9845007
X-APPLE-STRUCTURED-LOCATION;VALUE=URI;X-ADDRESS=Black Cat LES 172 Rivington Street New York NY 10002 United States;X-APPLE-RADIUS=500;X-TITLE=172 Rivington Street:geo:-73.9845007,40.7191658
END:VEVENT
BEGIN:VEVENT
DTSTART;TZID=America/Los_Angeles:20240323T210000
DTEND;TZID=America/Los_Angeles:20240323T230000
DTSTAMP:20260422T072150
CREATED:20231128T180536Z
LAST-MODIFIED:20260330T075826Z
UID:10012844-1711227600-1711234800@thecomedybureau.com
SUMMARY:Comedians on the Loose @ Black Cat LES (in NYC)
DESCRIPTION:Starts 9PM ET\nSign-up in advance at https://www.comediansontheloose.com/open-mics\n5-7 min.\n$5 to perform\nHosted by Sonja Savanovic
URL:https://thecomedybureau.com/show/comedians-on-the-loose-black-cat-les-in-nyc-59-2-2/2024-03-23/
LOCATION:Black Cat LES\, 172 Rivington Street\, New York\, NY\, 10002\, United States
CATEGORIES:New York,New York Open Mics,Open Mic
GEO:40.7191658;-73.9845007
X-APPLE-STRUCTURED-LOCATION;VALUE=URI;X-ADDRESS=Black Cat LES 172 Rivington Street New York NY 10002 United States;X-APPLE-RADIUS=500;X-TITLE=172 Rivington Street:geo:-73.9845007,40.7191658
END:VEVENT
BEGIN:VEVENT
DTSTART;TZID=America/New_York:20240323T220000
DTEND;TZID=America/New_York:20240323T233000
DTSTAMP:20260422T072150
CREATED:20231218T193453Z
LAST-MODIFIED:20251220T024654Z
UID:10012790-1711231200-1711236600@thecomedybureau.com
SUMMARY:The Tiny Cupboard (in NYC)
DESCRIPTION:Starts at 10PM ET\nShow up\, go up\n$2 to perform\nMixed mic (comedy\, music poetry)\nShow up go up*\nSign-up details and list of hosts available at thetinycupboard.com/open-mics/
URL:https://thecomedybureau.com/show/the-tiny-cupboard-in-nyc-247-2-2-2/2024-03-23/
LOCATION:The Tiny Cupboard\, 1717 Broadway #315\, Brooklyn\, NY\, 11207\, United States
CATEGORIES:New York,New York Open Mics,Open Mic
GEO:40.6835998;-73.911137
X-APPLE-STRUCTURED-LOCATION;VALUE=URI;X-ADDRESS=The Tiny Cupboard 1717 Broadway #315 Brooklyn NY 11207 United States;X-APPLE-RADIUS=500;X-TITLE=1717 Broadway #315:geo:-73.911137,40.6835998
END:VEVENT
BEGIN:VEVENT
DTSTART;TZID=America/New_York:20240323T233000
DTEND;TZID=America/New_York:20240324T010000
DTSTAMP:20260422T072150
CREATED:20240102T035651Z
LAST-MODIFIED:20250926T181601Z
UID:10012907-1711236600-1711242000@thecomedybureau.com
SUMMARY:Eastville Comedy Club (in NYC)
DESCRIPTION:Starts 11:30PM ET\n5 min.\n1 item min. to perform
URL:https://thecomedybureau.com/show/eastville-comedy-club-in-nyc-56-2-2-2/2024-03-23/
LOCATION:Eastville Comedy Club\, 487 Atlantic Avenue\, Brooklyn\, NY\, 11217\, United States
CATEGORIES:New York Open Mics,Open Mic
GEO:40.6859214;-73.9816178
X-APPLE-STRUCTURED-LOCATION;VALUE=URI;X-ADDRESS=Eastville Comedy Club 487 Atlantic Avenue Brooklyn NY 11217 United States;X-APPLE-RADIUS=500;X-TITLE=487 Atlantic Avenue:geo:-73.9816178,40.6859214
END:VEVENT
BEGIN:VEVENT
DTSTART;TZID=America/New_York:20240324T160000
DTEND;TZID=America/New_York:20240324T173000
DTSTAMP:20260422T072150
CREATED:20240101T172422Z
LAST-MODIFIED:20240620T144754Z
UID:10012915-1711296000-1711301400@thecomedybureau.com
SUMMARY:The Tiny Cupboard (in NYC)
DESCRIPTION:Starts at 4PM\nShow up\, go up\n$2 to perform\nMixed mic (comedy\, music poetry)\nShow up go up*\nSign-up details and list of hosts available at thetinycupboard.com/open-mics/
URL:https://thecomedybureau.com/show/the-tiny-cupboard-in-nyc-248/2024-03-24/
LOCATION:The Tiny Cupboard\, 1717 Broadway #315\, Brooklyn\, NY\, 11207\, United States
CATEGORIES:New York Open Mics,Open Mic
GEO:40.6835998;-73.911137
X-APPLE-STRUCTURED-LOCATION;VALUE=URI;X-ADDRESS=The Tiny Cupboard 1717 Broadway #315 Brooklyn NY 11207 United States;X-APPLE-RADIUS=500;X-TITLE=1717 Broadway #315:geo:-73.911137,40.6835998
END:VEVENT
BEGIN:VEVENT
DTSTART;TZID=America/New_York:20240324T160000
DTEND;TZID=America/New_York:20240324T180000
DTSTAMP:20260422T072150
CREATED:20240115T190824Z
LAST-MODIFIED:20241021T220412Z
UID:10011585-1711296000-1711303200@thecomedybureau.com
SUMMARY:Gama Lounge (in NYC)
DESCRIPTION:Sign-up 3:30PM ET\nStarts 4PM ET\n5 min.\n$5 or 1 drink min. to perform\nPresented by Pure Chaos Comedy
URL:https://thecomedybureau.com/show/alphaville-in-nyc-3/2024-03-24/
LOCATION:Gama Lounge\, 50 Avenue B\, New York\, NY\, 10009\, United States
CATEGORIES:New York Open Mics,Open Mic
GEO:40.72323;-73.982834
X-APPLE-STRUCTURED-LOCATION;VALUE=URI;X-ADDRESS=Gama Lounge 50 Avenue B New York NY 10009 United States;X-APPLE-RADIUS=500;X-TITLE=50 Avenue B:geo:-73.982834,40.72323
END:VEVENT
BEGIN:VEVENT
DTSTART;TZID=America/New_York:20240324T170000
DTEND;TZID=America/New_York:20240324T190000
DTSTAMP:20260422T072150
CREATED:20220907T020639Z
LAST-MODIFIED:20250331T011700Z
UID:10012991-1711299600-1711306800@thecomedybureau.com
SUMMARY:Q.E.D. Astoria (in NYC)
DESCRIPTION:Starts 5PM ET\n4 min.\n1 item min. to perform\nLottery
URL:https://thecomedybureau.com/show/q-e-d-astoria-in-nyc-80/2024-03-24/
LOCATION:Q.E.D. Astoria\, 27-16 23rd Avenue\, Queens\, NY\, 11105\, United States
CATEGORIES:New York Open Mics,Open Mic
GEO:40.7755628;-73.9148992
X-APPLE-STRUCTURED-LOCATION;VALUE=URI;X-ADDRESS=Q.E.D. Astoria 27-16 23rd Avenue Queens NY 11105 United States;X-APPLE-RADIUS=500;X-TITLE=27-16 23rd Avenue:geo:-73.9148992,40.7755628
END:VEVENT
BEGIN:VEVENT
DTSTART;TZID=America/New_York:20240324T173000
DTEND;TZID=America/New_York:20240324T190000
DTSTAMP:20260422T072150
CREATED:20231218T191524Z
LAST-MODIFIED:20250629T070438Z
UID:10012667-1711301400-1711306800@thecomedybureau.com
SUMMARY:The Tiny Cupboard (in NYC)
DESCRIPTION:Starts at 5:30PM\nShow up\, go up\n$2 to perform\nMixed mic (comedy\, music poetry)\nShow up go up*\nSign-up details and list of hosts available at thetinycupboard.com/open-mics/
URL:https://thecomedybureau.com/show/the-tiny-cupboard-in-nyc-209-2-2-2/2024-03-24/
LOCATION:The Tiny Cupboard\, 1717 Broadway #315\, Brooklyn\, NY\, 11207\, United States
CATEGORIES:New York,New York Open Mics,Open Mic
GEO:40.6835998;-73.911137
X-APPLE-STRUCTURED-LOCATION;VALUE=URI;X-ADDRESS=The Tiny Cupboard 1717 Broadway #315 Brooklyn NY 11207 United States;X-APPLE-RADIUS=500;X-TITLE=1717 Broadway #315:geo:-73.911137,40.6835998
END:VEVENT
BEGIN:VEVENT
DTSTART;TZID=America/New_York:20240324T190000
DTEND;TZID=America/New_York:20240324T203000
DTSTAMP:20260422T072150
CREATED:20231218T192643Z
LAST-MODIFIED:20241126T043529Z
UID:10012715-1711306800-1711312200@thecomedybureau.com
SUMMARY:The Tiny Cupboard (in NYC)
DESCRIPTION:Starts at 7PM ET\nShow up\, go up\n$2 to perform\nMixed mic (comedy\, music poetry)\nShow up go up*\nSign-up details and list of hosts available at thetinycupboard.com/open-mics/
URL:https://thecomedybureau.com/show/the-tiny-cupboard-in-nyc-245-2-2-2/2024-03-24/
LOCATION:The Tiny Cupboard\, 1717 Broadway #315\, Brooklyn\, NY\, 11207\, United States
CATEGORIES:New York,New York Open Mics,Open Mic
GEO:40.6835998;-73.911137
X-APPLE-STRUCTURED-LOCATION;VALUE=URI;X-ADDRESS=The Tiny Cupboard 1717 Broadway #315 Brooklyn NY 11207 United States;X-APPLE-RADIUS=500;X-TITLE=1717 Broadway #315:geo:-73.911137,40.6835998
END:VEVENT
BEGIN:VEVENT
DTSTART;TZID=America/New_York:20240324T214500
DTEND;TZID=America/New_York:20240324T233000
DTSTAMP:20260422T072150
CREATED:20240102T035406Z
LAST-MODIFIED:20250629T070902Z
UID:10012769-1711316700-1711323000@thecomedybureau.com
SUMMARY:Eastville Comedy Club (in NYC)
DESCRIPTION:Sign-up 9:15PM ET\nStarts 9:45PM ET\nEnds 11:30PM ET\n5 min.\n1 item min. to perform\nShow up\, go up
URL:https://thecomedybureau.com/show/eastville-comedy-club-in-nyc-51-2-2-3/2024-03-24/
LOCATION:Eastville Comedy Club\, 487 Atlantic Avenue\, Brooklyn\, NY\, 11217\, United States
CATEGORIES:New York,New York Open Mics,Open Mic,Standard
GEO:40.6859214;-73.9816178
X-APPLE-STRUCTURED-LOCATION;VALUE=URI;X-ADDRESS=Eastville Comedy Club 487 Atlantic Avenue Brooklyn NY 11217 United States;X-APPLE-RADIUS=500;X-TITLE=487 Atlantic Avenue:geo:-73.9816178,40.6859214
END:VEVENT
BEGIN:VEVENT
DTSTART;TZID=America/New_York:20240324T220000
DTEND;TZID=America/New_York:20240324T233000
DTSTAMP:20260422T072150
CREATED:20231218T193453Z
LAST-MODIFIED:20251220T024654Z
UID:10012791-1711317600-1711323000@thecomedybureau.com
SUMMARY:The Tiny Cupboard (in NYC)
DESCRIPTION:Starts at 10PM ET\nShow up\, go up\n$2 to perform\nMixed mic (comedy\, music poetry)\nShow up go up*\nSign-up details and list of hosts available at thetinycupboard.com/open-mics/
URL:https://thecomedybureau.com/show/the-tiny-cupboard-in-nyc-247-2-2-2/2024-03-24/
LOCATION:The Tiny Cupboard\, 1717 Broadway #315\, Brooklyn\, NY\, 11207\, United States
CATEGORIES:New York,New York Open Mics,Open Mic
GEO:40.6835998;-73.911137
X-APPLE-STRUCTURED-LOCATION;VALUE=URI;X-ADDRESS=The Tiny Cupboard 1717 Broadway #315 Brooklyn NY 11207 United States;X-APPLE-RADIUS=500;X-TITLE=1717 Broadway #315:geo:-73.911137,40.6835998
END:VEVENT
BEGIN:VEVENT
DTSTART;TZID=America/New_York:20240324T230000
DTEND;TZID=America/New_York:20240325T010000
DTSTAMP:20260422T072150
CREATED:20240102T040402Z
LAST-MODIFIED:20240409T161729Z
UID:10012921-1711321200-1711328400@thecomedybureau.com
SUMMARY:Eastville Comedy Club (in NYC)
DESCRIPTION:Starts 11PM ET\n5 min.\n$5
URL:https://thecomedybureau.com/show/eastville-comedy-club-in-nyc-59/2024-03-24/
LOCATION:Eastville Comedy Club\, 487 Atlantic Avenue\, Brooklyn\, NY\, 11217\, United States
CATEGORIES:New York Open Mics,Open Mic
GEO:40.6859214;-73.9816178
X-APPLE-STRUCTURED-LOCATION;VALUE=URI;X-ADDRESS=Eastville Comedy Club 487 Atlantic Avenue Brooklyn NY 11217 United States;X-APPLE-RADIUS=500;X-TITLE=487 Atlantic Avenue:geo:-73.9816178,40.6859214
END:VEVENT
BEGIN:VEVENT
DTSTART;TZID=America/New_York:20240325T173000
DTEND;TZID=America/New_York:20240325T190000
DTSTAMP:20260422T072150
CREATED:20231218T191524Z
LAST-MODIFIED:20250629T070438Z
UID:10012668-1711387800-1711393200@thecomedybureau.com
SUMMARY:The Tiny Cupboard (in NYC)
DESCRIPTION:Starts at 5:30PM\nShow up\, go up\n$2 to perform\nMixed mic (comedy\, music poetry)\nShow up go up*\nSign-up details and list of hosts available at thetinycupboard.com/open-mics/
URL:https://thecomedybureau.com/show/the-tiny-cupboard-in-nyc-209-2-2-2/2024-03-25/
LOCATION:The Tiny Cupboard\, 1717 Broadway #315\, Brooklyn\, NY\, 11207\, United States
CATEGORIES:New York,New York Open Mics,Open Mic
GEO:40.6835998;-73.911137
X-APPLE-STRUCTURED-LOCATION;VALUE=URI;X-ADDRESS=The Tiny Cupboard 1717 Broadway #315 Brooklyn NY 11207 United States;X-APPLE-RADIUS=500;X-TITLE=1717 Broadway #315:geo:-73.911137,40.6835998
END:VEVENT
BEGIN:VEVENT
DTSTART;TZID=America/Los_Angeles:20240325T180000
DTEND;TZID=America/Los_Angeles:20240325T200000
DTSTAMP:20260422T072150
CREATED:20231218T192456Z
LAST-MODIFIED:20241021T161615Z
UID:10012690-1711389600-1711396800@thecomedybureau.com
SUMMARY:Eastville Comedy Club (in NYC)
DESCRIPTION:Sign-up 5:30PM ET\nStarts 6PM ET\nEnds 7:45PM ET\n5 min.\n1 item min. to perform\nShow up\, go up
URL:https://thecomedybureau.com/show/eastville-comedy-club-in-nyc-51-2-2-2/2024-03-25/
LOCATION:Eastville Comedy Club\, 487 Atlantic Avenue\, Brooklyn\, NY\, 11217\, United States
CATEGORIES:New York,New York Open Mics,Open Mic,Standard
GEO:40.6859214;-73.9816178
X-APPLE-STRUCTURED-LOCATION;VALUE=URI;X-ADDRESS=Eastville Comedy Club 487 Atlantic Avenue Brooklyn NY 11217 United States;X-APPLE-RADIUS=500;X-TITLE=487 Atlantic Avenue:geo:-73.9816178,40.6859214
END:VEVENT
BEGIN:VEVENT
DTSTART;TZID=America/New_York:20240325T190000
DTEND;TZID=America/New_York:20240325T203000
DTSTAMP:20260422T072150
CREATED:20231218T192643Z
LAST-MODIFIED:20241126T043529Z
UID:10012716-1711393200-1711398600@thecomedybureau.com
SUMMARY:The Tiny Cupboard (in NYC)
DESCRIPTION:Starts at 7PM ET\nShow up\, go up\n$2 to perform\nMixed mic (comedy\, music poetry)\nShow up go up*\nSign-up details and list of hosts available at thetinycupboard.com/open-mics/
URL:https://thecomedybureau.com/show/the-tiny-cupboard-in-nyc-245-2-2-2/2024-03-25/
LOCATION:The Tiny Cupboard\, 1717 Broadway #315\, Brooklyn\, NY\, 11207\, United States
CATEGORIES:New York,New York Open Mics,Open Mic
GEO:40.6835998;-73.911137
X-APPLE-STRUCTURED-LOCATION;VALUE=URI;X-ADDRESS=The Tiny Cupboard 1717 Broadway #315 Brooklyn NY 11207 United States;X-APPLE-RADIUS=500;X-TITLE=1717 Broadway #315:geo:-73.911137,40.6835998
END:VEVENT
BEGIN:VEVENT
DTSTART;TZID=America/Los_Angeles:20240325T190000
DTEND;TZID=America/Los_Angeles:20240325T210000
DTSTAMP:20260422T072150
CREATED:20231128T172537Z
LAST-MODIFIED:20240820T040225Z
UID:10009332-1711393200-1711400400@thecomedybureau.com
SUMMARY:Talent Pool LGBTQ+ Mic @ Crystal Lake Brooklyn (in NYC)
DESCRIPTION:Sign-up 6:45PM ET\nStarts 7PM ET\nShow up\, go up\n4-5 min.\nFor LGBTQ+ and femme comics\nHosted by Nora Jeffries\, Griffin Leeds\, Riylan Mills\, Will Morrison
URL:https://thecomedybureau.com/show/crystal-queers-lgbtq-mic-crystal-lake-brooklyn-in-nyc-2-2/2024-03-25/
LOCATION:Crystal Lake Brooklyn\, 647 Grand Street\, Brooklyn\, NY\, 11211\, United States
CATEGORIES:New York Open Mics,Open Mic
GEO:40.7115838;-73.9464296
X-APPLE-STRUCTURED-LOCATION;VALUE=URI;X-ADDRESS=Crystal Lake Brooklyn 647 Grand Street Brooklyn NY 11211 United States;X-APPLE-RADIUS=500;X-TITLE=647 Grand Street:geo:-73.9464296,40.7115838
END:VEVENT
BEGIN:VEVENT
DTSTART;TZID=America/New_York:20240325T193000
DTEND;TZID=America/New_York:20240325T210000
DTSTAMP:20260422T072150
CREATED:20240205T173835Z
LAST-MODIFIED:20241020T160821Z
UID:10012732-1711395000-1711400400@thecomedybureau.com
SUMMARY:NYC Talent Show (in NYC)
DESCRIPTION:FEATURING: \nTBA \nStarts 7:30PM ET\nEnds 9PM ET\n2-3 bucket spots mixed in with booked show\nNo purchase of admission needed if you put your name in the bucket\n3 min.\nVariety encouraged\n$5-$10 paid at discretion of host
URL:https://thecomedybureau.com/show/nyc-talent-show-in-nyc-2/2024-03-25/
LOCATION:Parkside Lounge\, 317 East Houston Street\, New York\, NY\, 10002\, United States
CATEGORIES:New York Open Mics,New York Shows,Open Mic
GEO:40.7209875;-73.9832555
X-APPLE-STRUCTURED-LOCATION;VALUE=URI;X-ADDRESS=Parkside Lounge 317 East Houston Street New York NY 10002 United States;X-APPLE-RADIUS=500;X-TITLE=317 East Houston Street:geo:-73.9832555,40.7209875
END:VEVENT
BEGIN:VEVENT
DTSTART;TZID=America/New_York:20240325T200000
DTEND;TZID=America/New_York:20240325T223000
DTSTAMP:20260422T072150
CREATED:20240219T172212Z
LAST-MODIFIED:20241021T162105Z
UID:10011344-1711396800-1711405800@thecomedybureau.com
SUMMARY:The Comedy Lottery @ Flop House Comedy Club (in NYC)
DESCRIPTION:Sign-up 7:30PM ET\nStarts 8PM ET\n3 min.\nLottery\n15 slots\n$1 to sign up\n50% of ticket sales go to jackpot for best set of the night\nHosted by Demetrius Fields and Austin Locke
URL:https://thecomedybureau.com/show/the-comedy-lottery-flop-house-comedy-club-in-nyc/2024-03-25/
LOCATION:Flop House Comedy Club\, 362 Grand Street\, Brooklyn\, NY\, 11211\, United States
CATEGORIES:New York Open Mics,Open Mic
GEO:40.7122531;-73.9557515
X-APPLE-STRUCTURED-LOCATION;VALUE=URI;X-ADDRESS=Flop House Comedy Club 362 Grand Street Brooklyn NY 11211 United States;X-APPLE-RADIUS=500;X-TITLE=362 Grand Street:geo:-73.9557515,40.7122531
END:VEVENT
END:VCALENDAR