BEGIN:VCALENDAR
VERSION:2.0
PRODID:-//The Comedy Bureau - ECPv6.15.18//NONSGML v1.0//EN
CALSCALE:GREGORIAN
METHOD:PUBLISH
X-WR-CALNAME:The Comedy Bureau
X-ORIGINAL-URL:https://thecomedybureau.com
X-WR-CALDESC:Events for The Comedy Bureau
REFRESH-INTERVAL;VALUE=DURATION:PT1H
X-Robots-Tag:noindex
X-PUBLISHED-TTL:PT1H
BEGIN:VTIMEZONE
TZID:America/Los_Angeles
BEGIN:DAYLIGHT
TZOFFSETFROM:-0800
TZOFFSETTO:-0700
TZNAME:PDT
DTSTART:20250309T100000
END:DAYLIGHT
BEGIN:STANDARD
TZOFFSETFROM:-0700
TZOFFSETTO:-0800
TZNAME:PST
DTSTART:20251102T090000
END:STANDARD
BEGIN:DAYLIGHT
TZOFFSETFROM:-0800
TZOFFSETTO:-0700
TZNAME:PDT
DTSTART:20260308T100000
END:DAYLIGHT
BEGIN:STANDARD
TZOFFSETFROM:-0700
TZOFFSETTO:-0800
TZNAME:PST
DTSTART:20261101T090000
END:STANDARD
BEGIN:DAYLIGHT
TZOFFSETFROM:-0800
TZOFFSETTO:-0700
TZNAME:PDT
DTSTART:20270314T100000
END:DAYLIGHT
BEGIN:STANDARD
TZOFFSETFROM:-0700
TZOFFSETTO:-0800
TZNAME:PST
DTSTART:20271107T090000
END:STANDARD
BEGIN:DAYLIGHT
TZOFFSETFROM:-0800
TZOFFSETTO:-0700
TZNAME:PDT
DTSTART:20280312T100000
END:DAYLIGHT
BEGIN:STANDARD
TZOFFSETFROM:-0700
TZOFFSETTO:-0800
TZNAME:PST
DTSTART:20281105T090000
END:STANDARD
BEGIN:DAYLIGHT
TZOFFSETFROM:-0800
TZOFFSETTO:-0700
TZNAME:PDT
DTSTART:20290311T100000
END:DAYLIGHT
BEGIN:STANDARD
TZOFFSETFROM:-0700
TZOFFSETTO:-0800
TZNAME:PST
DTSTART:20291104T090000
END:STANDARD
END:VTIMEZONE
BEGIN:VEVENT
DTSTART;TZID=America/Los_Angeles:20261128T140000
DTEND;TZID=America/Los_Angeles:20261128T153000
DTSTAMP:20260423T141415
CREATED:20260412T232225Z
LAST-MODIFIED:20260412T232225Z
UID:10094751-1795874400-1795879800@thecomedybureau.com
SUMMARY:Oh\, Mary! (in LA)
DESCRIPTION:Oh\, Mary!  is a dark comedy about a miserable\, suffocated Mary Todd Lincoln in the weeks leading up to Abraham Lincoln’s assassination. Unrequited yearning\, alcoholism\, and suppressed desires abound in this 80-minute one-act play that finally examines the forgotten life and dreams of Mrs. Lincoln\, through the lens of an idiot (playwright Cole Escola). \nDeclared “one of the best comedies in years” by The New York Times\, Oh\, Mary!  received two Tony Awards including Best Direction of a Play (Sam Pinkleton)\, Drama League Awards for Outstanding Play and Outstanding Direction of a Play\, as well as a special citation from the New York Drama Critics’ Circle. It was named a finalist for the Pulitzer Prize for Drama. \nShowtimes: \nRuns 11/10-12/6 \nTues-Thurs @ 7:30PM PT \nFri. @ 8PM PT** \nSat. @ 2PM & 8PM PT \nSun. @ 1PM & 7PM PT \n*Dark on 11/26\, Thanksgiving \n**11/27 @ 2PM & 8PM PT
URL:https://thecomedybureau.com/show/oh-mary-in-la/2026-11-28/1/
LOCATION:Ahmanson Theater/Mark Taper Forum\, 135 North Grand Avenue\, Los Angeles\, CA\, 90012\, United States
CATEGORIES:Comedy Show,Los Angeles Shows,Sketch
GEO:34.0562974;-118.248733
X-APPLE-STRUCTURED-LOCATION;VALUE=URI;X-ADDRESS=Ahmanson Theater/Mark Taper Forum 135 North Grand Avenue Los Angeles CA 90012 United States;X-APPLE-RADIUS=500;X-TITLE=135 North Grand Avenue:geo:-118.248733,34.0562974
END:VEVENT
BEGIN:VEVENT
DTSTART;TZID=America/Los_Angeles:20261128T200000
DTEND;TZID=America/Los_Angeles:20261128T213000
DTSTAMP:20260423T141415
CREATED:20260412T232225Z
LAST-MODIFIED:20260412T232225Z
UID:10094752-1795896000-1795901400@thecomedybureau.com
SUMMARY:Oh\, Mary! (in LA)
DESCRIPTION:Oh\, Mary!  is a dark comedy about a miserable\, suffocated Mary Todd Lincoln in the weeks leading up to Abraham Lincoln’s assassination. Unrequited yearning\, alcoholism\, and suppressed desires abound in this 80-minute one-act play that finally examines the forgotten life and dreams of Mrs. Lincoln\, through the lens of an idiot (playwright Cole Escola). \nDeclared “one of the best comedies in years” by The New York Times\, Oh\, Mary!  received two Tony Awards including Best Direction of a Play (Sam Pinkleton)\, Drama League Awards for Outstanding Play and Outstanding Direction of a Play\, as well as a special citation from the New York Drama Critics’ Circle. It was named a finalist for the Pulitzer Prize for Drama. \nShowtimes: \nRuns 11/10-12/6 \nTues-Thurs @ 7:30PM PT \nFri. @ 8PM PT** \nSat. @ 2PM & 8PM PT \nSun. @ 1PM & 7PM PT \n*Dark on 11/26\, Thanksgiving \n**11/27 @ 2PM & 8PM PT
URL:https://thecomedybureau.com/show/oh-mary-in-la/2026-11-28/2/
LOCATION:Ahmanson Theater/Mark Taper Forum\, 135 North Grand Avenue\, Los Angeles\, CA\, 90012\, United States
CATEGORIES:Comedy Show,Los Angeles Shows,Sketch
GEO:34.0562974;-118.248733
X-APPLE-STRUCTURED-LOCATION;VALUE=URI;X-ADDRESS=Ahmanson Theater/Mark Taper Forum 135 North Grand Avenue Los Angeles CA 90012 United States;X-APPLE-RADIUS=500;X-TITLE=135 North Grand Avenue:geo:-118.248733,34.0562974
END:VEVENT
BEGIN:VEVENT
DTSTART;TZID=America/Los_Angeles:20261129T130000
DTEND;TZID=America/Los_Angeles:20261129T143000
DTSTAMP:20260423T141415
CREATED:20260412T232225Z
LAST-MODIFIED:20260412T232225Z
UID:10094753-1795957200-1795962600@thecomedybureau.com
SUMMARY:Oh\, Mary! (in LA)
DESCRIPTION:Oh\, Mary!  is a dark comedy about a miserable\, suffocated Mary Todd Lincoln in the weeks leading up to Abraham Lincoln’s assassination. Unrequited yearning\, alcoholism\, and suppressed desires abound in this 80-minute one-act play that finally examines the forgotten life and dreams of Mrs. Lincoln\, through the lens of an idiot (playwright Cole Escola). \nDeclared “one of the best comedies in years” by The New York Times\, Oh\, Mary!  received two Tony Awards including Best Direction of a Play (Sam Pinkleton)\, Drama League Awards for Outstanding Play and Outstanding Direction of a Play\, as well as a special citation from the New York Drama Critics’ Circle. It was named a finalist for the Pulitzer Prize for Drama. \nShowtimes: \nRuns 11/10-12/6 \nTues-Thurs @ 7:30PM PT \nFri. @ 8PM PT** \nSat. @ 2PM & 8PM PT \nSun. @ 1PM & 7PM PT \n*Dark on 11/26\, Thanksgiving \n**11/27 @ 2PM & 8PM PT
URL:https://thecomedybureau.com/show/oh-mary-in-la/2026-11-29/1/
LOCATION:Ahmanson Theater/Mark Taper Forum\, 135 North Grand Avenue\, Los Angeles\, CA\, 90012\, United States
CATEGORIES:Comedy Show,Los Angeles Shows,Sketch
GEO:34.0562974;-118.248733
X-APPLE-STRUCTURED-LOCATION;VALUE=URI;X-ADDRESS=Ahmanson Theater/Mark Taper Forum 135 North Grand Avenue Los Angeles CA 90012 United States;X-APPLE-RADIUS=500;X-TITLE=135 North Grand Avenue:geo:-118.248733,34.0562974
END:VEVENT
BEGIN:VEVENT
DTSTART;TZID=America/Los_Angeles:20261129T190000
DTEND;TZID=America/Los_Angeles:20261129T203000
DTSTAMP:20260423T141415
CREATED:20260412T232225Z
LAST-MODIFIED:20260412T232225Z
UID:10094754-1795978800-1795984200@thecomedybureau.com
SUMMARY:Oh\, Mary! (in LA)
DESCRIPTION:Oh\, Mary!  is a dark comedy about a miserable\, suffocated Mary Todd Lincoln in the weeks leading up to Abraham Lincoln’s assassination. Unrequited yearning\, alcoholism\, and suppressed desires abound in this 80-minute one-act play that finally examines the forgotten life and dreams of Mrs. Lincoln\, through the lens of an idiot (playwright Cole Escola). \nDeclared “one of the best comedies in years” by The New York Times\, Oh\, Mary!  received two Tony Awards including Best Direction of a Play (Sam Pinkleton)\, Drama League Awards for Outstanding Play and Outstanding Direction of a Play\, as well as a special citation from the New York Drama Critics’ Circle. It was named a finalist for the Pulitzer Prize for Drama. \nShowtimes: \nRuns 11/10-12/6 \nTues-Thurs @ 7:30PM PT \nFri. @ 8PM PT** \nSat. @ 2PM & 8PM PT \nSun. @ 1PM & 7PM PT \n*Dark on 11/26\, Thanksgiving \n**11/27 @ 2PM & 8PM PT
URL:https://thecomedybureau.com/show/oh-mary-in-la/2026-11-29/2/
LOCATION:Ahmanson Theater/Mark Taper Forum\, 135 North Grand Avenue\, Los Angeles\, CA\, 90012\, United States
CATEGORIES:Comedy Show,Los Angeles Shows,Sketch
GEO:34.0562974;-118.248733
X-APPLE-STRUCTURED-LOCATION;VALUE=URI;X-ADDRESS=Ahmanson Theater/Mark Taper Forum 135 North Grand Avenue Los Angeles CA 90012 United States;X-APPLE-RADIUS=500;X-TITLE=135 North Grand Avenue:geo:-118.248733,34.0562974
END:VEVENT
BEGIN:VEVENT
DTSTART;TZID=America/Los_Angeles:20261201T193000
DTEND;TZID=America/Los_Angeles:20261201T210000
DTSTAMP:20260423T141415
CREATED:20260412T232225Z
LAST-MODIFIED:20260412T232225Z
UID:10094755-1796153400-1796158800@thecomedybureau.com
SUMMARY:Oh\, Mary! (in LA)
DESCRIPTION:Oh\, Mary!  is a dark comedy about a miserable\, suffocated Mary Todd Lincoln in the weeks leading up to Abraham Lincoln’s assassination. Unrequited yearning\, alcoholism\, and suppressed desires abound in this 80-minute one-act play that finally examines the forgotten life and dreams of Mrs. Lincoln\, through the lens of an idiot (playwright Cole Escola). \nDeclared “one of the best comedies in years” by The New York Times\, Oh\, Mary!  received two Tony Awards including Best Direction of a Play (Sam Pinkleton)\, Drama League Awards for Outstanding Play and Outstanding Direction of a Play\, as well as a special citation from the New York Drama Critics’ Circle. It was named a finalist for the Pulitzer Prize for Drama. \nShowtimes: \nRuns 11/10-12/6 \nTues-Thurs @ 7:30PM PT \nFri. @ 8PM PT** \nSat. @ 2PM & 8PM PT \nSun. @ 1PM & 7PM PT \n*Dark on 11/26\, Thanksgiving \n**11/27 @ 2PM & 8PM PT
URL:https://thecomedybureau.com/show/oh-mary-in-la/2026-12-01/
LOCATION:Ahmanson Theater/Mark Taper Forum\, 135 North Grand Avenue\, Los Angeles\, CA\, 90012\, United States
CATEGORIES:Comedy Show,Los Angeles Shows,Sketch
GEO:34.0562974;-118.248733
X-APPLE-STRUCTURED-LOCATION;VALUE=URI;X-ADDRESS=Ahmanson Theater/Mark Taper Forum 135 North Grand Avenue Los Angeles CA 90012 United States;X-APPLE-RADIUS=500;X-TITLE=135 North Grand Avenue:geo:-118.248733,34.0562974
END:VEVENT
BEGIN:VEVENT
DTSTART;TZID=America/Los_Angeles:20261202T193000
DTEND;TZID=America/Los_Angeles:20261202T210000
DTSTAMP:20260423T141415
CREATED:20260412T232225Z
LAST-MODIFIED:20260412T232225Z
UID:10094756-1796239800-1796245200@thecomedybureau.com
SUMMARY:Oh\, Mary! (in LA)
DESCRIPTION:Oh\, Mary!  is a dark comedy about a miserable\, suffocated Mary Todd Lincoln in the weeks leading up to Abraham Lincoln’s assassination. Unrequited yearning\, alcoholism\, and suppressed desires abound in this 80-minute one-act play that finally examines the forgotten life and dreams of Mrs. Lincoln\, through the lens of an idiot (playwright Cole Escola). \nDeclared “one of the best comedies in years” by The New York Times\, Oh\, Mary!  received two Tony Awards including Best Direction of a Play (Sam Pinkleton)\, Drama League Awards for Outstanding Play and Outstanding Direction of a Play\, as well as a special citation from the New York Drama Critics’ Circle. It was named a finalist for the Pulitzer Prize for Drama. \nShowtimes: \nRuns 11/10-12/6 \nTues-Thurs @ 7:30PM PT \nFri. @ 8PM PT** \nSat. @ 2PM & 8PM PT \nSun. @ 1PM & 7PM PT \n*Dark on 11/26\, Thanksgiving \n**11/27 @ 2PM & 8PM PT
URL:https://thecomedybureau.com/show/oh-mary-in-la/2026-12-02/
LOCATION:Ahmanson Theater/Mark Taper Forum\, 135 North Grand Avenue\, Los Angeles\, CA\, 90012\, United States
CATEGORIES:Comedy Show,Los Angeles Shows,Sketch
GEO:34.0562974;-118.248733
X-APPLE-STRUCTURED-LOCATION;VALUE=URI;X-ADDRESS=Ahmanson Theater/Mark Taper Forum 135 North Grand Avenue Los Angeles CA 90012 United States;X-APPLE-RADIUS=500;X-TITLE=135 North Grand Avenue:geo:-118.248733,34.0562974
END:VEVENT
BEGIN:VEVENT
DTSTART;TZID=America/Los_Angeles:20261203T193000
DTEND;TZID=America/Los_Angeles:20261203T210000
DTSTAMP:20260423T141415
CREATED:20260412T232225Z
LAST-MODIFIED:20260412T232225Z
UID:10094757-1796326200-1796331600@thecomedybureau.com
SUMMARY:Oh\, Mary! (in LA)
DESCRIPTION:Oh\, Mary!  is a dark comedy about a miserable\, suffocated Mary Todd Lincoln in the weeks leading up to Abraham Lincoln’s assassination. Unrequited yearning\, alcoholism\, and suppressed desires abound in this 80-minute one-act play that finally examines the forgotten life and dreams of Mrs. Lincoln\, through the lens of an idiot (playwright Cole Escola). \nDeclared “one of the best comedies in years” by The New York Times\, Oh\, Mary!  received two Tony Awards including Best Direction of a Play (Sam Pinkleton)\, Drama League Awards for Outstanding Play and Outstanding Direction of a Play\, as well as a special citation from the New York Drama Critics’ Circle. It was named a finalist for the Pulitzer Prize for Drama. \nShowtimes: \nRuns 11/10-12/6 \nTues-Thurs @ 7:30PM PT \nFri. @ 8PM PT** \nSat. @ 2PM & 8PM PT \nSun. @ 1PM & 7PM PT \n*Dark on 11/26\, Thanksgiving \n**11/27 @ 2PM & 8PM PT
URL:https://thecomedybureau.com/show/oh-mary-in-la/2026-12-03/
LOCATION:Ahmanson Theater/Mark Taper Forum\, 135 North Grand Avenue\, Los Angeles\, CA\, 90012\, United States
CATEGORIES:Comedy Show,Los Angeles Shows,Sketch
GEO:34.0562974;-118.248733
X-APPLE-STRUCTURED-LOCATION;VALUE=URI;X-ADDRESS=Ahmanson Theater/Mark Taper Forum 135 North Grand Avenue Los Angeles CA 90012 United States;X-APPLE-RADIUS=500;X-TITLE=135 North Grand Avenue:geo:-118.248733,34.0562974
END:VEVENT
BEGIN:VEVENT
DTSTART;TZID=America/Los_Angeles:20261204T200000
DTEND;TZID=America/Los_Angeles:20261204T213000
DTSTAMP:20260423T141415
CREATED:20260412T232225Z
LAST-MODIFIED:20260412T232225Z
UID:10094758-1796414400-1796419800@thecomedybureau.com
SUMMARY:Oh\, Mary! (in LA)
DESCRIPTION:Oh\, Mary!  is a dark comedy about a miserable\, suffocated Mary Todd Lincoln in the weeks leading up to Abraham Lincoln’s assassination. Unrequited yearning\, alcoholism\, and suppressed desires abound in this 80-minute one-act play that finally examines the forgotten life and dreams of Mrs. Lincoln\, through the lens of an idiot (playwright Cole Escola). \nDeclared “one of the best comedies in years” by The New York Times\, Oh\, Mary!  received two Tony Awards including Best Direction of a Play (Sam Pinkleton)\, Drama League Awards for Outstanding Play and Outstanding Direction of a Play\, as well as a special citation from the New York Drama Critics’ Circle. It was named a finalist for the Pulitzer Prize for Drama. \nShowtimes: \nRuns 11/10-12/6 \nTues-Thurs @ 7:30PM PT \nFri. @ 8PM PT** \nSat. @ 2PM & 8PM PT \nSun. @ 1PM & 7PM PT \n*Dark on 11/26\, Thanksgiving \n**11/27 @ 2PM & 8PM PT
URL:https://thecomedybureau.com/show/oh-mary-in-la/2026-12-04/
LOCATION:Ahmanson Theater/Mark Taper Forum\, 135 North Grand Avenue\, Los Angeles\, CA\, 90012\, United States
CATEGORIES:Comedy Show,Los Angeles Shows,Sketch
GEO:34.0562974;-118.248733
X-APPLE-STRUCTURED-LOCATION;VALUE=URI;X-ADDRESS=Ahmanson Theater/Mark Taper Forum 135 North Grand Avenue Los Angeles CA 90012 United States;X-APPLE-RADIUS=500;X-TITLE=135 North Grand Avenue:geo:-118.248733,34.0562974
END:VEVENT
BEGIN:VEVENT
DTSTART;TZID=America/Los_Angeles:20261205T140000
DTEND;TZID=America/Los_Angeles:20261205T153000
DTSTAMP:20260423T141415
CREATED:20260412T232225Z
LAST-MODIFIED:20260412T232225Z
UID:10094759-1796479200-1796484600@thecomedybureau.com
SUMMARY:Oh\, Mary! (in LA)
DESCRIPTION:Oh\, Mary!  is a dark comedy about a miserable\, suffocated Mary Todd Lincoln in the weeks leading up to Abraham Lincoln’s assassination. Unrequited yearning\, alcoholism\, and suppressed desires abound in this 80-minute one-act play that finally examines the forgotten life and dreams of Mrs. Lincoln\, through the lens of an idiot (playwright Cole Escola). \nDeclared “one of the best comedies in years” by The New York Times\, Oh\, Mary!  received two Tony Awards including Best Direction of a Play (Sam Pinkleton)\, Drama League Awards for Outstanding Play and Outstanding Direction of a Play\, as well as a special citation from the New York Drama Critics’ Circle. It was named a finalist for the Pulitzer Prize for Drama. \nShowtimes: \nRuns 11/10-12/6 \nTues-Thurs @ 7:30PM PT \nFri. @ 8PM PT** \nSat. @ 2PM & 8PM PT \nSun. @ 1PM & 7PM PT \n*Dark on 11/26\, Thanksgiving \n**11/27 @ 2PM & 8PM PT
URL:https://thecomedybureau.com/show/oh-mary-in-la/2026-12-05/1/
LOCATION:Ahmanson Theater/Mark Taper Forum\, 135 North Grand Avenue\, Los Angeles\, CA\, 90012\, United States
CATEGORIES:Comedy Show,Los Angeles Shows,Sketch
GEO:34.0562974;-118.248733
X-APPLE-STRUCTURED-LOCATION;VALUE=URI;X-ADDRESS=Ahmanson Theater/Mark Taper Forum 135 North Grand Avenue Los Angeles CA 90012 United States;X-APPLE-RADIUS=500;X-TITLE=135 North Grand Avenue:geo:-118.248733,34.0562974
END:VEVENT
BEGIN:VEVENT
DTSTART;TZID=America/Los_Angeles:20261205T200000
DTEND;TZID=America/Los_Angeles:20261205T213000
DTSTAMP:20260423T141415
CREATED:20260412T232225Z
LAST-MODIFIED:20260412T232225Z
UID:10094760-1796500800-1796506200@thecomedybureau.com
SUMMARY:Oh\, Mary! (in LA)
DESCRIPTION:Oh\, Mary!  is a dark comedy about a miserable\, suffocated Mary Todd Lincoln in the weeks leading up to Abraham Lincoln’s assassination. Unrequited yearning\, alcoholism\, and suppressed desires abound in this 80-minute one-act play that finally examines the forgotten life and dreams of Mrs. Lincoln\, through the lens of an idiot (playwright Cole Escola). \nDeclared “one of the best comedies in years” by The New York Times\, Oh\, Mary!  received two Tony Awards including Best Direction of a Play (Sam Pinkleton)\, Drama League Awards for Outstanding Play and Outstanding Direction of a Play\, as well as a special citation from the New York Drama Critics’ Circle. It was named a finalist for the Pulitzer Prize for Drama. \nShowtimes: \nRuns 11/10-12/6 \nTues-Thurs @ 7:30PM PT \nFri. @ 8PM PT** \nSat. @ 2PM & 8PM PT \nSun. @ 1PM & 7PM PT \n*Dark on 11/26\, Thanksgiving \n**11/27 @ 2PM & 8PM PT
URL:https://thecomedybureau.com/show/oh-mary-in-la/2026-12-05/2/
LOCATION:Ahmanson Theater/Mark Taper Forum\, 135 North Grand Avenue\, Los Angeles\, CA\, 90012\, United States
CATEGORIES:Comedy Show,Los Angeles Shows,Sketch
GEO:34.0562974;-118.248733
X-APPLE-STRUCTURED-LOCATION;VALUE=URI;X-ADDRESS=Ahmanson Theater/Mark Taper Forum 135 North Grand Avenue Los Angeles CA 90012 United States;X-APPLE-RADIUS=500;X-TITLE=135 North Grand Avenue:geo:-118.248733,34.0562974
END:VEVENT
BEGIN:VEVENT
DTSTART;TZID=America/Los_Angeles:20261206T130000
DTEND;TZID=America/Los_Angeles:20261206T143000
DTSTAMP:20260423T141415
CREATED:20260412T232225Z
LAST-MODIFIED:20260412T232225Z
UID:10094761-1796562000-1796567400@thecomedybureau.com
SUMMARY:Oh\, Mary! (in LA)
DESCRIPTION:Oh\, Mary!  is a dark comedy about a miserable\, suffocated Mary Todd Lincoln in the weeks leading up to Abraham Lincoln’s assassination. Unrequited yearning\, alcoholism\, and suppressed desires abound in this 80-minute one-act play that finally examines the forgotten life and dreams of Mrs. Lincoln\, through the lens of an idiot (playwright Cole Escola). \nDeclared “one of the best comedies in years” by The New York Times\, Oh\, Mary!  received two Tony Awards including Best Direction of a Play (Sam Pinkleton)\, Drama League Awards for Outstanding Play and Outstanding Direction of a Play\, as well as a special citation from the New York Drama Critics’ Circle. It was named a finalist for the Pulitzer Prize for Drama. \nShowtimes: \nRuns 11/10-12/6 \nTues-Thurs @ 7:30PM PT \nFri. @ 8PM PT** \nSat. @ 2PM & 8PM PT \nSun. @ 1PM & 7PM PT \n*Dark on 11/26\, Thanksgiving \n**11/27 @ 2PM & 8PM PT
URL:https://thecomedybureau.com/show/oh-mary-in-la/2026-12-06/1/
LOCATION:Ahmanson Theater/Mark Taper Forum\, 135 North Grand Avenue\, Los Angeles\, CA\, 90012\, United States
CATEGORIES:Comedy Show,Los Angeles Shows,Sketch
GEO:34.0562974;-118.248733
X-APPLE-STRUCTURED-LOCATION;VALUE=URI;X-ADDRESS=Ahmanson Theater/Mark Taper Forum 135 North Grand Avenue Los Angeles CA 90012 United States;X-APPLE-RADIUS=500;X-TITLE=135 North Grand Avenue:geo:-118.248733,34.0562974
END:VEVENT
BEGIN:VEVENT
DTSTART;TZID=America/Los_Angeles:20261206T190000
DTEND;TZID=America/Los_Angeles:20261206T203000
DTSTAMP:20260423T141415
CREATED:20260412T232225Z
LAST-MODIFIED:20260412T232225Z
UID:10094762-1796583600-1796589000@thecomedybureau.com
SUMMARY:Oh\, Mary! (in LA)
DESCRIPTION:Oh\, Mary!  is a dark comedy about a miserable\, suffocated Mary Todd Lincoln in the weeks leading up to Abraham Lincoln’s assassination. Unrequited yearning\, alcoholism\, and suppressed desires abound in this 80-minute one-act play that finally examines the forgotten life and dreams of Mrs. Lincoln\, through the lens of an idiot (playwright Cole Escola). \nDeclared “one of the best comedies in years” by The New York Times\, Oh\, Mary!  received two Tony Awards including Best Direction of a Play (Sam Pinkleton)\, Drama League Awards for Outstanding Play and Outstanding Direction of a Play\, as well as a special citation from the New York Drama Critics’ Circle. It was named a finalist for the Pulitzer Prize for Drama. \nShowtimes: \nRuns 11/10-12/6 \nTues-Thurs @ 7:30PM PT \nFri. @ 8PM PT** \nSat. @ 2PM & 8PM PT \nSun. @ 1PM & 7PM PT \n*Dark on 11/26\, Thanksgiving \n**11/27 @ 2PM & 8PM PT
URL:https://thecomedybureau.com/show/oh-mary-in-la/2026-12-06/2/
LOCATION:Ahmanson Theater/Mark Taper Forum\, 135 North Grand Avenue\, Los Angeles\, CA\, 90012\, United States
CATEGORIES:Comedy Show,Los Angeles Shows,Sketch
GEO:34.0562974;-118.248733
X-APPLE-STRUCTURED-LOCATION;VALUE=URI;X-ADDRESS=Ahmanson Theater/Mark Taper Forum 135 North Grand Avenue Los Angeles CA 90012 United States;X-APPLE-RADIUS=500;X-TITLE=135 North Grand Avenue:geo:-118.248733,34.0562974
END:VEVENT
BEGIN:VEVENT
DTSTART;TZID=America/Los_Angeles:20261211T200000
DTEND;TZID=America/Los_Angeles:20261211T220000
DTSTAMP:20260423T141415
CREATED:20251206T185826Z
LAST-MODIFIED:20251210T173416Z
UID:10075662-1797019200-1797026400@thecomedybureau.com
SUMMARY:Eighth Grade in Concert (in LA)
DESCRIPTION:Screening of Eighth Grade (2018) + live film score by an all-electronic ensemble \nStarts 8PM PT
URL:https://thecomedybureau.com/show/eighth-grade-in-concert-in-la/
LOCATION:The United Theater on Broadway\, 929 South Broadway\, Los Angeles\, CA\, 90015\, United States
CATEGORIES:Comedy Show,Los Angeles Shows,Screening
GEO:34.0418182;-118.2569208
X-APPLE-STRUCTURED-LOCATION;VALUE=URI;X-ADDRESS=The United Theater on Broadway 929 South Broadway Los Angeles CA 90015 United States;X-APPLE-RADIUS=500;X-TITLE=929 South Broadway:geo:-118.2569208,34.0418182
END:VEVENT
BEGIN:VEVENT
DTSTART;TZID=America/Los_Angeles:20270330T200000
DTEND;TZID=America/Los_Angeles:20270330T230000
DTSTAMP:20260423T141415
CREATED:20210611T071011Z
LAST-MODIFIED:20260407T074840Z
UID:10094516-1806436800-1806447600@thecomedybureau.com
SUMMARY:Loud Village Presents: Comedy Night at Best Fish Taco (in LA)
DESCRIPTION:Wow… we are finally BACK\, folks! Comedy Night at Best Fish Taco returns! Starting at 8pm(ish)\, there will be standup comedy going on under the OUTDOOR cabana of Best Fish Taco\, presented by Loud Village. It’s FREE\, it’s fun\, you can bring your own drinks and eat some delicious tacos for cheap. Most importantly\, the comedy is great.\n\nAs always\, the event will feature an amazing lineup: TBA\n\nHosted by Jeremy Burke\nComedy Night at Best Fish Taco\n1ST AND 3RD TUESDAYS\nSeating 7:30pm PT\nShowtime 8pm (ish) PT
URL:https://thecomedybureau.com/show/return-of-comedy-night-at-best-fish-taco-in-la/2027-03-30/
LOCATION:Best Fish Taco in Ensenada\, 1650 Hillhurst Avenue\, Los Angeles\, CA\, 90027\, United States
CATEGORIES:Comedy Show,Los Angeles,Los Angeles Shows,Stand Up
GEO:34.1010722;-118.2872178
X-APPLE-STRUCTURED-LOCATION;VALUE=URI;X-ADDRESS=Best Fish Taco in Ensenada 1650 Hillhurst Avenue Los Angeles CA 90027 United States;X-APPLE-RADIUS=500;X-TITLE=1650 Hillhurst Avenue:geo:-118.2872178,34.1010722
END:VEVENT
BEGIN:VEVENT
DTSTART;TZID=America/Los_Angeles:20280108T200000
DTEND;TZID=America/Los_Angeles:20280108T213000
DTSTAMP:20260423T141415
CREATED:20230508T200111Z
LAST-MODIFIED:20251126T165316Z
UID:10058093-1830974400-1830979800@thecomedybureau.com
SUMMARY:Gary Gulman: Grandiloquent (in LA)
DESCRIPTION:Gary Gulman headlines \nStarts 8PM PT
URL:https://thecomedybureau.com/show/gary-gulman-misfit-book-tour-in-la/2028-01-08/
LOCATION:Largo at The Coronet Theatre\, 366 North La Cienega Boulevard\, Los Angeles\, CA\, 90048\, United States
CATEGORIES:Comedy Show,Los Angeles Shows,Stand Up
GEO:34.0778693;-118.3763237
X-APPLE-STRUCTURED-LOCATION;VALUE=URI;X-ADDRESS=Largo at The Coronet Theatre 366 North La Cienega Boulevard Los Angeles CA 90048 United States;X-APPLE-RADIUS=500;X-TITLE=366 North La Cienega Boulevard:geo:-118.3763237,34.0778693
END:VEVENT
END:VCALENDAR