BEGIN:VCALENDAR
VERSION:2.0
PRODID:-//The Comedy Bureau - ECPv6.15.18//NONSGML v1.0//EN
CALSCALE:GREGORIAN
METHOD:PUBLISH
X-WR-CALNAME:The Comedy Bureau
X-ORIGINAL-URL:https://thecomedybureau.com
X-WR-CALDESC:Events for The Comedy Bureau
REFRESH-INTERVAL;VALUE=DURATION:PT1H
X-Robots-Tag:noindex
X-PUBLISHED-TTL:PT1H
BEGIN:VTIMEZONE
TZID:America/Los_Angeles
BEGIN:DAYLIGHT
TZOFFSETFROM:-0800
TZOFFSETTO:-0700
TZNAME:PDT
DTSTART:20220313T100000
END:DAYLIGHT
BEGIN:STANDARD
TZOFFSETFROM:-0700
TZOFFSETTO:-0800
TZNAME:PST
DTSTART:20221106T090000
END:STANDARD
BEGIN:DAYLIGHT
TZOFFSETFROM:-0800
TZOFFSETTO:-0700
TZNAME:PDT
DTSTART:20230312T100000
END:DAYLIGHT
BEGIN:STANDARD
TZOFFSETFROM:-0700
TZOFFSETTO:-0800
TZNAME:PST
DTSTART:20231105T090000
END:STANDARD
BEGIN:DAYLIGHT
TZOFFSETFROM:-0800
TZOFFSETTO:-0700
TZNAME:PDT
DTSTART:20240310T100000
END:DAYLIGHT
BEGIN:STANDARD
TZOFFSETFROM:-0700
TZOFFSETTO:-0800
TZNAME:PST
DTSTART:20241103T090000
END:STANDARD
END:VTIMEZONE
BEGIN:VTIMEZONE
TZID:America/New_York
BEGIN:DAYLIGHT
TZOFFSETFROM:-0500
TZOFFSETTO:-0400
TZNAME:EDT
DTSTART:20220313T070000
END:DAYLIGHT
BEGIN:STANDARD
TZOFFSETFROM:-0400
TZOFFSETTO:-0500
TZNAME:EST
DTSTART:20221106T060000
END:STANDARD
BEGIN:DAYLIGHT
TZOFFSETFROM:-0500
TZOFFSETTO:-0400
TZNAME:EDT
DTSTART:20230312T070000
END:DAYLIGHT
BEGIN:STANDARD
TZOFFSETFROM:-0400
TZOFFSETTO:-0500
TZNAME:EST
DTSTART:20231105T060000
END:STANDARD
BEGIN:DAYLIGHT
TZOFFSETFROM:-0500
TZOFFSETTO:-0400
TZNAME:EDT
DTSTART:20240310T070000
END:DAYLIGHT
BEGIN:STANDARD
TZOFFSETFROM:-0400
TZOFFSETTO:-0500
TZNAME:EST
DTSTART:20241103T060000
END:STANDARD
END:VTIMEZONE
BEGIN:VEVENT
DTSTART;TZID=America/Los_Angeles:20230924T173000
DTEND;TZID=America/Los_Angeles:20230924T183000
DTSTAMP:20260425T110244
CREATED:20221220T100442Z
LAST-MODIFIED:20230927T170835Z
UID:10001711-1695576600-1695580200@thecomedybureau.com
SUMMARY:One Big Jam @ UCB Franklin (in LA)
DESCRIPTION:An inclusive improv jam for UCB students\, performers\, and fans! Anna Rajo\, Joe Fahey\, and PJ McCormick will host with a 4th special guest host every week. \nStarts 5:30PM PT\nEnds 6:30PM PT\nFree
URL:https://thecomedybureau.com/show/one-big-jam-ucb-franklin-in-la/2023-09-24/
LOCATION:UCB Franklin\, 5919 Franklin Avenue\, Los Angeles\, CA\, 90028\, United States
CATEGORIES:Improv Jam,Los Angeles Open Mics
GEO:34.1054949;-118.3187612
X-APPLE-STRUCTURED-LOCATION;VALUE=URI;X-ADDRESS=UCB Franklin 5919 Franklin Avenue Los Angeles CA 90028 United States;X-APPLE-RADIUS=500;X-TITLE=5919 Franklin Avenue:geo:-118.3187612,34.1054949
END:VEVENT
BEGIN:VEVENT
DTSTART;TZID=America/Los_Angeles:20230926T203000
DTEND;TZID=America/Los_Angeles:20230926T213000
DTSTAMP:20260425T110244
CREATED:20211211T210258Z
LAST-MODIFIED:20230927T025132Z
UID:10000183-1695760200-1695763800@thecomedybureau.com
SUMMARY:Pump Up: The Jam @ Brooklyn Comedy Collective (in NYC)
DESCRIPTION:For improv only\nStarts 8:30PM ET\nAnyone can play\nHosted by William Banks & Chloe Troast \nMust be 21+ to attend
URL:https://thecomedybureau.com/show/pump-up-the-jam-brooklyn-comedy-collective-in-nyc/2023-09-26/
LOCATION:Brooklyn Comedy Collective\, 167 Graham Avenue\, Brooklyn\, NY\, 11206\, United States
CATEGORIES:Improv Jam,New York,New York Open Mics,Open Mic
GEO:40.7077178;-73.9436219
X-APPLE-STRUCTURED-LOCATION;VALUE=URI;X-ADDRESS=Brooklyn Comedy Collective 167 Graham Avenue Brooklyn NY 11206 United States;X-APPLE-RADIUS=500;X-TITLE=167 Graham Avenue:geo:-73.9436219,40.7077178
END:VEVENT
BEGIN:VEVENT
DTSTART;TZID=America/New_York:20230927T213000
DTEND;TZID=America/New_York:20230927T223000
DTSTAMP:20260425T110244
CREATED:20220305T215943Z
LAST-MODIFIED:20230927T042409Z
UID:10000909-1695850200-1695853800@thecomedybureau.com
SUMMARY:The Wednesday Night Scene Improv Jam @ The PIT (in NYC)
DESCRIPTION:Starts 9:30PM ET\nEnds 10:30PM ET\nFor improvisers only\nAnyone can play\nNo entry after 10PM ET\nMAX CAPACITY: 58\nFirst Come\, First Serve\n$5 to play\nProof of vaccination required
URL:https://thecomedybureau.com/show/the-wednesday-night-scene-improv-jam-the-pit-in-nyc/2023-09-27/
LOCATION:The PIT\, 123 East 24th Street\, New York\, NY\, 10010\, United States
CATEGORIES:Improv Jam,New York Open Mics,Open Mic
GEO:40.7405602;-73.984683
X-APPLE-STRUCTURED-LOCATION;VALUE=URI;X-ADDRESS=The PIT 123 East 24th Street New York NY 10010 United States;X-APPLE-RADIUS=500;X-TITLE=123 East 24th Street:geo:-73.984683,40.7405602
END:VEVENT
BEGIN:VEVENT
DTSTART;TZID=America/Los_Angeles:20230927T220000
DTEND;TZID=America/Los_Angeles:20230927T230000
DTSTAMP:20260425T110244
CREATED:20230202T173956Z
LAST-MODIFIED:20230927T042853Z
UID:10000921-1695852000-1695855600@thecomedybureau.com
SUMMARY:One Big Jam @ UCB Franklin (in LA)
DESCRIPTION:An inclusive improv jam for UCB students\, performers\, and fans! Anna Rajo\, Joe Fahey\, and PJ McCormick will host with a 4th special guest host every week. \nStarts 10PM PT\nFree
URL:https://thecomedybureau.com/show/one-big-jam-ucb-franklin-in-la-2/2023-09-27/
LOCATION:UCB Franklin\, 5919 Franklin Avenue\, Los Angeles\, CA\, 90028\, United States
CATEGORIES:Improv Jam,Los Angeles Open Mics,Open Mic
GEO:34.1054949;-118.3187612
X-APPLE-STRUCTURED-LOCATION;VALUE=URI;X-ADDRESS=UCB Franklin 5919 Franklin Avenue Los Angeles CA 90028 United States;X-APPLE-RADIUS=500;X-TITLE=5919 Franklin Avenue:geo:-118.3187612,34.1054949
END:VEVENT
BEGIN:VEVENT
DTSTART;TZID=America/Los_Angeles:20230928T190000
DTEND;TZID=America/Los_Angeles:20230928T200000
DTSTAMP:20260425T110244
CREATED:20200305T191019Z
LAST-MODIFIED:20230927T043529Z
UID:10000985-1695927600-1695931200@thecomedybureau.com
SUMMARY:Tango Two Person Improv Jam @ Pack Theater (in LA)
DESCRIPTION:For improv only\nStarts 7PM PT\nEnds 8PM PT\nFocused on Two person improv\nFeat. The Tango\nAnyone can play\n$2 to play\n$5 in adv. to watch\, $7 at door
URL:https://thecomedybureau.com/show/improv-jam-pack-theater-3/2023-09-28/
LOCATION:Pack Theater\, 1615 N. Vermont Avenue\, Los Angeles\, CA\, 90038\, United States
CATEGORIES:Improv Jam,Los Angeles,Los Angeles Open Mics,Open Mic
GEO:34.0905344;-118.3306225
X-APPLE-STRUCTURED-LOCATION;VALUE=URI;X-ADDRESS=Pack Theater 1615 N. Vermont Avenue Los Angeles CA 90038 United States;X-APPLE-RADIUS=500;X-TITLE=1615 N. Vermont Avenue:geo:-118.3306225,34.0905344
END:VEVENT
BEGIN:VEVENT
DTSTART;TZID=America/New_York:20230928T220000
DTEND;TZID=America/New_York:20230928T230000
DTSTAMP:20260425T110244
CREATED:20220305T220540Z
LAST-MODIFIED:20230927T152124Z
UID:10001064-1695938400-1695942000@thecomedybureau.com
SUMMARY:The Slow Burn Improv Jam @ The PIT (in NYC)
DESCRIPTION:Starts 10PM ET\nEnds 11PM ET\nNo entry after 10:30PM ET\nMAX CAPACITY: 58\nFirst Come\, First Serve\n$5 to play
URL:https://thecomedybureau.com/show/the-slow-burn-improv-jam-the-pit-in-nyc/2023-09-28/
LOCATION:The PIT\, 123 East 24th Street\, New York\, NY\, 10010\, United States
CATEGORIES:Improv Jam,New York,New York Open Mics,Open Mic
GEO:40.7405602;-73.984683
X-APPLE-STRUCTURED-LOCATION;VALUE=URI;X-ADDRESS=The PIT 123 East 24th Street New York NY 10010 United States;X-APPLE-RADIUS=500;X-TITLE=123 East 24th Street:geo:-73.984683,40.7405602
END:VEVENT
BEGIN:VEVENT
DTSTART;TZID=America/New_York:20230929T170000
DTEND;TZID=America/New_York:20230929T180000
DTSTAMP:20260425T110244
CREATED:20220603T020901Z
LAST-MODIFIED:20230927T154628Z
UID:10001529-1696006800-1696010400@thecomedybureau.com
SUMMARY:Improv Jam @ The PIT (in NYC)
DESCRIPTION:Starts 5PM ET\nFor improv and improvisers only\nAnyone can play\n$5
URL:https://thecomedybureau.com/show/improv-jam-the-pit-in-nyc-15/2023-09-29/
LOCATION:The PIT\, 123 East 24th Street\, New York\, NY\, 10010\, United States
CATEGORIES:Improv Jam,New York,New York Open Mics,Open Mic
GEO:40.7405602;-73.984683
X-APPLE-STRUCTURED-LOCATION;VALUE=URI;X-ADDRESS=The PIT 123 East 24th Street New York NY 10010 United States;X-APPLE-RADIUS=500;X-TITLE=123 East 24th Street:geo:-73.984683,40.7405602
END:VEVENT
BEGIN:VEVENT
DTSTART;TZID=America/Los_Angeles:20230929T213000
DTEND;TZID=America/Los_Angeles:20230929T223000
DTSTAMP:20260425T110244
CREATED:20211206T033136Z
LAST-MODIFIED:20230927T162140Z
UID:10001575-1696023000-1696026600@thecomedybureau.com
SUMMARY:The Rowdy Hour Improv Jam @ The PIT (in NYC)
DESCRIPTION:For improvisers only\nStarts 9:30PM ET\nEnds 10:30PM ET\nMAX CAPACITY: 58\nFirst Come\, First Serve\nAll levels are welcome\n$10 to play
URL:https://thecomedybureau.com/show/improv-jam-the-pit-in-nyc-11/2023-09-29/
LOCATION:The PIT\, 123 East 24th Street\, New York\, NY\, 10010\, United States
CATEGORIES:Improv Jam,New York,New York Open Mics,Open Mic
GEO:40.7405602;-73.984683
X-APPLE-STRUCTURED-LOCATION;VALUE=URI;X-ADDRESS=The PIT 123 East 24th Street New York NY 10010 United States;X-APPLE-RADIUS=500;X-TITLE=123 East 24th Street:geo:-73.984683,40.7405602
END:VEVENT
BEGIN:VEVENT
DTSTART;TZID=America/Los_Angeles:20231001T173000
DTEND;TZID=America/Los_Angeles:20231001T183000
DTSTAMP:20260425T110244
CREATED:20221220T100442Z
LAST-MODIFIED:20230927T170835Z
UID:10001712-1696181400-1696185000@thecomedybureau.com
SUMMARY:One Big Jam @ UCB Franklin (in LA)
DESCRIPTION:An inclusive improv jam for UCB students\, performers\, and fans! Anna Rajo\, Joe Fahey\, and PJ McCormick will host with a 4th special guest host every week. \nStarts 5:30PM PT\nEnds 6:30PM PT\nFree
URL:https://thecomedybureau.com/show/one-big-jam-ucb-franklin-in-la/2023-10-01/
LOCATION:UCB Franklin\, 5919 Franklin Avenue\, Los Angeles\, CA\, 90028\, United States
CATEGORIES:Improv Jam,Los Angeles Open Mics
GEO:34.1054949;-118.3187612
X-APPLE-STRUCTURED-LOCATION;VALUE=URI;X-ADDRESS=UCB Franklin 5919 Franklin Avenue Los Angeles CA 90028 United States;X-APPLE-RADIUS=500;X-TITLE=5919 Franklin Avenue:geo:-118.3187612,34.1054949
END:VEVENT
BEGIN:VEVENT
DTSTART;TZID=America/Los_Angeles:20231003T203000
DTEND;TZID=America/Los_Angeles:20231003T213000
DTSTAMP:20260425T110244
CREATED:20211211T210258Z
LAST-MODIFIED:20230927T025132Z
UID:10000184-1696365000-1696368600@thecomedybureau.com
SUMMARY:Pump Up: The Jam @ Brooklyn Comedy Collective (in NYC)
DESCRIPTION:For improv only\nStarts 8:30PM ET\nAnyone can play\nHosted by William Banks & Chloe Troast \nMust be 21+ to attend
URL:https://thecomedybureau.com/show/pump-up-the-jam-brooklyn-comedy-collective-in-nyc/2023-10-03/
LOCATION:Brooklyn Comedy Collective\, 167 Graham Avenue\, Brooklyn\, NY\, 11206\, United States
CATEGORIES:Improv Jam,New York,New York Open Mics,Open Mic
GEO:40.7077178;-73.9436219
X-APPLE-STRUCTURED-LOCATION;VALUE=URI;X-ADDRESS=Brooklyn Comedy Collective 167 Graham Avenue Brooklyn NY 11206 United States;X-APPLE-RADIUS=500;X-TITLE=167 Graham Avenue:geo:-73.9436219,40.7077178
END:VEVENT
BEGIN:VEVENT
DTSTART;TZID=America/New_York:20231004T213000
DTEND;TZID=America/New_York:20231004T223000
DTSTAMP:20260425T110244
CREATED:20220305T215943Z
LAST-MODIFIED:20230927T042409Z
UID:10000910-1696455000-1696458600@thecomedybureau.com
SUMMARY:The Wednesday Night Scene Improv Jam @ The PIT (in NYC)
DESCRIPTION:Starts 9:30PM ET\nEnds 10:30PM ET\nFor improvisers only\nAnyone can play\nNo entry after 10PM ET\nMAX CAPACITY: 58\nFirst Come\, First Serve\n$5 to play\nProof of vaccination required
URL:https://thecomedybureau.com/show/the-wednesday-night-scene-improv-jam-the-pit-in-nyc/2023-10-04/
LOCATION:The PIT\, 123 East 24th Street\, New York\, NY\, 10010\, United States
CATEGORIES:Improv Jam,New York Open Mics,Open Mic
GEO:40.7405602;-73.984683
X-APPLE-STRUCTURED-LOCATION;VALUE=URI;X-ADDRESS=The PIT 123 East 24th Street New York NY 10010 United States;X-APPLE-RADIUS=500;X-TITLE=123 East 24th Street:geo:-73.984683,40.7405602
END:VEVENT
BEGIN:VEVENT
DTSTART;TZID=America/Los_Angeles:20231004T220000
DTEND;TZID=America/Los_Angeles:20231004T230000
DTSTAMP:20260425T110244
CREATED:20230202T173956Z
LAST-MODIFIED:20230927T042853Z
UID:10000922-1696456800-1696460400@thecomedybureau.com
SUMMARY:One Big Jam @ UCB Franklin (in LA)
DESCRIPTION:An inclusive improv jam for UCB students\, performers\, and fans! Anna Rajo\, Joe Fahey\, and PJ McCormick will host with a 4th special guest host every week. \nStarts 10PM PT\nFree
URL:https://thecomedybureau.com/show/one-big-jam-ucb-franklin-in-la-2/2023-10-04/
LOCATION:UCB Franklin\, 5919 Franklin Avenue\, Los Angeles\, CA\, 90028\, United States
CATEGORIES:Improv Jam,Los Angeles Open Mics,Open Mic
GEO:34.1054949;-118.3187612
X-APPLE-STRUCTURED-LOCATION;VALUE=URI;X-ADDRESS=UCB Franklin 5919 Franklin Avenue Los Angeles CA 90028 United States;X-APPLE-RADIUS=500;X-TITLE=5919 Franklin Avenue:geo:-118.3187612,34.1054949
END:VEVENT
BEGIN:VEVENT
DTSTART;TZID=America/Los_Angeles:20231005T190000
DTEND;TZID=America/Los_Angeles:20231005T200000
DTSTAMP:20260425T110244
CREATED:20200305T191019Z
LAST-MODIFIED:20230927T043529Z
UID:10000986-1696532400-1696536000@thecomedybureau.com
SUMMARY:Tango Two Person Improv Jam @ Pack Theater (in LA)
DESCRIPTION:For improv only\nStarts 7PM PT\nEnds 8PM PT\nFocused on Two person improv\nFeat. The Tango\nAnyone can play\n$2 to play\n$5 in adv. to watch\, $7 at door
URL:https://thecomedybureau.com/show/improv-jam-pack-theater-3/2023-10-05/
LOCATION:Pack Theater\, 1615 N. Vermont Avenue\, Los Angeles\, CA\, 90038\, United States
CATEGORIES:Improv Jam,Los Angeles,Los Angeles Open Mics,Open Mic
GEO:34.0905344;-118.3306225
X-APPLE-STRUCTURED-LOCATION;VALUE=URI;X-ADDRESS=Pack Theater 1615 N. Vermont Avenue Los Angeles CA 90038 United States;X-APPLE-RADIUS=500;X-TITLE=1615 N. Vermont Avenue:geo:-118.3306225,34.0905344
END:VEVENT
BEGIN:VEVENT
DTSTART;TZID=America/New_York:20231005T220000
DTEND;TZID=America/New_York:20231005T230000
DTSTAMP:20260425T110244
CREATED:20220305T220540Z
LAST-MODIFIED:20230927T152124Z
UID:10001065-1696543200-1696546800@thecomedybureau.com
SUMMARY:The Slow Burn Improv Jam @ The PIT (in NYC)
DESCRIPTION:Starts 10PM ET\nEnds 11PM ET\nNo entry after 10:30PM ET\nMAX CAPACITY: 58\nFirst Come\, First Serve\n$5 to play
URL:https://thecomedybureau.com/show/the-slow-burn-improv-jam-the-pit-in-nyc/2023-10-05/
LOCATION:The PIT\, 123 East 24th Street\, New York\, NY\, 10010\, United States
CATEGORIES:Improv Jam,New York,New York Open Mics,Open Mic
GEO:40.7405602;-73.984683
X-APPLE-STRUCTURED-LOCATION;VALUE=URI;X-ADDRESS=The PIT 123 East 24th Street New York NY 10010 United States;X-APPLE-RADIUS=500;X-TITLE=123 East 24th Street:geo:-73.984683,40.7405602
END:VEVENT
BEGIN:VEVENT
DTSTART;TZID=America/New_York:20231006T170000
DTEND;TZID=America/New_York:20231006T180000
DTSTAMP:20260425T110244
CREATED:20220603T020901Z
LAST-MODIFIED:20230927T154628Z
UID:10001530-1696611600-1696615200@thecomedybureau.com
SUMMARY:Improv Jam @ The PIT (in NYC)
DESCRIPTION:Starts 5PM ET\nFor improv and improvisers only\nAnyone can play\n$5
URL:https://thecomedybureau.com/show/improv-jam-the-pit-in-nyc-15/2023-10-06/
LOCATION:The PIT\, 123 East 24th Street\, New York\, NY\, 10010\, United States
CATEGORIES:Improv Jam,New York,New York Open Mics,Open Mic
GEO:40.7405602;-73.984683
X-APPLE-STRUCTURED-LOCATION;VALUE=URI;X-ADDRESS=The PIT 123 East 24th Street New York NY 10010 United States;X-APPLE-RADIUS=500;X-TITLE=123 East 24th Street:geo:-73.984683,40.7405602
END:VEVENT
BEGIN:VEVENT
DTSTART;TZID=America/Los_Angeles:20231006T213000
DTEND;TZID=America/Los_Angeles:20231006T223000
DTSTAMP:20260425T110244
CREATED:20211206T033136Z
LAST-MODIFIED:20230927T162140Z
UID:10001576-1696627800-1696631400@thecomedybureau.com
SUMMARY:The Rowdy Hour Improv Jam @ The PIT (in NYC)
DESCRIPTION:For improvisers only\nStarts 9:30PM ET\nEnds 10:30PM ET\nMAX CAPACITY: 58\nFirst Come\, First Serve\nAll levels are welcome\n$10 to play
URL:https://thecomedybureau.com/show/improv-jam-the-pit-in-nyc-11/2023-10-06/
LOCATION:The PIT\, 123 East 24th Street\, New York\, NY\, 10010\, United States
CATEGORIES:Improv Jam,New York,New York Open Mics,Open Mic
GEO:40.7405602;-73.984683
X-APPLE-STRUCTURED-LOCATION;VALUE=URI;X-ADDRESS=The PIT 123 East 24th Street New York NY 10010 United States;X-APPLE-RADIUS=500;X-TITLE=123 East 24th Street:geo:-73.984683,40.7405602
END:VEVENT
BEGIN:VEVENT
DTSTART;TZID=America/Los_Angeles:20231008T173000
DTEND;TZID=America/Los_Angeles:20231008T183000
DTSTAMP:20260425T110244
CREATED:20221220T100442Z
LAST-MODIFIED:20230927T170835Z
UID:10001713-1696786200-1696789800@thecomedybureau.com
SUMMARY:One Big Jam @ UCB Franklin (in LA)
DESCRIPTION:An inclusive improv jam for UCB students\, performers\, and fans! Anna Rajo\, Joe Fahey\, and PJ McCormick will host with a 4th special guest host every week. \nStarts 5:30PM PT\nEnds 6:30PM PT\nFree
URL:https://thecomedybureau.com/show/one-big-jam-ucb-franklin-in-la/2023-10-08/
LOCATION:UCB Franklin\, 5919 Franklin Avenue\, Los Angeles\, CA\, 90028\, United States
CATEGORIES:Improv Jam,Los Angeles Open Mics
GEO:34.1054949;-118.3187612
X-APPLE-STRUCTURED-LOCATION;VALUE=URI;X-ADDRESS=UCB Franklin 5919 Franklin Avenue Los Angeles CA 90028 United States;X-APPLE-RADIUS=500;X-TITLE=5919 Franklin Avenue:geo:-118.3187612,34.1054949
END:VEVENT
BEGIN:VEVENT
DTSTART;TZID=America/Los_Angeles:20231029T173000
DTEND;TZID=America/Los_Angeles:20231029T183000
DTSTAMP:20260425T110244
CREATED:20231029T010033Z
LAST-MODIFIED:20231029T010034Z
UID:10001714-1698600600-1698604200@thecomedybureau.com
SUMMARY:One Big Jam @ UCB Franklin (in LA)
DESCRIPTION:An inclusive improv jam for UCB students\, performers\, and fans! Anna Rajo\, Joe Fahey\, and PJ McCormick will host with a 4th special guest host every week. \nStarts 5:30PM PT\nEnds 6:30PM PT\nFree
URL:https://thecomedybureau.com/show/one-big-jam-ucb-franklin-in-la-3/2023-10-29/
LOCATION:UCB Franklin\, 5919 Franklin Avenue\, Los Angeles\, CA\, 90028\, United States
CATEGORIES:Improv Jam,Los Angeles Open Mics
GEO:34.1054949;-118.3187612
X-APPLE-STRUCTURED-LOCATION;VALUE=URI;X-ADDRESS=UCB Franklin 5919 Franklin Avenue Los Angeles CA 90028 United States;X-APPLE-RADIUS=500;X-TITLE=5919 Franklin Avenue:geo:-118.3187612,34.1054949
END:VEVENT
BEGIN:VEVENT
DTSTART;TZID=America/Los_Angeles:20231030T220000
DTEND;TZID=America/Los_Angeles:20231030T230000
DTSTAMP:20260425T110244
CREATED:20221112T013725Z
LAST-MODIFIED:20231028T235127Z
UID:10002922-1698703200-1698706800@thecomedybureau.com
SUMMARY:Improv Jam @ Westside Comedy Theater (in LA)
DESCRIPTION:Starts 10PM PT\nFor improv only\nAnyone can play\n$2\nHosted by EPIC Lloyd
URL:https://thecomedybureau.com/show/improv-jam-westside-comedy-theater-in-la/
LOCATION:Westside Comedy Theater\, 1323-A 3rd Sreet\, Santa Monica\, CA\, 90401\, United States
CATEGORIES:Improv Jam,Los Angeles Open Mics
GEO:34.0167638;-118.4968777
X-APPLE-STRUCTURED-LOCATION;VALUE=URI;X-ADDRESS=Westside Comedy Theater 1323-A 3rd Sreet Santa Monica CA 90401 United States;X-APPLE-RADIUS=500;X-TITLE=1323-A 3rd Sreet:geo:-118.4968777,34.0167638
END:VEVENT
BEGIN:VEVENT
DTSTART;TZID=America/Los_Angeles:20231031T203000
DTEND;TZID=America/Los_Angeles:20231031T213000
DTSTAMP:20260425T110244
CREATED:20231029T103834Z
LAST-MODIFIED:20231029T103835Z
UID:10000185-1698784200-1698787800@thecomedybureau.com
SUMMARY:Pump Up: The Jam @ Brooklyn Comedy Collective (in NYC)
DESCRIPTION:For improv only\nStarts 8:30PM ET\nAnyone can play\nHosted by William Banks & Chloe Troast \nMust be 21+ to attend
URL:https://thecomedybureau.com/show/pump-up-the-jam-brooklyn-comedy-collective-in-nyc-2/
LOCATION:Brooklyn Comedy Collective\, 167 Graham Avenue\, Brooklyn\, NY\, 11206\, United States
CATEGORIES:Improv Jam,New York,New York Open Mics,Open Mic
GEO:40.7077178;-73.9436219
X-APPLE-STRUCTURED-LOCATION;VALUE=URI;X-ADDRESS=Brooklyn Comedy Collective 167 Graham Avenue Brooklyn NY 11206 United States;X-APPLE-RADIUS=500;X-TITLE=167 Graham Avenue:geo:-73.9436219,40.7077178
END:VEVENT
BEGIN:VEVENT
DTSTART;TZID=America/New_York:20231101T213000
DTEND;TZID=America/New_York:20231101T223000
DTSTAMP:20260425T110244
CREATED:20231029T155327Z
LAST-MODIFIED:20231029T155328Z
UID:10000911-1698874200-1698877800@thecomedybureau.com
SUMMARY:The Wednesday Night Scene Improv Jam @ The PIT (in NYC)
DESCRIPTION:Starts 9:30PM ET\nEnds 10:30PM ET\nFor improvisers only\nAnyone can play\nNo entry after 10PM ET\nMAX CAPACITY: 58\nFirst Come\, First Serve\n$5 to play\nProof of vaccination required
URL:https://thecomedybureau.com/show/the-wednesday-night-scene-improv-jam-the-pit-in-nyc-2/
LOCATION:The PIT\, 123 East 24th Street\, New York\, NY\, 10010\, United States
CATEGORIES:Improv Jam,New York Open Mics,Open Mic
GEO:40.7405602;-73.984683
X-APPLE-STRUCTURED-LOCATION;VALUE=URI;X-ADDRESS=The PIT 123 East 24th Street New York NY 10010 United States;X-APPLE-RADIUS=500;X-TITLE=123 East 24th Street:geo:-73.984683,40.7405602
END:VEVENT
BEGIN:VEVENT
DTSTART;TZID=America/Los_Angeles:20231101T220000
DTEND;TZID=America/Los_Angeles:20231101T230000
DTSTAMP:20260425T110244
CREATED:20231029T001154Z
LAST-MODIFIED:20231029T001155Z
UID:10000923-1698876000-1698879600@thecomedybureau.com
SUMMARY:One Big Jam @ UCB Franklin (in LA)
DESCRIPTION:An inclusive improv jam for UCB students\, performers\, and fans! Anna Rajo\, Joe Fahey\, and PJ McCormick will host with a 4th special guest host every week. \nStarts 10PM PT\nFree
URL:https://thecomedybureau.com/show/one-big-jam-ucb-franklin-in-la-2-2/
LOCATION:UCB Franklin\, 5919 Franklin Avenue\, Los Angeles\, CA\, 90028\, United States
CATEGORIES:Improv Jam,Los Angeles Open Mics,Open Mic
GEO:34.1054949;-118.3187612
X-APPLE-STRUCTURED-LOCATION;VALUE=URI;X-ADDRESS=UCB Franklin 5919 Franklin Avenue Los Angeles CA 90028 United States;X-APPLE-RADIUS=500;X-TITLE=5919 Franklin Avenue:geo:-118.3187612,34.1054949
END:VEVENT
BEGIN:VEVENT
DTSTART;TZID=America/Los_Angeles:20231102T190000
DTEND;TZID=America/Los_Angeles:20231102T200000
DTSTAMP:20260425T110244
CREATED:20231029T002206Z
LAST-MODIFIED:20231029T002207Z
UID:10000987-1698951600-1698955200@thecomedybureau.com
SUMMARY:Tango Two Person Improv Jam @ Pack Theater (in LA)
DESCRIPTION:For improv only\nStarts 7PM PT\nEnds 8PM PT\nFocused on Two person improv\nFeat. The Tango\nAnyone can play\n$2 to play\n$5 in adv. to watch\, $7 at door
URL:https://thecomedybureau.com/show/improv-jam-pack-theater-3-2/
LOCATION:Pack Theater\, 1615 N. Vermont Avenue\, Los Angeles\, CA\, 90038\, United States
CATEGORIES:Improv Jam,Los Angeles,Los Angeles Open Mics,Open Mic
GEO:34.0905344;-118.3306225
X-APPLE-STRUCTURED-LOCATION;VALUE=URI;X-ADDRESS=Pack Theater 1615 N. Vermont Avenue Los Angeles CA 90038 United States;X-APPLE-RADIUS=500;X-TITLE=1615 N. Vermont Avenue:geo:-118.3306225,34.0905344
END:VEVENT
BEGIN:VEVENT
DTSTART;TZID=America/New_York:20231102T220000
DTEND;TZID=America/New_York:20231102T230000
DTSTAMP:20260425T110244
CREATED:20231029T164515Z
LAST-MODIFIED:20231029T164524Z
UID:10001066-1698962400-1698966000@thecomedybureau.com
SUMMARY:The Slow Burn Improv Jam @ The PIT (in NYC)
DESCRIPTION:Starts 10PM ET\nEnds 11PM ET\nNo entry after 10:30PM ET\nMAX CAPACITY: 58\nFirst Come\, First Serve\n$5 to play
URL:https://thecomedybureau.com/show/the-slow-burn-improv-jam-the-pit-in-nyc-2/
LOCATION:The PIT\, 123 East 24th Street\, New York\, NY\, 10010\, United States
CATEGORIES:Improv Jam,New York,New York Open Mics,Open Mic
GEO:40.7405602;-73.984683
X-APPLE-STRUCTURED-LOCATION;VALUE=URI;X-ADDRESS=The PIT 123 East 24th Street New York NY 10010 United States;X-APPLE-RADIUS=500;X-TITLE=123 East 24th Street:geo:-73.984683,40.7405602
END:VEVENT
BEGIN:VEVENT
DTSTART;TZID=America/New_York:20231103T170000
DTEND;TZID=America/New_York:20231103T180000
DTSTAMP:20260425T110244
CREATED:20231029T184851Z
LAST-MODIFIED:20231029T184852Z
UID:10001531-1699030800-1699034400@thecomedybureau.com
SUMMARY:Improv Jam @ The PIT (in NYC)
DESCRIPTION:Starts 5PM ET\nFor improv and improvisers only\nAnyone can play\n$5
URL:https://thecomedybureau.com/show/improv-jam-the-pit-in-nyc-15-2/
LOCATION:The PIT\, 123 East 24th Street\, New York\, NY\, 10010\, United States
CATEGORIES:Improv Jam,New York,New York Open Mics,Open Mic
GEO:40.7405602;-73.984683
X-APPLE-STRUCTURED-LOCATION;VALUE=URI;X-ADDRESS=The PIT 123 East 24th Street New York NY 10010 United States;X-APPLE-RADIUS=500;X-TITLE=123 East 24th Street:geo:-73.984683,40.7405602
END:VEVENT
BEGIN:VEVENT
DTSTART;TZID=America/Los_Angeles:20231103T180000
DTEND;TZID=America/Los_Angeles:20231103T190000
DTSTAMP:20260425T110244
CREATED:20231001T180932Z
LAST-MODIFIED:20231029T004317Z
UID:10004538-1699034400-1699038000@thecomedybureau.com
SUMMARY:The Everybody Jam @ The Clubhouse (in LA)
DESCRIPTION:For improv/improvisers only\nAnyone can play\nStarts 6PM PT
URL:https://thecomedybureau.com/show/the-everybody-jam-the-clubhouse-in-la/
LOCATION:The Clubhouse\, 1607 North Vermont Avenue\, Los Angeles\, CA\, 90027\, United States
CATEGORIES:Improv Jam,Los Angeles Open Mics,Open Mic
GEO:34.1002269;-118.292705
X-APPLE-STRUCTURED-LOCATION;VALUE=URI;X-ADDRESS=The Clubhouse 1607 North Vermont Avenue Los Angeles CA 90027 United States;X-APPLE-RADIUS=500;X-TITLE=1607 North Vermont Avenue:geo:-118.292705,34.1002269
END:VEVENT
BEGIN:VEVENT
DTSTART;TZID=America/Los_Angeles:20231103T213000
DTEND;TZID=America/Los_Angeles:20231103T223000
DTSTAMP:20260425T110244
CREATED:20231029T185141Z
LAST-MODIFIED:20231029T185142Z
UID:10001577-1699047000-1699050600@thecomedybureau.com
SUMMARY:The Rowdy Hour Improv Jam @ The PIT (in NYC)
DESCRIPTION:For improvisers only\nStarts 9:30PM ET\nEnds 10:30PM ET\nMAX CAPACITY: 58\nFirst Come\, First Serve\nAll levels are welcome\n$10 to play
URL:https://thecomedybureau.com/show/improv-jam-the-pit-in-nyc-11-2/
LOCATION:The PIT\, 123 East 24th Street\, New York\, NY\, 10010\, United States
CATEGORIES:Improv Jam,New York,New York Open Mics,Open Mic
GEO:40.7405602;-73.984683
X-APPLE-STRUCTURED-LOCATION;VALUE=URI;X-ADDRESS=The PIT 123 East 24th Street New York NY 10010 United States;X-APPLE-RADIUS=500;X-TITLE=123 East 24th Street:geo:-73.984683,40.7405602
END:VEVENT
BEGIN:VEVENT
DTSTART;TZID=America/Los_Angeles:20231105T173000
DTEND;TZID=America/Los_Angeles:20231105T183000
DTSTAMP:20260425T110244
CREATED:20231029T010033Z
LAST-MODIFIED:20231029T010034Z
UID:10004594-1699205400-1699209000@thecomedybureau.com
SUMMARY:One Big Jam @ UCB Franklin (in LA)
DESCRIPTION:An inclusive improv jam for UCB students\, performers\, and fans! Anna Rajo\, Joe Fahey\, and PJ McCormick will host with a 4th special guest host every week. \nStarts 5:30PM PT\nEnds 6:30PM PT\nFree
URL:https://thecomedybureau.com/show/one-big-jam-ucb-franklin-in-la-3/2023-11-05/
LOCATION:UCB Franklin\, 5919 Franklin Avenue\, Los Angeles\, CA\, 90028\, United States
CATEGORIES:Improv Jam,Los Angeles Open Mics
GEO:34.1054949;-118.3187612
X-APPLE-STRUCTURED-LOCATION;VALUE=URI;X-ADDRESS=UCB Franklin 5919 Franklin Avenue Los Angeles CA 90028 United States;X-APPLE-RADIUS=500;X-TITLE=5919 Franklin Avenue:geo:-118.3187612,34.1054949
END:VEVENT
BEGIN:VEVENT
DTSTART;TZID=America/Los_Angeles:20231128T203000
DTEND;TZID=America/Los_Angeles:20231128T213000
DTSTAMP:20260425T110244
CREATED:20231128T180206Z
LAST-MODIFIED:20260330T080301Z
UID:10004886-1701203400-1701207000@thecomedybureau.com
SUMMARY:Pump Up: The Jam @ Brooklyn Comedy Collective (in NYC)
DESCRIPTION:For improv only\nStarts 8:30PM ET\nAnyone can play\nHosted by William Banks & Chloe Troast \nMust be 21+ to attend
URL:https://thecomedybureau.com/show/pump-up-the-jam-brooklyn-comedy-collective-in-nyc-2-2/2023-11-28/
LOCATION:Brooklyn Comedy Collective\, 167 Graham Avenue\, Brooklyn\, NY\, 11206\, United States
CATEGORIES:Improv Jam,New York,New York Open Mics,Open Mic
GEO:40.7077178;-73.9436219
X-APPLE-STRUCTURED-LOCATION;VALUE=URI;X-ADDRESS=Brooklyn Comedy Collective 167 Graham Avenue Brooklyn NY 11206 United States;X-APPLE-RADIUS=500;X-TITLE=167 Graham Avenue:geo:-73.9436219,40.7077178
END:VEVENT
BEGIN:VEVENT
DTSTART;TZID=America/New_York:20231129T213000
DTEND;TZID=America/New_York:20231129T223000
DTSTAMP:20260425T110244
CREATED:20231128T231942Z
LAST-MODIFIED:20231128T231946Z
UID:10004958-1701293400-1701297000@thecomedybureau.com
SUMMARY:The Wednesday Night Scene Improv Jam @ The PIT (in NYC)
DESCRIPTION:Starts 9:30PM ET\nEnds 10:30PM ET\nFor improvisers only\nAnyone can play\nNo entry after 10PM ET\nMAX CAPACITY: 58\nFirst Come\, First Serve\n$5 to play
URL:https://thecomedybureau.com/show/the-wednesday-night-scene-improv-jam-the-pit-in-nyc-2-2/2023-11-29/
LOCATION:The PIT\, 123 East 24th Street\, New York\, NY\, 10010\, United States
CATEGORIES:Improv Jam,New York Open Mics,Open Mic
GEO:40.7405602;-73.984683
X-APPLE-STRUCTURED-LOCATION;VALUE=URI;X-ADDRESS=The PIT 123 East 24th Street New York NY 10010 United States;X-APPLE-RADIUS=500;X-TITLE=123 East 24th Street:geo:-73.984683,40.7405602
END:VEVENT
END:VCALENDAR