BEGIN:VCALENDAR
VERSION:2.0
PRODID:-//The Comedy Bureau - ECPv6.15.18//NONSGML v1.0//EN
CALSCALE:GREGORIAN
METHOD:PUBLISH
X-WR-CALNAME:The Comedy Bureau
X-ORIGINAL-URL:https://thecomedybureau.com
X-WR-CALDESC:Events for The Comedy Bureau
REFRESH-INTERVAL;VALUE=DURATION:PT1H
X-Robots-Tag:noindex
X-PUBLISHED-TTL:PT1H
BEGIN:VTIMEZONE
TZID:America/Los_Angeles
BEGIN:DAYLIGHT
TZOFFSETFROM:-0800
TZOFFSETTO:-0700
TZNAME:PDT
DTSTART:20250309T100000
END:DAYLIGHT
BEGIN:STANDARD
TZOFFSETFROM:-0700
TZOFFSETTO:-0800
TZNAME:PST
DTSTART:20251102T090000
END:STANDARD
BEGIN:DAYLIGHT
TZOFFSETFROM:-0800
TZOFFSETTO:-0700
TZNAME:PDT
DTSTART:20260308T100000
END:DAYLIGHT
BEGIN:STANDARD
TZOFFSETFROM:-0700
TZOFFSETTO:-0800
TZNAME:PST
DTSTART:20261101T090000
END:STANDARD
BEGIN:DAYLIGHT
TZOFFSETFROM:-0800
TZOFFSETTO:-0700
TZNAME:PDT
DTSTART:20270314T100000
END:DAYLIGHT
BEGIN:STANDARD
TZOFFSETFROM:-0700
TZOFFSETTO:-0800
TZNAME:PST
DTSTART:20271107T090000
END:STANDARD
END:VTIMEZONE
BEGIN:VEVENT
DTSTART;TZID=America/Los_Angeles:20260328T183000
DTEND;TZID=America/Los_Angeles:20260328T193000
DTSTAMP:20260421T181342
CREATED:20260328T172020Z
LAST-MODIFIED:20260328T172020Z
UID:10083406-1774722600-1774726200@thecomedybureau.com
SUMMARY:Grant & Meg Give you 2 shows in 1 hour! (in LA)
DESCRIPTION:Grant presents “Good Knight!” a WIP show about a boy who dreams of being a knight.\nIn this melodramatic\, absurd and heartwarming clown play\, Meg irreverently pays homage to the American TV and movie tropes that shaped her world view. By accessing her inner Meryl Streep and giving the performance of a lifetime\, she embodies an ingénue (coincidentally also named “Meg”) from a small town and the audience is taken on an emotional and moving odyssey documenting the next 15 years of her life as she blossoms into a resilient\, fierce and independent woman. \nStarts 6:30PM PT
URL:https://thecomedybureau.com/show/grant-meg-give-you-2-shows-in-1-hour-in-la/
LOCATION:The Elysian\, 1944 Riverside Drive\, Los Angeles\, CA\, 90039\, United States
CATEGORIES:Clowning,Comedy Show,Los Angeles Shows
GEO:34.0979699;-118.2479957
X-APPLE-STRUCTURED-LOCATION;VALUE=URI;X-ADDRESS=The Elysian 1944 Riverside Drive Los Angeles CA 90039 United States;X-APPLE-RADIUS=500;X-TITLE=1944 Riverside Drive:geo:-118.2479957,34.0979699
END:VEVENT
BEGIN:VEVENT
DTSTART;TZID=America/Los_Angeles:20260328T213000
DTEND;TZID=America/Los_Angeles:20260328T230000
DTSTAMP:20260421T181342
CREATED:20260318T212527Z
LAST-MODIFIED:20260318T212527Z
UID:10083217-1774733400-1774738800@thecomedybureau.com
SUMMARY:Brobdingnagian Presents.... A GARDEN EXPERIMENT (in LA)
DESCRIPTION:Join “Brobdingnagian!” — LA’s newest modern clown ensemble — for a real-time descent into madness as they attempt the impossible: to build PARADISE before your very eyes. \nThe audience is invited in to imagine and help shape a world where innocent joy might last forever. \nBut\, of course\, at the center of the stage sits a single apple. \nJuicy. \nWaiting. \nAsking us: What are we willing to surrender to remain in paradise? \nPart ritual\, part town hall\, part delirious leap of faith\, this is a collective experiment led by eleven fools on a doomed quest to create heaven on earth. Expect live music\, big feelings\, spiritual confusion\, and joyful plunges into the beautifully strange corners of being human.\nParadise may be possible… if it survives the night. \nFeaturing: Alan Linic\, Allie McCarthy\, Allie Kiekhofer\, Witt Whitmore\, Erin Callahan\, Garrett Richardson\, Helen Park\, Helene Udy\, Jason DeGraff\, Kevin Arrieta\, & Sheheryar Ahsan \nDirected by: Meera Rohit Kumbhani (Cruel Babes) \nStarts 9:30PM PT
URL:https://thecomedybureau.com/show/brobdingnagian-presents-a-garden-experiment-in-la/
LOCATION:Lyric Hyperion Theatre & Café\, 2106 Hyperion Avenue\, Los Angeles\, CA\, 90027\, United States
CATEGORIES:Clowning,Comedy Show,Los Angeles Shows
GEO:34.0988494;-118.2736979
X-APPLE-STRUCTURED-LOCATION;VALUE=URI;X-ADDRESS=Lyric Hyperion Theatre & Café 2106 Hyperion Avenue Los Angeles CA 90027 United States;X-APPLE-RADIUS=500;X-TITLE=2106 Hyperion Avenue:geo:-118.2736979,34.0988494
END:VEVENT
BEGIN:VEVENT
DTSTART;TZID=America/Los_Angeles:20260328T235900
DTEND;TZID=America/Los_Angeles:20260329T020000
DTSTAMP:20260421T181342
CREATED:20250726T171929Z
LAST-MODIFIED:20260420T173541Z
UID:10082733-1774742340-1774749600@thecomedybureau.com
SUMMARY:Tomorrow! w/Ron Lynch (in LA)
DESCRIPTION:A variety show that is in it’s 20th year of lauded late night lunacy. A rotating roster of top comedians\, clowns (the new kind)\, specialty acts\, musicians\, and performance artists. Not to be missed! Hosted by Ron Lynch (Bob’s Burgers\, Corporate\, Portlandia) \nFeaturing Andrés du Bouchet\, Hannah Gansen\, Jay London\, Ely Henry\, Alex Mesrobian\, Temple Kirk \nMusic from GOOF \nplus Michael Mortilla \nw/Davey Johnson & Mitch Kamaiopili \nPresented by Ron Lynch \nStarts Midnight
URL:https://thecomedybureau.com/show/tomorrow-w-ron-lynch-in-la-2-3-2-2-2-2-2-2-2/2026-03-28/
LOCATION:The Elysian\, 1944 Riverside Drive\, Los Angeles\, CA\, 90039\, United States
CATEGORIES:Clowning,Comedy Show,Los Angeles Shows,Sketch,Stand Up,Variety
GEO:34.0979699;-118.2479957
X-APPLE-STRUCTURED-LOCATION;VALUE=URI;X-ADDRESS=The Elysian 1944 Riverside Drive Los Angeles CA 90039 United States;X-APPLE-RADIUS=500;X-TITLE=1944 Riverside Drive:geo:-118.2479957,34.0979699
END:VEVENT
BEGIN:VEVENT
DTSTART;TZID=America/Los_Angeles:20260401T170000
DTEND;TZID=America/Los_Angeles:20260401T190000
DTSTAMP:20260421T181342
CREATED:20231218T152628Z
LAST-MODIFIED:20260329T000544Z
UID:10091790-1775062800-1775070000@thecomedybureau.com
SUMMARY:Playspace (Clown Open Mic) @ The Elysian (in LA)
DESCRIPTION:It’s The Elysian’s very own PLAYSPACE! A weekly community event to play together\, workshop ideas big and small\, or come completely unprepared and find something new. \nPlayspace is not a show\, it’s not a stand-up open mic. It’s a place where you get to hang out and go on stage and do that thing you do. Solo performers and ensembles welcome! \nSign-up 5PM PT\nStarts 6PM PT \nHosted by Rachel Ho\, Paul Schlesinger\, & friends \nFollow @__playspace__ on Instagram for updates.
URL:https://thecomedybureau.com/show/playspace-clown-open-mic-the-elysian-in-la-2-2/2026-04-01/
LOCATION:The Elysian\, 1944 Riverside Drive\, Los Angeles\, CA\, 90039\, United States
CATEGORIES:Character Mic,Clowning,Los Angeles,Los Angeles Open Mics,Open Mic
GEO:34.0979699;-118.2479957
X-APPLE-STRUCTURED-LOCATION;VALUE=URI;X-ADDRESS=The Elysian 1944 Riverside Drive Los Angeles CA 90039 United States;X-APPLE-RADIUS=500;X-TITLE=1944 Riverside Drive:geo:-118.2479957,34.0979699
END:VEVENT
BEGIN:VEVENT
DTSTART;TZID=America/Los_Angeles:20260401T213000
DTEND;TZID=America/Los_Angeles:20260401T230000
DTSTAMP:20260421T181342
CREATED:20241022T164617Z
LAST-MODIFIED:20260331T012932Z
UID:10050400-1775079000-1775084400@thecomedybureau.com
SUMMARY:Bizarre Bazaar (in LA)
DESCRIPTION:Elysian’s monthly variety show with a rotating cast of LA’s best and weirdest comedians. Special October edition in The Vault! \nFeaturing:  \nChad Damiani \nSethward \nKevin Krieger \nBrihana Ahlmark \nRachel Troy \nChristina Catherine Martinez \nMax Baumgarten \nEmily Maverick \nKelly McCaughin \nHosted By: Ian Bratschie \nStarts 9:30PM PT
URL:https://thecomedybureau.com/show/bizarre-bazaar-in-la-2/
LOCATION:The Elysian\, 1944 Riverside Drive\, Los Angeles\, CA\, 90039\, United States
CATEGORIES:Clowning,Comedy Show,Los Angeles Shows,Variety
GEO:34.0979699;-118.2479957
X-APPLE-STRUCTURED-LOCATION;VALUE=URI;X-ADDRESS=The Elysian 1944 Riverside Drive Los Angeles CA 90039 United States;X-APPLE-RADIUS=500;X-TITLE=1944 Riverside Drive:geo:-118.2479957,34.0979699
END:VEVENT
BEGIN:VEVENT
DTSTART;TZID=America/Los_Angeles:20260403T223000
DTEND;TZID=America/Los_Angeles:20260404T000000
DTSTAMP:20260421T181342
CREATED:20260403T065809Z
LAST-MODIFIED:20260403T065809Z
UID:10094278-1775255400-1775260800@thecomedybureau.com
SUMMARY:Dinner Specials (in LA)
DESCRIPTION:Come see how the sauce is made! Dinner Specials is a monthly variety WIP hour\, where performers get 15 minutes to test out new\, experimental and perhaps never before seen material live in front of an audience! Bear witness to the success or failure of embryonic and idiotic ideas. \nFeaturing:\nBrianna Alhmark\nMike Rose\nKelly McCaughan\nRachel Troy \nStarts 10:30PM PT
URL:https://thecomedybureau.com/show/dinner-specials-in-la/
LOCATION:The Elysian\, 1944 Riverside Drive\, Los Angeles\, CA\, 90039\, United States
CATEGORIES:Clowning,Comedy Show,Los Angeles Shows,Variety
GEO:34.0979699;-118.2479957
X-APPLE-STRUCTURED-LOCATION;VALUE=URI;X-ADDRESS=The Elysian 1944 Riverside Drive Los Angeles CA 90039 United States;X-APPLE-RADIUS=500;X-TITLE=1944 Riverside Drive:geo:-118.2479957,34.0979699
END:VEVENT
BEGIN:VEVENT
DTSTART;TZID=America/Los_Angeles:20260404T183000
DTEND;TZID=America/Los_Angeles:20260404T200000
DTSTAMP:20260421T181342
CREATED:20260301T171213Z
LAST-MODIFIED:20260301T171213Z
UID:10082845-1775327400-1775332800@thecomedybureau.com
SUMMARY:Lovers Must Die (in LA)
DESCRIPTION:18th Century. France. The Vicomte must marry his cousin\, The Queen\, in the morning! But he has spent the last 5 weeks at The Brothel\, debaucherously indulging himself in every prostitute. Except One: She. She will not take his money or even look at him! He becomes obsessed. Come see two clowns venture through this dangerous liaison. Whose head will roll? \nFeaturing: \nAthena Reddy as Le Vicomte\, a lover. @sirathena\nDanelle VonVisger as She\, a lover. @danelleisme \nShowtimes: \n3/14 @ 6:30PM PT \n4/4 @ 6:30PM PT \n5/2 @ 8:30PM PT
URL:https://thecomedybureau.com/show/lovers-must-die-in-la/2026-04-04/
LOCATION:The Elysian\, 1944 Riverside Drive\, Los Angeles\, CA\, 90039\, United States
CATEGORIES:Clowning,Los Angeles Shows,Sketch
GEO:34.0979699;-118.2479957
X-APPLE-STRUCTURED-LOCATION;VALUE=URI;X-ADDRESS=The Elysian 1944 Riverside Drive Los Angeles CA 90039 United States;X-APPLE-RADIUS=500;X-TITLE=1944 Riverside Drive:geo:-118.2479957,34.0979699
END:VEVENT
BEGIN:VEVENT
DTSTART;TZID=America/Los_Angeles:20260407T203000
DTEND;TZID=America/Los_Angeles:20260407T220000
DTSTAMP:20260421T181342
CREATED:20260403T074247Z
LAST-MODIFIED:20260403T074247Z
UID:10094283-1775593800-1775599200@thecomedybureau.com
SUMMARY:Bonzo Type Shit (in LA)
DESCRIPTION:A monthly\, clown variety show hosted by Jenson Titus aka Bonzo\, featuring Hannah Pilkes\, Nori Reed\, Courtney O’Donnell\, Kenny Gray\, Andie Paradis\, & MORE! \n\n\nStarts 8:30PM PT
URL:https://thecomedybureau.com/show/bonzo-type-shit-in-la/
LOCATION:UCB Franklin\, 5919 Franklin Avenue\, Los Angeles\, CA\, 90028\, United States
CATEGORIES:Clowning,Comedy Show,Los Angeles Shows,Variety
GEO:34.1054949;-118.3187612
X-APPLE-STRUCTURED-LOCATION;VALUE=URI;X-ADDRESS=UCB Franklin 5919 Franklin Avenue Los Angeles CA 90028 United States;X-APPLE-RADIUS=500;X-TITLE=5919 Franklin Avenue:geo:-118.3187612,34.1054949
END:VEVENT
BEGIN:VEVENT
DTSTART;TZID=America/Los_Angeles:20260408T170000
DTEND;TZID=America/Los_Angeles:20260408T190000
DTSTAMP:20260421T181342
CREATED:20231218T152628Z
LAST-MODIFIED:20260329T000544Z
UID:10091791-1775667600-1775674800@thecomedybureau.com
SUMMARY:Playspace (Clown Open Mic) @ The Elysian (in LA)
DESCRIPTION:It’s The Elysian’s very own PLAYSPACE! A weekly community event to play together\, workshop ideas big and small\, or come completely unprepared and find something new. \nPlayspace is not a show\, it’s not a stand-up open mic. It’s a place where you get to hang out and go on stage and do that thing you do. Solo performers and ensembles welcome! \nSign-up 5PM PT\nStarts 6PM PT \nHosted by Rachel Ho\, Paul Schlesinger\, & friends \nFollow @__playspace__ on Instagram for updates.
URL:https://thecomedybureau.com/show/playspace-clown-open-mic-the-elysian-in-la-2-2/2026-04-08/
LOCATION:The Elysian\, 1944 Riverside Drive\, Los Angeles\, CA\, 90039\, United States
CATEGORIES:Character Mic,Clowning,Los Angeles,Los Angeles Open Mics,Open Mic
GEO:34.0979699;-118.2479957
X-APPLE-STRUCTURED-LOCATION;VALUE=URI;X-ADDRESS=The Elysian 1944 Riverside Drive Los Angeles CA 90039 United States;X-APPLE-RADIUS=500;X-TITLE=1944 Riverside Drive:geo:-118.2479957,34.0979699
END:VEVENT
BEGIN:VEVENT
DTSTART;TZID=America/Los_Angeles:20260410T213000
DTEND;TZID=America/Los_Angeles:20260410T230000
DTSTAMP:20260421T181342
CREATED:20251214T001128Z
LAST-MODIFIED:20260406T014557Z
UID:10075712-1775856600-1775862000@thecomedybureau.com
SUMMARY:Clown Zoo (in LA)
DESCRIPTION:In the summer of 2020\, during the height of a global pandemic\, a ragtag group of clowns found a way to bring joy to the prospect of wearing masks. \nCLOWN ZOO started as an open theatrical mask rehearsal — every Wednesday at noon at the old zoo at Griffith Park — but quickly evolved into a full-scale production — complete with (illegal) live music\, costumes\, large crowds and celebrity admirers. CLOWN ZOO helped usher in a new era of modern LA clown. Its members have gone on to create award-winning shows and perform all over the world\, while also teaching the next generation of performers how to take bigger risks\, break the rules and create art that defies description. \nFor one night only\, CLOWN ZOO reunites at its home theater the Elysian. Come witness the clown show that helped started a comedy revolution. \nFeaturing: \nBill O’Neill\nChad Damiani\nChristina Catherine Martinez\nCorey Podell\nCourtney Pauroso\nIan Bratschie\nJames Venable\nJuzo Yoshida\nMax Baumgarten\nNatalie Palamides (in spirit) \nStarts 9:30PM PT
URL:https://thecomedybureau.com/show/clown-zoo-in-la/
LOCATION:The Elysian\, 1944 Riverside Drive\, Los Angeles\, CA\, 90039\, United States
CATEGORIES:Clowning,Comedy Show,Los Angeles Shows
GEO:34.0979699;-118.2479957
X-APPLE-STRUCTURED-LOCATION;VALUE=URI;X-ADDRESS=The Elysian 1944 Riverside Drive Los Angeles CA 90039 United States;X-APPLE-RADIUS=500;X-TITLE=1944 Riverside Drive:geo:-118.2479957,34.0979699
END:VEVENT
BEGIN:VEVENT
DTSTART;TZID=America/Los_Angeles:20260411T235900
DTEND;TZID=America/Los_Angeles:20260412T020000
DTSTAMP:20260421T181342
CREATED:20250726T171929Z
LAST-MODIFIED:20260420T173541Z
UID:10094688-1775951940-1775959200@thecomedybureau.com
SUMMARY:Tomorrow! w/Ron Lynch (in LA)
DESCRIPTION:A variety show that is in it’s 20th year of lauded late night lunacy. A rotating roster of top comedians\, clowns (the new kind)\, specialty acts\, musicians\, and performance artists. Not to be missed! Hosted by Ron Lynch (Bob’s Burgers\, Corporate\, Portlandia) \nFeaturing Andrés du Bouchet\, Hannah Gansen\, Jay London\, Ely Henry\, Alex Mesrobian\, Temple Kirk \nMusic from GOOF \nplus Michael Mortilla \nw/Davey Johnson & Mitch Kamaiopili \nPresented by Ron Lynch \nStarts Midnight
URL:https://thecomedybureau.com/show/tomorrow-w-ron-lynch-in-la-2-3-2-2-2-2-2-2-2/2026-04-11/
LOCATION:The Elysian\, 1944 Riverside Drive\, Los Angeles\, CA\, 90039\, United States
CATEGORIES:Clowning,Comedy Show,Los Angeles Shows,Sketch,Stand Up,Variety
GEO:34.0979699;-118.2479957
X-APPLE-STRUCTURED-LOCATION;VALUE=URI;X-ADDRESS=The Elysian 1944 Riverside Drive Los Angeles CA 90039 United States;X-APPLE-RADIUS=500;X-TITLE=1944 Riverside Drive:geo:-118.2479957,34.0979699
END:VEVENT
BEGIN:VEVENT
DTSTART;TZID=America/Los_Angeles:20260413T193000
DTEND;TZID=America/Los_Angeles:20260413T210000
DTSTAMP:20260421T181342
CREATED:20260321T223556Z
LAST-MODIFIED:20260321T223556Z
UID:10083253-1776108600-1776114000@thecomedybureau.com
SUMMARY:Stamptown Proudly Presents Zach & Viggo: Thunderflop (in LA)
DESCRIPTION:The world’s greatest Norwegian-American comedy duo returns for a special one-off performance of their internationally-acclaimed show for the first time in nearly 7 years. \nAward-winning clowns Zach Zucker (Stamptown\, Jack Tucker) and Viggo Venn (Britain’s Got Talent Winner) have done it all — they’ve performed everywhere from NBA Halftime Shows to The Royal Variety Show\, Off-Broadway and on The West End\, and most importantly\, are unsure if they can still fit into their costumes from 11 years ago. \nThis is the show that started our careers\, come watch us muck around and have a blast <3 \nDirected by Jonny Woolley.\nEmotional Support from Steffen Hanes\, David Zucker and Dylan Woodley \nStarts 7:30PM PT
URL:https://thecomedybureau.com/show/stamptown-proudly-presents-zach-viggo-thunderflop-in-la/
LOCATION:The Elysian\, 1944 Riverside Drive\, Los Angeles\, CA\, 90039\, United States
CATEGORIES:Clowning,Comedy Show,Los Angeles Shows
GEO:34.0979699;-118.2479957
X-APPLE-STRUCTURED-LOCATION;VALUE=URI;X-ADDRESS=The Elysian 1944 Riverside Drive Los Angeles CA 90039 United States;X-APPLE-RADIUS=500;X-TITLE=1944 Riverside Drive:geo:-118.2479957,34.0979699
END:VEVENT
BEGIN:VEVENT
DTSTART;TZID=America/Los_Angeles:20260415T170000
DTEND;TZID=America/Los_Angeles:20260415T190000
DTSTAMP:20260421T181342
CREATED:20231218T152628Z
LAST-MODIFIED:20260329T000544Z
UID:10091792-1776272400-1776279600@thecomedybureau.com
SUMMARY:Playspace (Clown Open Mic) @ The Elysian (in LA)
DESCRIPTION:It’s The Elysian’s very own PLAYSPACE! A weekly community event to play together\, workshop ideas big and small\, or come completely unprepared and find something new. \nPlayspace is not a show\, it’s not a stand-up open mic. It’s a place where you get to hang out and go on stage and do that thing you do. Solo performers and ensembles welcome! \nSign-up 5PM PT\nStarts 6PM PT \nHosted by Rachel Ho\, Paul Schlesinger\, & friends \nFollow @__playspace__ on Instagram for updates.
URL:https://thecomedybureau.com/show/playspace-clown-open-mic-the-elysian-in-la-2-2/2026-04-15/
LOCATION:The Elysian\, 1944 Riverside Drive\, Los Angeles\, CA\, 90039\, United States
CATEGORIES:Character Mic,Clowning,Los Angeles,Los Angeles Open Mics,Open Mic
GEO:34.0979699;-118.2479957
X-APPLE-STRUCTURED-LOCATION;VALUE=URI;X-ADDRESS=The Elysian 1944 Riverside Drive Los Angeles CA 90039 United States;X-APPLE-RADIUS=500;X-TITLE=1944 Riverside Drive:geo:-118.2479957,34.0979699
END:VEVENT
BEGIN:VEVENT
DTSTART;TZID=America/Los_Angeles:20260418T213000
DTEND;TZID=America/Los_Angeles:20260418T233000
DTSTAMP:20260421T181342
CREATED:20260226T184703Z
LAST-MODIFIED:20260418T173549Z
UID:10063068-1776547800-1776555000@thecomedybureau.com
SUMMARY:Tomorrow! w/Ron Lynch (in LA)
DESCRIPTION:A variety show that is in it’s 20th year of lauded late night lunacy. A rotating roster of top comedians\, clowns (the new kind)\, specialty acts\, musicians\, and performance artists. Not to be missed! Hosted by Ron Lynch (Bob’s Burgers\, Corporate\, Portlandia) \nFeaturing: Yusuf Ali\, Matt Felten\, Anthony DeVries\, Allen Strickland Williams \nplus Michael Mortilla \nw/Davey Johnson & Mitch Kamaiopili \nPresented by Ron Lynch \nStarts 9:30PM PT
URL:https://thecomedybureau.com/show/tomorrow-w-ron-lynch-in-la-2-3-2-2-2-2-2-2-3/
LOCATION:The Elysian\, 1944 Riverside Drive\, Los Angeles\, CA\, 90039\, United States
CATEGORIES:Clowning,Comedy Show,Los Angeles Shows,Sketch,Stand Up,Variety
GEO:34.0979699;-118.2479957
X-APPLE-STRUCTURED-LOCATION;VALUE=URI;X-ADDRESS=The Elysian 1944 Riverside Drive Los Angeles CA 90039 United States;X-APPLE-RADIUS=500;X-TITLE=1944 Riverside Drive:geo:-118.2479957,34.0979699
END:VEVENT
END:VCALENDAR